{"text_format":"2","workbook":"xlsx","n_sheets":5,"sheets":["GENERAL","DISCRETE INPUT - Bits (R)","COILS - Bits (R&W)","INPUT REGISTERS - Words (R)","HOLDING REGISTERS - Words (R&W)"],"not_rendered":{"charts":0,"images":4,"macros":0,"external_links":1,"defined_names":3,"comments":0,"pivot_tables":0},"unopened":[],"bounds":{"document_bytes":16777216,"sheet_cells":100000,"run_cost":"one","rows_first":2000,"rows_last":500,"rows_between":2000,"halvings":0,"cell_chars":16384,"cell_head_chars":4096},"cells_cut":0,"cells_raw":0,"read":"whole","date_system":"1900"}

{"sheet":"GENERAL","index":0,"n_rows":34,"n_cols":8,"rows_kept":34,"cut":false,"hidden":false,"merged":[[17,2,18,2]]}
["MODBUS TABLE ORGANIZATION"]
["Starting Address of the Group Registers (Dec)","Starting Address of the Group Registers (Hex)","System Version (Release)","System Version (Build)","Group Name (Text)","Group Code (Hex)","Group Complexity (Hex)","Group Version (Hex)"]
[{"$f":"HEX2DEC(B3)","v":768},300,null,null,"Device identifier  "]
[{"$f":"HEX2DEC(B4)","v":4096},1000,null,null,"Measures"]
[{"$f":"HEX2DEC(B5)","v":4608},1200,null,null,"Settings"]
[{"$f":"HEX2DEC(B6)","v":5376},1500,null,null,"Max. & Min."]
[{"$f":"HEX2DEC(B7)","v":5424},1530,null,null,"Average Measured values - Scaled"]
[5504,1580,null,null,"Crest Factor"]
[5888,1700,null,null,"Max. & Min."]
[8192,2000,null,null,"Standard Setup parameters (read & write 16 byte at once)"]
[8704,2200,null,null,"Output option Setup parameters (read & write 24 byte at once)"]
[28672,7000,null,null,"Harmonics"]
[]
[]
[]
["MODBUS PROTOCOL DETAILS"]
["Function Code (Dec)","Exception Codes (Dec)","Data Encoding"]
[3,"1, 2, 3","\"Big Endian\" (most significant byte first)"]
[16,"1, 2, 3"]
[]
["MODBUS OVER SERIAL DETAILS"]
["Physical Layer","Trasmission Modes","Device Addressing","Baud Rates (bit/s)","Data Bits","Data bits trasmission sequence","Parity","Stop Bits"]
["standard EIA/TIA 485 (RS-485) two-wire configuration","RTU","1÷247","programmable",8,"Least significant bit first","programmable",1]
[]
["MASTER/SLAVE COMMUNICATION TIMING"]
["Timer Descrtiption","Timer Value (msec)"]
["Inter-character time-out","Max. 20"]
["Response delay (from master request)","20÷300"]
["Delay Time (between two master trasmissions)","< 20"]
[]
["REFER ALSO TO:","www.modbus.org","- MODBUS over serial line specification and implementation guide V1.02"]
[null,null,"- MODBUS APPLICATION PROTOCOL SPECIFICATION V1.1b"]
[]
["NOTE:","File and printed copies of this document are not subject to document change control."]

{"sheet":"DISCRETE INPUT - Bits (R)","index":1,"n_rows":2,"n_cols":8,"rows_kept":2,"cut":false,"hidden":false,"merged":[]}
["Register Number","Register Address (Dec)","Register Address (Hex)","Dimension [bit]","Description","Note","Read Function Codes (Dec)","Data Storing (2)"]
[{"$nulls":4},"(no DISCRETE INPUTS availables)"]

{"sheet":"COILS - Bits (R&W)","index":2,"n_rows":2,"n_cols":9,"rows_kept":2,"cut":false,"hidden":false,"merged":[]}
["Register Number","Register Address (Dec)","Register Address (Hex)","Dimension [bit]","Description","Note","Read Function Codes (Dec)","Write Function Codes (Dec)","Data Storing (2)"]
[{"$nulls":4},"(no COILS availables)"]

{"sheet":"INPUT REGISTERS - Words (R)","index":3,"n_rows":748,"n_cols":13,"rows_kept":748,"cut":false,"hidden":false,"merged":[[674,5,674,10],[675,5,675,10],[676,5,676,10],[677,5,677,10],[678,5,678,10],[669,5,669,10],[670,5,670,10],[671,5,671,10],[719,5,719,10],[710,5,710,10],[711,5,711,10],[712,5,712,10],[713,5,713,10],[714,5,714,10],[705,5,705,10],[706,5,706,10],[707,5,707,10],[708,5,708,10],[709,5,709,10],[672,5,672,10],[673,5,673,10],[664,5,664,10],[665,5,665,10],[666,5,666,10],[667,5,667,10],[668,5,668,10],[659,5,659,10],[660,5,660,10],[661,5,661,10],[662,5,662,10],[663,5,663,10],[654,5,654,10],[655,5,655,10],[656,5,656,10],[657,5,657,10],[658,5,658,10],[623,5,623,10],[624,5,624,10],[625,5,625,10],[626,5,626,10],[627,5,627,10],[618,5,618,10],[619,5,619,10],[620,5,620,10],[621,5,621,10],[622,5,622,10],[613,5,613,10],[614,5,614,10],[615,5,615,10],[616,5,616,10],[617,5,617,10],[608,5,608,10],[609,5,609,10],[610,5,610,10],[611,5,611,10],[612,5,612,10],[603,5,603,10],[604,5,604,10],[605,5,605,10],[606,5,606,10],[607,5,607,10],[572,5,572,10],[573,5,573,10],[574,5,574,10],[575,5,575,10],[576,5,576,10],[567,5,567,10],[568,5,568,10],[569,5,569,10],[570,5,570,10],[571,5,571,10],[562,5,562,10],[563,5,563,10],[564,5,564,10],[565,5,565,10],[566,5,566,10],[557,5,557,10],[558,5,558,10],[559,5,559,10],[560,5,560,10],[561,5,561,10],[552,5,552,10],[553,5,553,10],[554,5,554,10],[555,5,555,10],[556,5,556,10],[521,5,521,10],[522,5,522,10],[523,5,523,10],[524,5,524,10],[525,5,525,10],[516,5,516,10],[517,5,517,10],[518,5,518,10],[519,5,519,10],[520,5,520,10],[511,5,511,10],[512,5,512,10],[513,5,513,10],[514,5,514,10],[515,5,515,10],[506,5,506,10],[507,5,507,10],[508,5,508,10],[509,5,509,10],[510,5,510,10],[501,5,501,10],[502,5,502,10],[503,5,503,10],[504,5,504,10],[505,5,505,10],[470,5,470,10],[471,5,471,10],[472,5,472,10],[473,5,473,10],[474,5,474,10],[465,5,465,10],[466,5,466,10],[467,5,467,10],[468,5,468,10],[469,5,469,10],[460,5,460,10],[461,5,461,10],[462,5,462,10],[463,5,463,10],[464,5,464,10],[455,5,455,10],[456,5,456,10],[457,5,457,10],[458,5,458,10],[459,5,459,10],[450,5,450,10],[451,5,451,10],[452,5,452,10],[453,5,453,10],[454,5,454,10],[419,5,419,10],[420,5,420,10],[421,5,421,10],[422,5,422,10],[423,5,423,10],[414,5,414,10],[415,5,415,10],[416,5,416,10],[417,5,417,10],[418,5,418,10],[409,5,409,10],[410,5,410,10],[411,5,411,10],[412,5,412,10],[413,5,413,10],[404,5,404,10],[405,5,405,10],[406,5,406,10],[407,5,407,10],[408,5,408,10],[399,5,399,10],[400,5,400,10],[401,5,401,10],[402,5,402,10],[403,5,403,10],[368,5,368,10],[369,5,369,10],[370,5,370,10],[371,5,371,10],[372,5,372,10],[363,5,363,10],[364,5,364,10],[365,5,365,10],[366,5,366,10],[367,5,367,10],[358,5,358,10],[359,5,359,10],[360,5,360,10],[361,5,361,10],[362,5,362,10],[353,5,353,10],[354,5,354,10],[355,5,355,10],[356,5,356,10],[357,5,357,10],[348,5,348,10],[349,5,349,10],[350,5,350,10],[351,5,351,10],[352,5,352,10],[317,5,317,10],[318,5,318,10],[319,5,319,10],[320,5,320,10],[321,5,321,10],[312,5,312,10],[313,5,313,10],[314,5,314,10],[315,5,315,10],[316,5,316,10],[307,5,307,10],[308,5,308,10],[309,5,309,10],[310,5,310,10],[311,5,311,10],[302,5,302,10],[303,5,303,10],[304,5,304,10],[305,5,305,10],[306,5,306,10],[298,5,298,10],[299,5,299,10],[300,5,300,10],[301,5,301,10],[260,5,260,10],[297,5,297,10],[254,5,254,10],[255,5,255,10],[246,5,246,10],[247,5,247,10],[248,5,248,10],[249,5,249,10],[250,5,250,10],[261,5,261,10],[262,5,262,10],[266,5,266,10],[267,5,267,10],[268,5,268,10],[269,5,269,10],[270,5,270,10],[271,0,271,12],[263,5,263,10],[264,5,264,10],[265,5,265,10],[214,5,214,10],[251,5,251,10],[252,5,252,10],[253,5,253,10],[220,0,220,12],[256,5,256,10],[257,5,257,10],[258,5,258,10],[259,5,259,10],[195,5,195,10],[164,5,164,10],[165,5,165,10],[166,5,166,10],[167,5,167,10],[168,5,168,10],[169,0,169,12],[212,5,212,10],[213,5,213,10],[82,5,82,10],[732,5,732,10],[733,5,735,5],[736,5,742,5],[149,5,149,10],[150,5,150,10],[151,5,151,10],[152,5,152,10],[153,5,153,10],[144,5,144,10],[145,5,145,10],[146,5,146,10],[147,5,147,10],[148,5,148,10],[159,5,159,10],[160,5,160,10],[161,5,161,10],[162,5,162,10],[163,5,163,10],[154,5,154,10],[155,5,155,10],[156,5,156,10],[157,5,157,10],[158,5,158,10],[744,5,744,9],[745,5,747,5],[745,6,745,7],[745,8,745,9],[746,6,746,7],[746,8,746,9],[747,6,747,7],[747,8,747,9],[679,0,679,12],[730,0,730,12],[725,5,725,10],[726,5,726,10],[727,5,727,10],[728,5,728,10],[729,5,729,10],[720,5,720,10],[721,5,721,10],[722,5,722,10],[723,5,723,10],[724,5,724,10],[715,5,715,10],[716,5,716,10],[717,5,717,10],[718,5,718,10],[577,0,577,12],[475,0,475,12],[373,0,373,12],[196,5,196,10],[197,5,197,10],[198,5,198,10],[199,5,199,10],[205,5,205,10],[206,5,206,10],[207,5,207,10],[208,5,208,10],[209,5,209,10],[200,5,200,10],[201,5,201,10],[202,5,202,10],[203,5,203,10],[204,5,204,10],[215,5,215,10],[216,5,216,10],[217,5,217,10],[218,5,218,10],[219,5,219,10],[210,5,210,10],[211,5,211,10]]}
["Register Number","Register Address (Dec)","Register Address (Hex)","Dimension [word]","Bit Position","Description","Type","Scale","Unit","Range","Note","Read Function Code (Dec)","Data Storing (2)"]
[{"$f":"B2+1","v":769},{"$f":"GENERAL!A3","v":768},{"$f":"GENERAL!B3","v":300},{"$f":"SUM(D3:D3)","v":1},null,{"$f":"GENERAL!E3","v":"Device identifier  "}]
[{"$f":"B3+1","v":769},768,{"$f":"DEC2HEX(B3)","v":"300"},1,null,"Device identifier","unsigned integer",1,"-",null,"The device returns 1101h",{"$f":"3","v":3}]
[{"$f":"B4+1","v":4097},{"$f":"GENERAL!A4","v":4096},{"$f":"GENERAL!B4","v":1000},{"$f":"SUM(D5:D79)","v":124},null,{"$f":"GENERAL!E4","v":"Measures"}]
[{"$f":"B5+1","v":4097},{"$f":"B4","v":4096},{"$f":"DEC2HEX(B5)","v":"1000"},2,null,"Phase 1 : phase voltage","unsigned integer",1,"mV",null,null,{"$f":"3","v":3}]
[{"$f":"B6+1","v":4099},{"$f":"B5+D5","v":4098},"1002",2,null,"Phase 2 : phase voltage","unsigned integer",1,"mV",null,null,{"$f":"3","v":3}]
[4101,{"$f":"B6+D6","v":4100},"1004",2,null,"Phase 3 : phase voltage","unsigned integer",1,"mV",null,null,{"$f":"3","v":3}]
[4103,4102,"1006",2,null,"Phase 1 : current","unsigned integer",1,"mA",null,null,{"$f":"3","v":3}]
[4105,4104,"1008",2,null,"Phase 2 : current","unsigned integer",1,"mA",null,null,{"$f":"3","v":3}]
[4107,4106,"100A",2,null,"Phase 3 : current","unsigned integer",1,"mA",null,null,{"$f":"3","v":3}]
[4109,4108,"100C",2,null,"Neutral current","unsigned integer",1,"mA",null,null,{"$f":"3","v":3}]
[4111,{"$f":"B11+D11","v":4110},"100E",2,null,"Chained voltage : L1-L2","unsigned integer",1,"mV",null,null,{"$f":"3","v":3}]
[4113,4112,"1010",2,null,"Chained voltage : L2-L3","unsigned integer",1,"mV",null,null,{"$f":"3","v":3}]
[4115,4114,"1012",2,null,"Chained voltage : L3-L1","unsigned integer",1,"mV",null,null,{"$f":"3","v":3}]
[4117,4116,"1014",2,null,"3-phase : active power","unsigned integer","1, 0.01","W",null,"See Note 1",{"$f":"3","v":3}]
[4119,4118,"1016",2,null,"3-phase : reactive power","unsigned integer","1, 0.01","var",null,"See Note 1",{"$f":"3","v":3}]
[4121,4120,"1018",2,null,"3-phase : apparent power","unsigned integer","1, 0.01","VA",null,"See Note 1",{"$f":"3","v":3}]
[4123,4122,"101A",1,null,"3-phase : sign of active power","unsigned integer",1,"-","0, 1","0=positive, 1=negative",{"$f":"3","v":3}]
[4124,4123,"101B",1,null,"3-phase : sign of reactive power","unsigned integer",1,"-","0, 1","0=positive, 1=negative",{"$f":"3","v":3}]
[4125,4124,"101C",2,null,"3-phase : positive active energy","unsigned integer","1, 10, 100, 1.000, 10.000, 100.000","Wh",null,"See Note 2",{"$f":"3","v":3}]
[4127,4126,"101E",2,null,"3-phase : positive reactive energy","unsigned integer","1, 10, 100, 1.000, 10.000, 100.000","varh",null,"See Note 2",{"$f":"3","v":3}]
[4129,4128,"1020",2,null,"3-phase : negative active energy","unsigned integer","1, 10, 100, 1.000, 10.000, 100.000","Wh",null,"See Note 2",{"$f":"3","v":3}]
[4131,4130,"1022",2,null,"3-phase : negative reactive energy","unsigned integer","1, 10, 100, 1.000, 10.000, 100.000","varh",null,"See Note 2",{"$f":"3","v":3}]
[4133,4132,"1024",1,null,"3-phase : power factor","signed integer",0.01,"-",null,null,{"$f":"3","v":3}]
[4134,4133,"1025",1,null,"3-phase : sector of power factor (cap or ind)","unsigned integer",1,"-","0, 1, 2","0=\"PF=1\", 1=\"ind\" (L), 2=\"cap\" (C)",{"$f":"3","v":3}]
[4135,4134,"1026",1,null,"Frequency","unsigned integer",0.1,"Hz",null,null,{"$f":"3","v":3}]
[4136,4135,"1027",2,null,"3-phase : average power","unsigned integer","1, 0.01","W",null,"See Note 1",{"$f":"3","v":3}]
[4138,4137,"1029",2,null,"3-phase : peak maximum demand","unsigned integer","1, 0.01","W",null,"See Note 1",{"$f":"3","v":3}]
[4140,4139,"102B",1,null,"Time counter for average power","unsigned integer",1,"min",null,null,{"$f":"3","v":3}]
[4141,4140,"102C",2,null,"Phase 1 : active power","unsigned integer","1, 0.01","W",null,"See Note 1",{"$f":"3","v":3}]
[4143,4142,"102E",2,null,"Phase 2 : active power","unsigned integer","1, 0.01","W",null,"See Note 1",{"$f":"3","v":3}]
[4145,4144,"1030",2,null,"Phase 3 : active power","unsigned integer","1, 0.01","W",null,"See Note 1",{"$f":"3","v":3}]
[4147,4146,"1032",1,null,"Phase 1 : sign of active power","unsigned integer",null,"-","0, 1","0=positive, 1=negative",{"$f":"3","v":3}]
[4148,4147,"1033",1,null,"Phase 2 : sign of active power","unsigned integer",null,"-","0, 1","0=positive, 1=negative",{"$f":"3","v":3}]
[4149,4148,"1034",1,null,"Phase 3 : sign of active power","unsigned integer",null,"-","0, 1","0=positive, 1=negative",{"$f":"3","v":3}]
[4150,4149,"1035",2,null,"Phase 1 : reactive power","unsigned integer","1, 0.01","var",null,"See Note 1",{"$f":"3","v":3}]
[4152,4151,"1037",2,null,"Phase 2 : reactive power","unsigned integer","1, 0.01","var",null,"See Note 1",{"$f":"3","v":3}]
[4154,4153,"1039",2,null,"Phase 3 : reactive power","unsigned integer","1, 0.01","var",null,"See Note 1",{"$f":"3","v":3}]
[4156,4155,"103B",1,null,"Phase 1 : sign of reactive power","unsigned integer",null,"-","0, 1","0=positive, 1=negative",{"$f":"3","v":3}]
[4157,4156,"103C",1,null,"Phase 2 : sign of reactive power","unsigned integer",null,"-","0, 1","0=positive, 1=negative",{"$f":"3","v":3}]
[4158,4157,"103D",1,null,"Phase 3 : sign of reactive power","unsigned integer",null,"-","0, 1","0=positive, 1=negative",{"$f":"3","v":3}]
[{"$f":"B42+1","v":4159},{"$f":"B41+D41","v":4158},{"$f":"DEC2HEX(B42)","v":"103E"},2,null,"Phase 1 : apparent power","unsigned integer","1, 0.01","VA",null,"See Note 1",{"$f":"3","v":3}]
[4161,4160,"1040",2,null,"Phase 2 : apparent power","unsigned integer","1, 0.01","VA",null,"See Note 1",{"$f":"3","v":3}]
[4163,4162,"1042",2,null,"Phase 3 : apparent power","unsigned integer","1, 0.01","VA",null,"See Note 1",{"$f":"3","v":3}]
[{"$f":"B45+1","v":4165},{"$f":"B44+D44","v":4164},{"$f":"DEC2HEX(B45)","v":"1044"},1,null,"Phase 1 : power factor","signed integer",0.01,"-",null,null,{"$f":"3","v":3}]
[4166,4165,"1045",1,null,"Phase 2 : power factor","signed integer",0.01,"-",null,null,{"$f":"3","v":3}]
[4167,4166,"1046",1,null,"Phase 3 : power factor","signed integer",0.01,"-",null,null,{"$f":"3","v":3}]
[{"$f":"B48+1","v":4168},{"$f":"B47+D47","v":4167},{"$f":"DEC2HEX(B48)","v":"1047"},1,null,"Phase 1 : sector of power factor (cap or ind)","unsigned integer",1,"-","0, 1, 2","0=\"PF=1\", 1=\"ind\" (L), 2=\"cap\" (C)",{"$f":"3","v":3}]
[4169,4168,"1048",1,null,"Phase 2 : sector of power factor (cap or ind)","unsigned integer",1,"-","0, 1, 2","0=\"PF=1\", 1=\"ind\" (L), 2=\"cap\" (C)",{"$f":"3","v":3}]
[4170,4169,"1049",1,null,"Phase 3 : sector of power factor (cap or ind)","unsigned integer",1,"-","0, 1, 2","0=\"PF=1\", 1=\"ind\" (L), 2=\"cap\" (C)",{"$f":"3","v":3}]
[{"$f":"B51+1","v":4171},{"$f":"B50+D50","v":4170},{"$f":"DEC2HEX(B51)","v":"104A"},1,null,"Phase 1 : THD V1","unsigned integer",0.1,"%",null,"See Note 3",{"$f":"3","v":3}]
[{"$f":"B52+1","v":4172},{"$f":"B51+D51","v":4171},{"$f":"DEC2HEX(B52)","v":"104B"},1,null,"Phase 2 : THD V2","unsigned integer",0.1,"%",null,"See Note 3",{"$f":"3","v":3}]
[4173,4172,"104C",1,null,"Phase 3 : THD V3","unsigned integer",0.1,"%",null,"See Note 3",{"$f":"3","v":3}]
[4174,4173,"104D",1,null,"Phase 1 : THD I1","unsigned integer",0.1,"%",null,null,{"$f":"3","v":3}]
[4175,4174,"104E",1,null,"Phase 2 : THD I2","unsigned integer",0.1,"%",null,null,{"$f":"3","v":3}]
[4176,4175,"104F",1,null,"Phase 3 : THD I3","unsigned integer",0.1,"%",null,null,{"$f":"3","v":3}]
[4177,4176,"1050",2,null,"Phase 1 : I1 average ","unsigned integer",1,"mA",null,null,{"$f":"3","v":3}]
[{"$f":"B58+1","v":4179},{"$f":"B57+D57","v":4178},{"$f":"DEC2HEX(B58)","v":"1052"},2,null,"Phase 2 : I2 average ","unsigned integer",1,"mA",null,null,{"$f":"3","v":3}]
[4181,4180,"1054",2,null,"Phase 3 : I3 average ","unsigned integer",1,"mA",null,null,{"$f":"3","v":3}]
[4183,4182,"1056",2,null,"Phase 1 : I1 peak Max.","unsigned integer",1,"mA",null,null,{"$f":"3","v":3}]
[{"$f":"B61+1","v":4185},{"$f":"B60+D60","v":4184},{"$f":"DEC2HEX(B61)","v":"1058"},2,null,"Phase 2 : I2 peak Max.","unsigned integer",1,"mA",null,null,{"$f":"3","v":3}]
[4187,4186,"105A",2,null,"Phase 3 : I3 peak Max.","unsigned integer",1,"mA",null,null,{"$f":"3","v":3}]
[{"$f":"B63+1","v":4189},{"$f":"B62+D62","v":4188},{"$f":"DEC2HEX(B63)","v":"105C"},2,null,"3-phase : I average","unsigned integer",1,"mA",null,"(I1+I2+I3)/3",{"$f":"3","v":3}]
[4191,4190,"105E",2,null,"Phase 1 : V1 min.","unsigned integer",1,"mV",null,"See Note 3",{"$f":"3","v":3}]
[4193,4192,"1060",2,null,"Phase 2 : V2 min.","unsigned integer",1,"mV",null,"See Note 3",{"$f":"3","v":3}]
[4195,4194,"1062",2,null,"Phase 3 : V3 min.","unsigned integer",1,"mV",null,"See Note 3",{"$f":"3","v":3}]
[{"$f":"B67+1","v":4197},{"$f":"B66+D66","v":4196},{"$f":"DEC2HEX(B67)","v":"1064"},2,null,"Phase 1 : V1 Max.","unsigned integer",1,"mV",null,"See Note 3",{"$f":"3","v":3}]
[4199,4198,"1066",2,null,"Phase 2 : V2 Max.","unsigned integer",1,"mV",null,"See Note 3",{"$f":"3","v":3}]
[4201,4200,"1068",2,null,"Phase 3 : V3 Max.","unsigned integer",1,"mV",null,"See Note 3",{"$f":"3","v":3}]
[{"$f":"B70+1","v":4203},{"$f":"B69+D69","v":4202},{"$f":"DEC2HEX(B70)","v":"106A"},2,null,"3-phase : partial active energy","unsigned integer","1, 10, 100, 1000, 10.000, 100.000","Wh",null,"See Note 2",{"$f":"3","v":3}]
[4205,4204,"106C",2,null,"3-phase : partial reactive energy","unsigned integer","1, 10, 100, 1000, 10.000, 100.000","varh",null,"See Note 2",{"$f":"3","v":3}]
[{"$f":"B72+1","v":4207},{"$f":"B71+D71","v":4206},{"$f":"DEC2HEX(B72)","v":"106E"},1,null,"Operating timer counter","unsigned integer",1,"h",null,null,{"$f":"3","v":3}]
[{"$f":"B73+1","v":4208},{"$f":"B72+D72","v":4207},{"$f":"DEC2HEX(B73)","v":"106F"},1,null,"Alarm status ","unsigned integer","-","-","0, 1","0: No active Alarm, 1: Alarm active",{"$f":"3","v":3}]
[4209,4208,"1070",2,null,"3-phase : average active power","unsigned integer","1, 0.01","W",null,"See Note 1",{"$f":"3","v":3}]
[4211,4210,"1072",2,null,"3-phase : average reactive power","unsigned integer","1, 0.01","var",null,"See Note 1",{"$f":"3","v":3}]
[4213,4212,"1074",2,null,"3-phase : average apparent power","unsigned integer","1, 0.01","VA",null,"See Note 1",{"$f":"3","v":3}]
[{"$f":"B77+1","v":4215},{"$f":"B76+D76","v":4214},{"$f":"DEC2HEX(B77)","v":"1076"},2,null,"3-phase : active PMD power","unsigned integer","1, 0.01","W",null,"See Note 1",{"$f":"3","v":3}]
[4217,4216,"1078",2,null,"3-phase : reactive PMD power","unsigned integer","1, 0.01","var",null,"See Note 1",{"$f":"3","v":3}]
[4219,4218,"107A",2,null,"3-phase : apparent PMD power","unsigned integer","1, 0.01","VA",null,"See Note 1",{"$f":"3","v":3}]
[{"$f":"B80+1","v":4609},{"$f":"GENERAL!A5","v":4608},{"$f":"GENERAL!B5","v":1200},{"$f":"SUM(D81:D85)","v":6},null,{"$f":"GENERAL!E5","v":"Settings"}]
[{"$f":"B81+1","v":4609},4608,{"$f":"DEC2HEX(B81)","v":"1200"},1,null,"Current transformer ratio (CT)","unsigned integer",1,"-",null,null,{"$f":"3","v":3}]
[{"$f":"B82+1","v":4610},{"$f":"B81+D81","v":4609},{"$f":"DEC2HEX(B82)","v":"1201"},1,null,"Voltage transformer ratio (VT)","unsigned integer",0.1,"-",null,null,{"$f":"3","v":3}]
[{"$f":"B83+1","v":4611},{"$f":"B82+D82","v":4610},{"$f":"DEC2HEX(B83)","v":"1202"},2,null,"RESERVED (returns 2D62 412Dh)",{"$nulls":5},3]
[{"$f":"B84+1","v":4613},{"$f":"B83+D83","v":4612},{"$f":"DEC2HEX(B84)","v":"1204"},1,null,"Device identifier","unsigned integer",1,"-",null,"The device returns 1101h",{"$f":"3","v":3}]
[4614,4613,"1205",1,null,"Voltages sequence diagnostic","unsigned integer",1,"-","0, 1, 2","0: if single phase insertion\n1: Ok\n2: Error",3]
[{"$f":"B86+1","v":5377},{"$f":"GENERAL!A6","v":5376},{"$f":"GENERAL!B6","v":1500},{"$f":"SUM(D87:D110)","v":48},null,{"$f":"GENERAL!E6","v":"Max. & Min."}]
[{"$f":"B87+1","v":5377},5376,1500,2,null,"Low Positive Active Energy ","unsigned integer",{"$f":"1","v":1},"Wh",null,null,{"$f":"3","v":3}]
[{"$f":"B88+1","v":5379},{"$f":"B87+D87","v":5378},{"$f":"DEC2HEX(B88)","v":"1502"},2,null,"High Positive Active Energy","unsigned integer",{"$f":"1","v":1},"MWh",null,null,{"$f":"3","v":3}]
[{"$f":"B89+1","v":5381},{"$f":"B88+D88","v":5380},{"$f":"DEC2HEX(B89)","v":"1504"},2,null,"Low Positive Reactive Energy ","unsigned integer",{"$f":"1","v":1},"varh",null,null,{"$f":"3","v":3}]
[5383,5382,"1506",2,null,"High Positive Reactive Energy","unsigned integer",{"$f":"1","v":1},"Mvarh",null,null,{"$f":"3","v":3}]
[5385,5384,"1508",2,null,"Low Negative Active Energy ","unsigned integer",{"$f":"1","v":1},"Wh",null,null,{"$f":"3","v":3}]
[5387,5386,"150A",2,null,"High Negative Active Energy","unsigned integer",{"$f":"1","v":1},"MWh",null,null,{"$f":"3","v":3}]
[5389,5388,"150C",2,null,"Low Negative Reactive Energy ","unsigned integer",{"$f":"1","v":1},"varh",null,null,{"$f":"3","v":3}]
[5391,5390,"150E",2,null,"High Negative Reactive Energy","unsigned integer",{"$f":"1","v":1},"Mvarh",null,null,{"$f":"3","v":3}]
[5393,5392,"1510",2,null,"Low Partial Active Energy ","unsigned integer",{"$f":"1","v":1},"Wh",null,null,{"$f":"3","v":3}]
[5395,5394,"1512",2,null,"High Partial Active Energy","unsigned integer",{"$f":"1","v":1},"MWh",null,null,{"$f":"3","v":3}]
[5397,5396,"1514",2,null,"Low Partial Reactive Energy","unsigned integer",{"$f":"1","v":1},"varh",null,null,{"$f":"3","v":3}]
[5399,5398,"1516",2,null,"High Partial Reactive Energy","unsigned integer",{"$f":"1","v":1},"Mvarh",null,null,{"$f":"3","v":3}]
[5401,5400,"1518",2,null,"Signed Total active power","signed integer",1,"W",null,null,{"$f":"3","v":3}]
[5403,5402,"151A",2,null,"Signed Total reactive power","signed integer",1,"var",null,null,{"$f":"3","v":3}]
[5405,5404,"151C",2,null,"Signed phase1 active power","signed integer",1,"W",null,null,{"$f":"3","v":3}]
[5407,5406,"151E",2,null,"Signed phase2 active power","signed integer",1,"W",null,null,{"$f":"3","v":3}]
[{"$f":"B103+1","v":5409},{"$f":"B102+D102","v":5408},{"$f":"DEC2HEX(B103)","v":"1520"},2,null,"Signed phase3 active power","signed integer",1,"W",null,null,{"$f":"3","v":3}]
[{"$f":"B104+1","v":5411},{"$f":"B103+D103","v":5410},{"$f":"DEC2HEX(B104)","v":"1522"},2,null,"Signed phase1 reactive power","signed integer",1,"Var",null,null,{"$f":"3","v":3}]
[5413,5412,"1524",2,null,"Signed phase2 reactive power","signed integer",1,"Var",null,null,{"$f":"3","v":3}]
[5415,5414,"1526",2,null,"Signed phase3 reactive power","signed integer",1,"var",null,null,{"$f":"3","v":3}]
[5417,5416,"1528",2,null,"Signed total Power Factor","signed integer",1E-3,"-",null,null,{"$f":"3","v":3}]
[5419,5418,"152A",2,null,"Signed phase1 Power Factor","signed integer",1E-3,"-",null,null,{"$f":"3","v":3}]
[5421,5420,"152C",2,null,"Signed phase2 Power Factor","signed integer",1E-3,"-",null,null,{"$f":"3","v":3}]
[5423,5422,"152E",2,null,"Signed phase3 Power Factor","signed integer",1E-3,"-",null,null,{"$f":"3","v":3}]
[{"$f":"B111+1","v":5425},{"$f":"GENERAL!A7","v":5424},{"$f":"GENERAL!B7","v":1530},{"$f":"SUM(D112:D118)","v":14},null,{"$f":"GENERAL!E7","v":"Average Measured values - Scaled"}]
[{"$f":"B112+1","v":5425},5424,{"$f":"DEC2HEX(B112)","v":"1530"},2,null," Total Apparent power","unsigned integer",{"$f":"1","v":1},"VA",null,null,{"$f":"3","v":3}]
[5427,{"$f":"B112+D112","v":5426},"1532",2,null,"3-phase : average active power","unsigned integer",0.01,"W",null,null,{"$f":"3","v":3}]
[5429,5428,"1534",2,null,"3-phase : average reactive power","unsigned integer",0.01,"var",null,null,{"$f":"3","v":3}]
[5431,5430,"1536",2,null,"3-phase : average apparent power","unsigned integer",0.01,"VA",null,null,{"$f":"3","v":3}]
[{"$f":"B116+1","v":5433},{"$f":"B115+D115","v":5432},{"$f":"DEC2HEX(B116)","v":"1538"},2,null,"3-phase : max active power","unsigned integer",0.01,"W",null,null,{"$f":"3","v":3}]
[5435,5434,"153A",2,null,"3-phase : max reactive power","unsigned integer",0.01,"var",null,null,{"$f":"3","v":3}]
[5437,5436,"153C",2,null,"3-phase : max apparent power ","unsigned integer",0.01,"VA",null,null,{"$f":"3","v":3}]
[{"$f":"B119+1","v":28673},{"$f":"GENERAL!A12","v":28672},{"$f":"GENERAL!B12","v":7000},{"$f":"SUM(D120:D322)","v":200},null,{"$f":"GENERAL!E12","v":"Harmonics"}]
[{"$f":"B120+1","v":28673},28672,7000,1,null,"Current phase 1 - fundamental","unsigned integer",0.1,"%",null,null,{"$f":"3","v":3}]
[{"$f":"B121+1","v":28674},{"$f":"B120+D120","v":28673},{"$f":"DEC2HEX(B121)","v":"7001"},1,null,"Current phase 1 - 2nd harmonic percentage","unsigned integer",0.1,"%",null,null,{"$f":"3","v":3}]
[{"$f":"B122+1","v":28675},{"$f":"B121+D121","v":28674},{"$f":"DEC2HEX(B122)","v":"7002"},1,null,"Current phase 1 - 3rd harmonic percentage","unsigned integer",0.1,"%",null,null,{"$f":"3","v":3}]
[28676,28675,"7003",1,null,"Current phase 1 - 4th harmonic percentage","unsigned integer",0.1,"%",null,null,{"$f":"3","v":3}]
[28677,28676,"7004",1,null,"Current phase 1 - 5th harmonic percentage","unsigned integer",0.1,"%",null,null,{"$f":"3","v":3}]
[{"$f":"B125+1","v":28678},{"$f":"B124+D124","v":28677},{"$f":"DEC2HEX(B125)","v":"7005"},1,null,"Current phase 1 - 6th harmonic percentage","unsigned integer",0.1,"%",null,null,{"$f":"3","v":3}]
[28679,28678,"7006",1,null,"Current phase 1 - 7th harmonic percentage","unsigned integer",0.1,"%",null,null,{"$f":"3","v":3}]
[28680,28679,"7007",1,null,"Current phase 1 - 8th harmonic percentage","unsigned integer",0.1,"%",null,null,{"$f":"3","v":3}]
[28681,28680,"7008",1,null,"Current phase 1 - 9th harmonic percentage","unsigned integer",0.1,"%",null,null,{"$f":"3","v":3}]
[28682,28681,"7009",1,null,"Current phase 1 - 10th harmonic percentage","unsigned integer",0.1,"%",null,null,{"$f":"3","v":3}]
[{"$f":"B130+1","v":28683},{"$f":"B129+D129","v":28682},{"$f":"DEC2HEX(B130)","v":"700A"},1,null,"Current phase 1 - 11th harmonic percentage","unsigned integer",0.1,"%",null,null,{"$f":"3","v":3}]
[28684,28683,"700B",1,null,"Current phase 1 - 12th harmonic percentage","unsigned integer",0.1,"%",null,null,{"$f":"3","v":3}]
[28685,28684,"700C",1,null,"Current phase 1 - 13th harmonic percentage","unsigned integer",0.1,"%",null,null,{"$f":"3","v":3}]
[28686,28685,"700D",1,null,"Current phase 1 - 14th harmonic percentage","unsigned integer",0.1,"%",null,null,{"$f":"3","v":3}]
[28687,28686,"700E",1,null,"Current phase 1 - 15th harmonic percentage","unsigned integer",0.1,"%",null,null,{"$f":"3","v":3}]
[28688,28687,"700F",1,null,"Current phase 1 - 16th harmonic percentage","unsigned integer",0.1,"%",null,null,{"$f":"3","v":3}]
[28689,28688,"7010",1,null,"Current phase 1 - 17th harmonic percentage","unsigned integer",0.1,"%",null,null,{"$f":"3","v":3}]
[28690,28689,"7011",1,null,"Current phase 1 - 18th harmonic percentage","unsigned integer",0.1,"%",null,null,{"$f":"3","v":3}]
[28691,28690,"7012",1,null,"Current phase 1 - 19th harmonic percentage","unsigned integer",0.1,"%",null,null,{"$f":"3","v":3}]
[28692,28691,"7013",1,null,"Current phase 1 - 20th harmonic percentage","unsigned integer",0.1,"%",null,null,{"$f":"3","v":3}]
[28693,28692,"7014",1,null,"Current phase 1 - 21st harmonic percentage","unsigned integer",0.1,"%",null,null,{"$f":"3","v":3}]
[28694,28693,"7015",1,null,"Current phase 1 - 22nd harmonic percentage","unsigned integer",0.1,"%",null,null,{"$f":"3","v":3}]
[28695,28694,"7016",1,null,"Current phase 1 - 23rd harmonic percentage","unsigned integer",0.1,"%",null,null,{"$f":"3","v":3}]
[28696,28695,"7017",1,null,"Current phase 1 - 24th harmonic percentage","unsigned integer",0.1,"%",null,null,{"$f":"3","v":3}]
[28697,28696,"7018",1,null,"Current phase 1 - 25th harmonic percentage","unsigned integer",0.1,"%",null,null,{"$f":"3","v":3}]
[28698,28697,"7019",1,null,"RESERVED (returns 0000h)",{"$nulls":5},{"$f":"3","v":3}]
[28699,28698,"701A",1,null,"RESERVED (returns 0000h)",{"$nulls":5},{"$f":"3","v":3}]
[28700,28699,"701B",1,null,"RESERVED (returns 0000h)",{"$nulls":5},{"$f":"3","v":3}]
[28701,28700,"701C",1,null,"RESERVED (returns 0000h)",{"$nulls":5},{"$f":"3","v":3}]
[28702,28701,"701D",1,null,"RESERVED (returns 0000h)",{"$nulls":5},{"$f":"3","v":3}]
[28703,28702,"701E",1,null,"RESERVED (returns 0000h)",{"$nulls":5},{"$f":"3","v":3}]
[28704,28703,"701F",1,null,"RESERVED (returns 0000h)",{"$nulls":5},{"$f":"3","v":3}]
[28705,28704,"7020",1,null,"RESERVED (returns 0000h)",{"$nulls":5},{"$f":"3","v":3}]
[28706,28705,"7021",1,null,"RESERVED (returns 0000h)",{"$nulls":5},{"$f":"3","v":3}]
[28707,28706,"7022",1,null,"RESERVED (returns 0000h)",{"$nulls":5},{"$f":"3","v":3}]
[28708,28707,"7023",1,null,"RESERVED (returns 0000h)",{"$nulls":5},{"$f":"3","v":3}]
[28709,28708,"7024",1,null,"RESERVED (returns 0000h)",{"$nulls":5},{"$f":"3","v":3}]
[28710,28709,"7025",1,null,"RESERVED (returns 0000h)",{"$nulls":5},{"$f":"3","v":3}]
[28711,28710,"7026",1,null,"RESERVED (returns 0000h)",{"$nulls":5},{"$f":"3","v":3}]
[28712,28711,"7027",1,null,"RESERVED (returns 0000h)",{"$nulls":5},{"$f":"3","v":3}]
[28713,28712,"7028",1,null,"RESERVED (returns 0000h)",{"$nulls":5},{"$f":"3","v":3}]
[28714,28713,"7029",1,null,"RESERVED (returns 0000h)",{"$nulls":5},{"$f":"3","v":3}]
[28715,28714,"702A",1,null,"RESERVED (returns 0000h)",{"$nulls":5},{"$f":"3","v":3}]
[28716,28715,"702B",1,null,"RESERVED (returns 0000h)",{"$nulls":5},{"$f":"3","v":3}]
[28717,28716,"702C",1,null,"RESERVED (returns 0000h)",{"$nulls":5},{"$f":"3","v":3}]
[28718,28717,"702D",1,null,"RESERVED (returns 0000h)",{"$nulls":5},{"$f":"3","v":3}]
[28719,28718,"702E",1,null,"RESERVED (returns 0000h)",{"$nulls":5},{"$f":"3","v":3}]
[28720,28719,"702F",1,null,"RESERVED (returns 0000h)",{"$nulls":5},{"$f":"3","v":3}]
[28721,28720,"7030",1,null,"RESERVED (returns 0000h)",{"$nulls":5},{"$f":"3","v":3}]
[28722,28721,"7031",1,null,"RESERVED (returns 0000h)",{"$nulls":5},{"$f":"3","v":3}]
[]
[{"$f":"B171+1","v":28737},28736,7040,1,null,"Current phase 2 - fundamental","unsigned integer",0.1,"%",null,null,{"$f":"3","v":3}]
[{"$f":"B172+1","v":28738},{"$f":"B171+D171","v":28737},{"$f":"DEC2HEX(B172)","v":"7041"},1,null,"Current phase 2 - 2nd harmonic percentage","unsigned integer",0.1,"%",null,null,{"$f":"3","v":3}]
[28739,28738,"7042",1,null,"Current phase 2 - 3rd harmonic percentage","unsigned integer",0.1,"%",null,null,{"$f":"3","v":3}]
[28740,28739,"7043",1,null,"Current phase 2 - 4th harmonic percentage","unsigned integer",0.1,"%",null,null,{"$f":"3","v":3}]
[28741,28740,"7044",1,null,"Current phase 2 - 5th harmonic percentage","unsigned integer",0.1,"%",null,null,{"$f":"3","v":3}]
[28742,28741,"7045",1,null,"Current phase 2 - 6th harmonic percentage","unsigned integer",0.1,"%",null,null,{"$f":"3","v":3}]
[28743,28742,"7046",1,null,"Current phase 2 - 7th harmonic percentage","unsigned integer",0.1,"%",null,null,{"$f":"3","v":3}]
[28744,28743,"7047",1,null,"Current phase 2 - 8th harmonic percentage","unsigned integer",0.1,"%",null,null,{"$f":"3","v":3}]
[28745,28744,"7048",1,null,"Current phase 2 - 9th harmonic percentage","unsigned integer",0.1,"%",null,null,{"$f":"3","v":3}]
[28746,28745,"7049",1,null,"Current phase 2 - 10th harmonic percentage","unsigned integer",0.1,"%",null,null,{"$f":"3","v":3}]
[28747,28746,"704A",1,null,"Current phase 2 - 11th harmonic percentage","unsigned integer",0.1,"%",null,null,{"$f":"3","v":3}]
[28748,28747,"704B",1,null,"Current phase 2 - 12th harmonic percentage","unsigned integer",0.1,"%",null,null,{"$f":"3","v":3}]
[28749,28748,"704C",1,null,"Current phase 2 - 13th harmonic percentage","unsigned integer",0.1,"%",null,null,{"$f":"3","v":3}]
[28750,28749,"704D",1,null,"Current phase 2 - 14th harmonic percentage","unsigned integer",0.1,"%",null,null,{"$f":"3","v":3}]
[28751,28750,"704E",1,null,"Current phase 2 - 15th harmonic percentage","unsigned integer",0.1,"%",null,null,{"$f":"3","v":3}]
[28752,28751,"704F",1,null,"Current phase 2 - 16th harmonic percentage","unsigned integer",0.1,"%",null,null,{"$f":"3","v":3}]
[28753,28752,"7050",1,null,"Current phase 2 - 17th harmonic percentage","unsigned integer",0.1,"%",null,null,{"$f":"3","v":3}]
[28754,28753,"7051",1,null,"Current phase 2 - 18th harmonic percentage","unsigned integer",0.1,"%",null,null,{"$f":"3","v":3}]
[28755,28754,"7052",1,null,"Current phase 2 - 19th harmonic percentage","unsigned integer",0.1,"%",null,null,{"$f":"3","v":3}]
[28756,28755,"7053",1,null,"Current phase 2 - 20th harmonic percentage","unsigned integer",0.1,"%",null,null,{"$f":"3","v":3}]
[28757,28756,"7054",1,null,"Current phase 2 - 21st harmonic percentage","unsigned integer",0.1,"%",null,null,{"$f":"3","v":3}]
[28758,28757,"7055",1,null,"Current phase 2 - 22nd harmonic percentage","unsigned integer",0.1,"%",null,null,{"$f":"3","v":3}]
[28759,28758,"7056",1,null,"Current phase 2 - 23rd harmonic percentage","unsigned integer",0.1,"%",null,null,{"$f":"3","v":3}]
[28760,28759,"7057",1,null,"Current phase 2 - 24th harmonic percentage","unsigned integer",0.1,"%",null,null,{"$f":"3","v":3}]
[28761,28760,"7058",1,null,"Current phase 2 - 25th harmonic percentage","unsigned integer",0.1,"%",null,null,{"$f":"3","v":3}]
[28762,28761,"7059",1,null,"RESERVED (returns 0000h)",{"$nulls":5},{"$f":"3","v":3}]
[28763,28762,"705A",1,null,"RESERVED (returns 0000h)",{"$nulls":5},{"$f":"3","v":3}]
[28764,28763,"705B",1,null,"RESERVED (returns 0000h)",{"$nulls":5},{"$f":"3","v":3}]
[28765,28764,"705C",1,null,"RESERVED (returns 0000h)",{"$nulls":5},{"$f":"3","v":3}]
[28766,28765,"705D",1,null,"RESERVED (returns 0000h)",{"$nulls":5},{"$f":"3","v":3}]
[28767,28766,"705E",1,null,"RESERVED (returns 0000h)",{"$nulls":5},{"$f":"3","v":3}]
[28768,28767,"705F",1,null,"RESERVED (returns 0000h)",{"$nulls":5},{"$f":"3","v":3}]
[28769,28768,"7060",1,null,"RESERVED (returns 0000h)",{"$nulls":5},{"$f":"3","v":3}]
[28770,28769,"7061",1,null,"RESERVED (returns 0000h)",{"$nulls":5},{"$f":"3","v":3}]
[28771,28770,"7062",1,null,"RESERVED (returns 0000h)",{"$nulls":5},{"$f":"3","v":3}]
[28772,28771,"7063",1,null,"RESERVED (returns 0000h)",{"$nulls":5},{"$f":"3","v":3}]
[28773,28772,"7064",1,null,"RESERVED (returns 0000h)",{"$nulls":5},{"$f":"3","v":3}]
[28774,28773,"7065",1,null,"RESERVED (returns 0000h)",{"$nulls":5},{"$f":"3","v":3}]
[28775,28774,"7066",1,null,"RESERVED (returns 0000h)",{"$nulls":5},{"$f":"3","v":3}]
[28776,28775,"7067",1,null,"RESERVED (returns 0000h)",{"$nulls":5},{"$f":"3","v":3}]
[28777,28776,"7068",1,null,"RESERVED (returns 0000h)",{"$nulls":5},{"$f":"3","v":3}]
[28778,28777,"7069",1,null,"RESERVED (returns 0000h)",{"$nulls":5},{"$f":"3","v":3}]
[28779,28778,"706A",1,null,"RESERVED (returns 0000h)",{"$nulls":5},{"$f":"3","v":3}]
[28780,28779,"706B",1,null,"RESERVED (returns 0000h)",{"$nulls":5},{"$f":"3","v":3}]
[28781,28780,"706C",1,null,"RESERVED (returns 0000h)",{"$nulls":5},{"$f":"3","v":3}]
[28782,28781,"706D",1,null,"RESERVED (returns 0000h)",{"$nulls":5},{"$f":"3","v":3}]
[28783,28782,"706E",1,null,"RESERVED (returns 0000h)",{"$nulls":5},{"$f":"3","v":3}]
[28784,28783,"706F",1,null,"RESERVED (returns 0000h)",{"$nulls":5},{"$f":"3","v":3}]
[28785,28784,"7070",1,null,"RESERVED (returns 0000h)",{"$nulls":5},{"$f":"3","v":3}]
[28786,28785,"7071",1,null,"RESERVED (returns 0000h)",{"$nulls":5},{"$f":"3","v":3}]
[]
[{"$f":"B222+1","v":28801},28800,7080,1,null,"Current phase 3 - fundamental","unsigned integer",0.1,"%",null,null,{"$f":"3","v":3}]
[{"$f":"B223+1","v":28802},{"$f":"B222+D222","v":28801},{"$f":"DEC2HEX(B223)","v":"7081"},1,null,"Current phase 3 - 2nd harmonic percentage","unsigned integer",0.1,"%",null,null,{"$f":"3","v":3}]
[28803,28802,"7082",1,null,"Current phase 3 - 3rd harmonic percentage","unsigned integer",0.1,"%",null,null,{"$f":"3","v":3}]
[28804,28803,"7083",1,null,"Current phase 3 - 4th harmonic percentage","unsigned integer",0.1,"%",null,null,{"$f":"3","v":3}]
[28805,28804,"7084",1,null,"Current phase 3 - 5th harmonic percentage","unsigned integer",0.1,"%",null,null,{"$f":"3","v":3}]
[28806,28805,"7085",1,null,"Current phase 3 - 6th harmonic percentage","unsigned integer",0.1,"%",null,null,{"$f":"3","v":3}]
[28807,28806,"7086",1,null,"Current phase 3 - 7th harmonic percentage","unsigned integer",0.1,"%",null,null,{"$f":"3","v":3}]
[28808,28807,"7087",1,null,"Current phase 3 - 8th harmonic percentage","unsigned integer",0.1,"%",null,null,{"$f":"3","v":3}]
[28809,28808,"7088",1,null,"Current phase 3 - 9th harmonic percentage","unsigned integer",0.1,"%",null,null,{"$f":"3","v":3}]
[28810,28809,"7089",1,null,"Current phase 3 - 10th harmonic percentage","unsigned integer",0.1,"%",null,null,{"$f":"3","v":3}]
[28811,28810,"708A",1,null,"Current phase 3 - 11th harmonic percentage","unsigned integer",0.1,"%",null,null,{"$f":"3","v":3}]
[28812,28811,"708B",1,null,"Current phase 3 - 12th harmonic percentage","unsigned integer",0.1,"%",null,null,{"$f":"3","v":3}]
[28813,28812,"708C",1,null,"Current phase 3 - 13th harmonic percentage","unsigned integer",0.1,"%",null,null,{"$f":"3","v":3}]
[28814,28813,"708D",1,null,"Current phase 3 - 14th harmonic percentage","unsigned integer",0.1,"%",null,null,{"$f":"3","v":3}]
[28815,28814,"708E",1,null,"Current phase 3 - 15th harmonic percentage","unsigned integer",0.1,"%",null,null,{"$f":"3","v":3}]
[28816,28815,"708F",1,null,"Current phase 3 - 16th harmonic percentage","unsigned integer",0.1,"%",null,null,{"$f":"3","v":3}]
[28817,28816,"7090",1,null,"Current phase 3 - 17th harmonic percentage","unsigned integer",0.1,"%",null,null,{"$f":"3","v":3}]
[28818,28817,"7091",1,null,"Current phase 3 - 18th harmonic percentage","unsigned integer",0.1,"%",null,null,{"$f":"3","v":3}]
[28819,28818,"7092",1,null,"Current phase 3 - 19th harmonic percentage","unsigned integer",0.1,"%",null,null,{"$f":"3","v":3}]
[28820,28819,"7093",1,null,"Current phase 3 - 20th harmonic percentage","unsigned integer",0.1,"%",null,null,{"$f":"3","v":3}]
[28821,28820,"7094",1,null,"Current phase 3 - 21st harmonic percentage","unsigned integer",0.1,"%",null,null,{"$f":"3","v":3}]
[28822,28821,"7095",1,null,"Current phase 3 - 22nd harmonic percentage","unsigned integer",0.1,"%",null,null,{"$f":"3","v":3}]
[28823,28822,"7096",1,null,"Current phase 3 - 23rd harmonic percentage","unsigned integer",0.1,"%",null,null,{"$f":"3","v":3}]
[28824,28823,"7097",1,null,"Current phase 3 - 24th harmonic percentage","unsigned integer",0.1,"%",null,null,{"$f":"3","v":3}]
[28825,28824,"7098",1,null,"Current phase 3 - 25th harmonic percentage","unsigned integer",0.1,"%",null,null,{"$f":"3","v":3}]
[28826,28825,"7099",1,null,"RESERVED (returns 0000h)",{"$nulls":5},{"$f":"3","v":3}]
[28827,28826,"709A",1,null,"RESERVED (returns 0000h)",{"$nulls":5},{"$f":"3","v":3}]
[28828,28827,"709B",1,null,"RESERVED (returns 0000h)",{"$nulls":5},{"$f":"3","v":3}]
[28829,28828,"709C",1,null,"RESERVED (returns 0000h)",{"$nulls":5},{"$f":"3","v":3}]
[28830,28829,"709D",1,null,"RESERVED (returns 0000h)",{"$nulls":5},{"$f":"3","v":3}]
[28831,28830,"709E",1,null,"RESERVED (returns 0000h)",{"$nulls":5},{"$f":"3","v":3}]
[28832,28831,"709F",1,null,"RESERVED (returns 0000h)",{"$nulls":5},{"$f":"3","v":3}]
[28833,28832,"70A0",1,null,"RESERVED (returns 0000h)",{"$nulls":5},{"$f":"3","v":3}]
[28834,28833,"70A1",1,null,"RESERVED (returns 0000h)",{"$nulls":5},{"$f":"3","v":3}]
[28835,28834,"70A2",1,null,"RESERVED (returns 0000h)",{"$nulls":5},{"$f":"3","v":3}]
[28836,28835,"70A3",1,null,"RESERVED (returns 0000h)",{"$nulls":5},{"$f":"3","v":3}]
[28837,28836,"70A4",1,null,"RESERVED (returns 0000h)",{"$nulls":5},{"$f":"3","v":3}]
[28838,28837,"70A5",1,null,"RESERVED (returns 0000h)",{"$nulls":5},{"$f":"3","v":3}]
[28839,28838,"70A6",1,null,"RESERVED (returns 0000h)",{"$nulls":5},{"$f":"3","v":3}]
[28840,28839,"70A7",1,null,"RESERVED (returns 0000h)",{"$nulls":5},{"$f":"3","v":3}]
[28841,28840,"70A8",1,null,"RESERVED (returns 0000h)",{"$nulls":5},{"$f":"3","v":3}]
[28842,28841,"70A9",1,null,"RESERVED (returns 0000h)",{"$nulls":5},{"$f":"3","v":3}]
[28843,28842,"70AA",1,null,"RESERVED (returns 0000h)",{"$nulls":5},{"$f":"3","v":3}]
[28844,28843,"70AB",1,null,"RESERVED (returns 0000h)",{"$nulls":5},{"$f":"3","v":3}]
[28845,28844,"70AC",1,null,"RESERVED (returns 0000h)",{"$nulls":5},{"$f":"3","v":3}]
[28846,28845,"70AD",1,null,"RESERVED (returns 0000h)",{"$nulls":5},{"$f":"3","v":3}]
[28847,28846,"70AE",1,null,"RESERVED (returns 0000h)",{"$nulls":5},{"$f":"3","v":3}]
[28848,28847,"70AF",1,null,"RESERVED (returns 0000h)",{"$nulls":5},{"$f":"3","v":3}]
[28849,28848,"70B0",1,null,"RESERVED (returns 0000h)",{"$nulls":5},{"$f":"3","v":3}]
[28850,28849,"70B1",1,null,"RESERVED (returns 0000h)",{"$nulls":5},{"$f":"3","v":3}]
[]
[{"$f":"B273+1","v":28865},28864,"70C0",1,null,"Voltage phase 1 - fundamental","unsigned integer",0.1,"%",null,"See Note 3",{"$f":"3","v":3}]
[28866,{"$f":"B273+D273","v":28865},{"$f":"DEC2HEX(B274)","v":"70C1"},1,null,"Voltage phase 1 - 2nd harmonic percentage","unsigned integer",0.1,"%",null,"See Note 3",{"$f":"3","v":3}]
[{"$f":"B275+1","v":28867},{"$f":"B274+D274","v":28866},{"$f":"DEC2HEX(B275)","v":"70C2"},1,null,"Voltage phase 1 - 3rd harmonic percentage","unsigned integer",0.1,"%",null,"See Note 3",{"$f":"3","v":3}]
[28868,28867,"70C3",1,null,"Voltage phase 1 - 4th harmonic percentage","unsigned integer",0.1,"%",null,"See Note 3",{"$f":"3","v":3}]
[28869,28868,"70C4",1,null,"Voltage phase 1 - 5th harmonic percentage","unsigned integer",0.1,"%",null,"See Note 3",{"$f":"3","v":3}]
[28870,28869,"70C5",1,null,"Voltage phase 1 - 6th harmonic percentage","unsigned integer",0.1,"%",null,"See Note 3",{"$f":"3","v":3}]
[28871,28870,"70C6",1,null,"Voltage phase 1 - 7th harmonic percentage","unsigned integer",0.1,"%",null,"See Note 3",{"$f":"3","v":3}]
[28872,28871,"70C7",1,null,"Voltage phase 1 - 8th harmonic percentage","unsigned integer",0.1,"%",null,"See Note 3",{"$f":"3","v":3}]
[28873,28872,"70C8",1,null,"Voltage phase 1 - 9th harmonic percentage","unsigned integer",0.1,"%",null,"See Note 3",{"$f":"3","v":3}]
[28874,28873,"70C9",1,null,"Voltage phase 1 - 10th harmonic percentage","unsigned integer",0.1,"%",null,"See Note 3",{"$f":"3","v":3}]
[28875,28874,"70CA",1,null,"Voltage phase 1 - 11th harmonic percentage","unsigned integer",0.1,"%",null,"See Note 3",{"$f":"3","v":3}]
[28876,28875,"70CB",1,null,"Voltage phase 1 - 12th harmonic percentage","unsigned integer",0.1,"%",null,"See Note 3",{"$f":"3","v":3}]
[28877,28876,"70CC",1,null,"Voltage phase 1 - 13th harmonic percentage","unsigned integer",0.1,"%",null,"See Note 3",{"$f":"3","v":3}]
[28878,28877,"70CD",1,null,"Voltage phase 1 - 14th harmonic percentage","unsigned integer",0.1,"%",null,"See Note 3",{"$f":"3","v":3}]
[28879,28878,"70CE",1,null,"Voltage phase 1 - 15th harmonic percentage","unsigned integer",0.1,"%",null,"See Note 3",{"$f":"3","v":3}]
[28880,28879,"70CF",1,null,"Voltage phase 1 - 16th harmonic percentage","unsigned integer",0.1,"%",null,"See Note 3",{"$f":"3","v":3}]
[28881,28880,"70D0",1,null,"Voltage phase 1 - 17th harmonic percentage","unsigned integer",0.1,"%",null,"See Note 3",{"$f":"3","v":3}]
[28882,28881,"70D1",1,null,"Voltage phase 1 - 18th harmonic percentage","unsigned integer",0.1,"%",null,"See Note 3",{"$f":"3","v":3}]
[28883,28882,"70D2",1,null,"Voltage phase 1 - 19th harmonic percentage","unsigned integer",0.1,"%",null,"See Note 3",{"$f":"3","v":3}]
[28884,28883,"70D3",1,null,"Voltage phase 1 - 20th harmonic percentage","unsigned integer",0.1,"%",null,"See Note 3",{"$f":"3","v":3}]
[28885,28884,"70D4",1,null,"Voltage phase 1 - 21st harmonic percentage","unsigned integer",0.1,"%",null,"See Note 3",{"$f":"3","v":3}]
[28886,28885,"70D5",1,null,"Voltage phase 1 - 22nd harmonic percentage","unsigned integer",0.1,"%",null,"See Note 3",{"$f":"3","v":3}]
[28887,28886,"70D6",1,null,"Voltage phase 1 - 23rd harmonic percentage","unsigned integer",0.1,"%",null,"See Note 3",{"$f":"3","v":3}]
[28888,28887,"70D7",1,null,"Voltage phase 1 - 24th harmonic percentage","unsigned integer",0.1,"%",null,"See Note 3",{"$f":"3","v":3}]
[28889,28888,"70D8",1,null,"Voltage phase 1 - 25th harmonic percentage","unsigned integer",0.1,"%",null,"See Note 3",{"$f":"3","v":3}]
[28890,28889,"70D9",1,null,"RESERVED (returns 0000h)",{"$nulls":5},{"$f":"3","v":3}]
[28891,28890,"70DA",1,null,"RESERVED (returns 0000h)",{"$nulls":5},{"$f":"3","v":3}]
[28892,28891,"70DB",1,null,"RESERVED (returns 0000h)",{"$nulls":5},{"$f":"3","v":3}]
[28893,28892,"70DC",1,null,"RESERVED (returns 0000h)",{"$nulls":5},{"$f":"3","v":3}]
[{"$f":"B302+1","v":28894},{"$f":"B301+D301","v":28893},{"$f":"DEC2HEX(B302)","v":"70DD"},1,null,"RESERVED (returns 0000h)",{"$nulls":5},{"$f":"3","v":3}]
[28895,28894,"70DE",1,null,"RESERVED (returns 0000h)",{"$nulls":5},{"$f":"3","v":3}]
[28896,28895,"70DF",1,null,"RESERVED (returns 0000h)",{"$nulls":5},{"$f":"3","v":3}]
[28897,28896,"70E0",1,null,"RESERVED (returns 0000h)",{"$nulls":5},{"$f":"3","v":3}]
[28898,28897,"70E1",1,null,"RESERVED (returns 0000h)",{"$nulls":5},{"$f":"3","v":3}]
[28899,28898,"70E2",1,null,"RESERVED (returns 0000h)",{"$nulls":5},{"$f":"3","v":3}]
[28900,28899,"70E3",1,null,"RESERVED (returns 0000h)",{"$nulls":5},{"$f":"3","v":3}]
[28901,28900,"70E4",1,null,"RESERVED (returns 0000h)",{"$nulls":5},{"$f":"3","v":3}]
[28902,28901,"70E5",1,null,"RESERVED (returns 0000h)",{"$nulls":5},{"$f":"3","v":3}]
[28903,28902,"70E6",1,null,"RESERVED (returns 0000h)",{"$nulls":5},{"$f":"3","v":3}]
[28904,28903,"70E7",1,null,"RESERVED (returns 0000h)",{"$nulls":5},{"$f":"3","v":3}]
[28905,28904,"70E8",1,null,"RESERVED (returns 0000h)",{"$nulls":5},{"$f":"3","v":3}]
[28906,28905,"70E9",1,null,"RESERVED (returns 0000h)",{"$nulls":5},{"$f":"3","v":3}]
[28907,28906,"70EA",1,null,"RESERVED (returns 0000h)",{"$nulls":5},{"$f":"3","v":3}]
[28908,28907,"70EB",1,null,"RESERVED (returns 0000h)",{"$nulls":5},{"$f":"3","v":3}]
[28909,28908,"70EC",1,null,"RESERVED (returns 0000h)",{"$nulls":5},{"$f":"3","v":3}]
[28910,28909,"70ED",1,null,"RESERVED (returns 0000h)",{"$nulls":5},{"$f":"3","v":3}]
[28911,28910,"70EE",1,null,"RESERVED (returns 0000h)",{"$nulls":5},{"$f":"3","v":3}]
[28912,28911,"70EF",1,null,"RESERVED (returns 0000h)",{"$nulls":5},{"$f":"3","v":3}]
[28913,28912,"70F0",1,null,"RESERVED (returns 0000h)",{"$nulls":5},{"$f":"3","v":3}]
[28914,28913,"70F1",1,null,"RESERVED (returns 0000h)",{"$nulls":5},{"$f":"3","v":3}]
[{"$f":"B323+1","v":28929},28928,7100,{"$f":"SUM(D324:D424)","v":100}]
[{"$f":"B324+1","v":28929},28928,7100,1,null,"Voltage phase 2 - fundamental","unsigned integer",0.1,"%",null,"See Note 3",{"$f":"3","v":3}]
[28930,{"$f":"B324+D324","v":28929},{"$f":"DEC2HEX(B325)","v":"7101"},1,null,"Voltage phase 2 - 2nd harmonic percentage","unsigned integer",0.1,"%",null,"See Note 3",{"$f":"3","v":3}]
[{"$f":"B326+1","v":28931},{"$f":"B325+D325","v":28930},{"$f":"DEC2HEX(B326)","v":"7102"},1,null,"Voltage phase 2 - 3rd harmonic percentage","unsigned integer",0.1,"%",null,"See Note 3",{"$f":"3","v":3}]
[28932,28931,"7103",1,null,"Voltage phase 2 - 4th harmonic percentage","unsigned integer",0.1,"%",null,"See Note 3",{"$f":"3","v":3}]
[{"$f":"B328+1","v":28933},{"$f":"B327+D327","v":28932},{"$f":"DEC2HEX(B328)","v":"7104"},1,null,"Voltage phase 2 - 5th harmonic percentage","unsigned integer",0.1,"%",null,"See Note 3",{"$f":"3","v":3}]
[28934,28933,"7105",1,null,"Voltage phase 2 - 6th harmonic percentage","unsigned integer",0.1,"%",null,"See Note 3",{"$f":"3","v":3}]
[28935,28934,"7106",1,null,"Voltage phase 2 - 7th harmonic percentage","unsigned integer",0.1,"%",null,"See Note 3",{"$f":"3","v":3}]
[28936,28935,"7107",1,null,"Voltage phase 2 - 8th harmonic percentage","unsigned integer",0.1,"%",null,"See Note 3",{"$f":"3","v":3}]
[28937,28936,"7108",1,null,"Voltage phase 2 - 9th harmonic percentage","unsigned integer",0.1,"%",null,"See Note 3",{"$f":"3","v":3}]
[28938,28937,"7109",1,null,"Voltage phase 2 - 10th harmonic percentage","unsigned integer",0.1,"%",null,"See Note 3",{"$f":"3","v":3}]
[28939,28938,"710A",1,null,"Voltage phase 2 - 11th harmonic percentage","unsigned integer",0.1,"%",null,"See Note 3",{"$f":"3","v":3}]
[28940,28939,"710B",1,null,"Voltage phase 2 - 12th harmonic percentage","unsigned integer",0.1,"%",null,"See Note 3",{"$f":"3","v":3}]
[28941,28940,"710C",1,null,"Voltage phase 2 - 13th harmonic percentage","unsigned integer",0.1,"%",null,"See Note 3",{"$f":"3","v":3}]
[28942,28941,"710D",1,null,"Voltage phase 2 - 14th harmonic percentage","unsigned integer",0.1,"%",null,"See Note 3",{"$f":"3","v":3}]
[28943,28942,"710E",1,null,"Voltage phase 2 - 15th harmonic percentage","unsigned integer",0.1,"%",null,"See Note 3",{"$f":"3","v":3}]
[28944,28943,"710F",1,null,"Voltage phase 2 - 16th harmonic percentage","unsigned integer",0.1,"%",null,"See Note 3",{"$f":"3","v":3}]
[28945,28944,"7110",1,null,"Voltage phase 2 - 17th harmonic percentage","unsigned integer",0.1,"%",null,"See Note 3",{"$f":"3","v":3}]
[28946,28945,"7111",1,null,"Voltage phase 2 - 18th harmonic percentage","unsigned integer",0.1,"%",null,"See Note 3",{"$f":"3","v":3}]
[28947,28946,"7112",1,null,"Voltage phase 2 - 19th harmonic percentage","unsigned integer",0.1,"%",null,"See Note 3",{"$f":"3","v":3}]
[28948,28947,"7113",1,null,"Voltage phase 2 - 20th harmonic percentage","unsigned integer",0.1,"%",null,"See Note 3",{"$f":"3","v":3}]
[28949,28948,"7114",1,null,"Voltage phase 2 - 21st harmonic percentage","unsigned integer",0.1,"%",null,"See Note 3",{"$f":"3","v":3}]
[28950,28949,"7115",1,null,"Voltage phase 2 - 22nd harmonic percentage","unsigned integer",0.1,"%",null,"See Note 3",{"$f":"3","v":3}]
[28951,28950,"7116",1,null,"Voltage phase 2 - 23rd harmonic percentage","unsigned integer",0.1,"%",null,"See Note 3",{"$f":"3","v":3}]
[28952,28951,"7117",1,null,"Voltage phase 2 - 24th harmonic percentage","unsigned integer",0.1,"%",null,"See Note 3",{"$f":"3","v":3}]
[28953,28952,"7118",1,null,"Voltage phase 2 - 25th harmonic percentage","unsigned integer",0.1,"%",null,"See Note 3",{"$f":"3","v":3}]
[28954,28953,"7119",1,null,"RESERVED (returns 0000h)",{"$nulls":5},{"$f":"3","v":3}]
[28955,28954,"711A",1,null,"RESERVED (returns 0000h)",{"$nulls":5},{"$f":"3","v":3}]
[28956,28955,"711B",1,null,"RESERVED (returns 0000h)",{"$nulls":5},{"$f":"3","v":3}]
[28957,28956,"711C",1,null,"RESERVED (returns 0000h)",{"$nulls":5},{"$f":"3","v":3}]
[28958,28957,"711D",1,null,"RESERVED (returns 0000h)",{"$nulls":5},{"$f":"3","v":3}]
[28959,28958,"711E",1,null,"RESERVED (returns 0000h)",{"$nulls":5},{"$f":"3","v":3}]
[28960,28959,"711F",1,null,"RESERVED (returns 0000h)",{"$nulls":5},{"$f":"3","v":3}]
[28961,28960,"7120",1,null,"RESERVED (returns 0000h)",{"$nulls":5},{"$f":"3","v":3}]
[28962,28961,"7121",1,null,"RESERVED (returns 0000h)",{"$nulls":5},{"$f":"3","v":3}]
[28963,28962,"7122",1,null,"RESERVED (returns 0000h)",{"$nulls":5},{"$f":"3","v":3}]
[28964,28963,"7123",1,null,"RESERVED (returns 0000h)",{"$nulls":5},{"$f":"3","v":3}]
[28965,28964,"7124",1,null,"RESERVED (returns 0000h)",{"$nulls":5},{"$f":"3","v":3}]
[28966,28965,"7125",1,null,"RESERVED (returns 0000h)",{"$nulls":5},{"$f":"3","v":3}]
[28967,28966,"7126",1,null,"RESERVED (returns 0000h)",{"$nulls":5},{"$f":"3","v":3}]
[28968,28967,"7127",1,null,"RESERVED (returns 0000h)",{"$nulls":5},{"$f":"3","v":3}]
[28969,28968,"7128",1,null,"RESERVED (returns 0000h)",{"$nulls":5},{"$f":"3","v":3}]
[28970,28969,"7129",1,null,"RESERVED (returns 0000h)",{"$nulls":5},{"$f":"3","v":3}]
[28971,28970,"712A",1,null,"RESERVED (returns 0000h)",{"$nulls":5},{"$f":"3","v":3}]
[28972,28971,"712B",1,null,"RESERVED (returns 0000h)",{"$nulls":5},{"$f":"3","v":3}]
[28973,28972,"712C",1,null,"RESERVED (returns 0000h)",{"$nulls":5},{"$f":"3","v":3}]
[28974,28973,"712D",1,null,"RESERVED (returns 0000h)",{"$nulls":5},{"$f":"3","v":3}]
[28975,28974,"712E",1,null,"RESERVED (returns 0000h)",{"$nulls":5},{"$f":"3","v":3}]
[28976,28975,"712F",1,null,"RESERVED (returns 0000h)",{"$nulls":5},{"$f":"3","v":3}]
[28977,28976,"7130",1,null,"RESERVED (returns 0000h)",{"$nulls":5},{"$f":"3","v":3}]
[28978,28977,"7131",1,null,"RESERVED (returns 0000h)",{"$nulls":5},{"$f":"3","v":3}]
[]
[{"$f":"B375+1","v":28993},28992,7140,1,null,"Voltage phase 3 - fundamental","unsigned integer",0.1,"%",null,"See Note 3",{"$f":"3","v":3}]
[28994,{"$f":"B375+D375","v":28993},{"$f":"DEC2HEX(B376)","v":"7141"},1,null,"Voltage phase 3 - 2nd harmonic percentage","unsigned integer",0.1,"%",null,"See Note 3",{"$f":"3","v":3}]
[28995,28994,"7142",1,null,"Voltage phase 3 - 3rd harmonic percentage","unsigned integer",0.1,"%",null,"See Note 3",{"$f":"3","v":3}]
[28996,28995,"7143",1,null,"Voltage phase 3 - 4th harmonic percentage","unsigned integer",0.1,"%",null,"See Note 3",{"$f":"3","v":3}]
[28997,28996,"7144",1,null,"Voltage phase 3 - 5th harmonic percentage","unsigned integer",0.1,"%",null,"See Note 3",{"$f":"3","v":3}]
[28998,28997,"7145",1,null,"Voltage phase 3 - 6th harmonic percentage","unsigned integer",0.1,"%",null,"See Note 3",{"$f":"3","v":3}]
[28999,28998,"7146",1,null,"Voltage phase 3 - 7th harmonic percentage","unsigned integer",0.1,"%",null,"See Note 3",{"$f":"3","v":3}]
[29000,28999,"7147",1,null,"Voltage phase 3 - 8th harmonic percentage","unsigned integer",0.1,"%",null,"See Note 3",{"$f":"3","v":3}]
[29001,29000,"7148",1,null,"Voltage phase 3 - 9th harmonic percentage","unsigned integer",0.1,"%",null,"See Note 3",{"$f":"3","v":3}]
[29002,29001,"7149",1,null,"Voltage phase 3 - 10th harmonic percentage","unsigned integer",0.1,"%",null,"See Note 3",{"$f":"3","v":3}]
[29003,29002,"714A",1,null,"Voltage phase 3 - 11th harmonic percentage","unsigned integer",0.1,"%",null,"See Note 3",{"$f":"3","v":3}]
[29004,29003,"714B",1,null,"Voltage phase 3 - 12th harmonic percentage","unsigned integer",0.1,"%",null,"See Note 3",{"$f":"3","v":3}]
[29005,29004,"714C",1,null,"Voltage phase 3 - 13th harmonic percentage","unsigned integer",0.1,"%",null,"See Note 3",{"$f":"3","v":3}]
[29006,29005,"714D",1,null,"Voltage phase 3 - 14th harmonic percentage","unsigned integer",0.1,"%",null,"See Note 3",{"$f":"3","v":3}]
[29007,29006,"714E",1,null,"Voltage phase 3 - 15th harmonic percentage","unsigned integer",0.1,"%",null,"See Note 3",{"$f":"3","v":3}]
[29008,29007,"714F",1,null,"Voltage phase 3 - 16th harmonic percentage","unsigned integer",0.1,"%",null,"See Note 3",{"$f":"3","v":3}]
[29009,29008,"7150",1,null,"Voltage phase 3 - 17th harmonic percentage","unsigned integer",0.1,"%",null,"See Note 3",{"$f":"3","v":3}]
[29010,29009,"7151",1,null,"Voltage phase 3 - 18th harmonic percentage","unsigned integer",0.1,"%",null,"See Note 3",{"$f":"3","v":3}]
[29011,29010,"7152",1,null,"Voltage phase 3 - 19th harmonic percentage","unsigned integer",0.1,"%",null,"See Note 3",{"$f":"3","v":3}]
[29012,29011,"7153",1,null,"Voltage phase 3 - 20th harmonic percentage","unsigned integer",0.1,"%",null,"See Note 3",{"$f":"3","v":3}]
[29013,29012,"7154",1,null,"Voltage phase 3 - 21st harmonic percentage","unsigned integer",0.1,"%",null,"See Note 3",{"$f":"3","v":3}]
[29014,29013,"7155",1,null,"Voltage phase 3 - 22nd harmonic percentage","unsigned integer",0.1,"%",null,"See Note 3",{"$f":"3","v":3}]
[29015,29014,"7156",1,null,"Voltage phase 3 - 23rd harmonic percentage","unsigned integer",0.1,"%",null,"See Note 3",{"$f":"3","v":3}]
[29016,29015,"7157",1,null,"Voltage phase 3 - 24th harmonic percentage","unsigned integer",0.1,"%",null,"See Note 3",{"$f":"3","v":3}]
[29017,29016,"7158",1,null,"Voltage phase 3 - 25th harmonic percentage","unsigned integer",0.1,"%",null,"See Note 3",{"$f":"3","v":3}]
[29018,29017,"7159",1,null,"RESERVED (returns 0000h)",{"$nulls":5},{"$f":"3","v":3}]
[29019,29018,"715A",1,null,"RESERVED (returns 0000h)",{"$nulls":5},{"$f":"3","v":3}]
[29020,29019,"715B",1,null,"RESERVED (returns 0000h)",{"$nulls":5},{"$f":"3","v":3}]
[29021,29020,"715C",1,null,"RESERVED (returns 0000h)",{"$nulls":5},{"$f":"3","v":3}]
[29022,29021,"715D",1,null,"RESERVED (returns 0000h)",{"$nulls":5},{"$f":"3","v":3}]
[29023,29022,"715E",1,null,"RESERVED (returns 0000h)",{"$nulls":5},{"$f":"3","v":3}]
[29024,29023,"715F",1,null,"RESERVED (returns 0000h)",{"$nulls":5},{"$f":"3","v":3}]
[29025,29024,"7160",1,null,"RESERVED (returns 0000h)",{"$nulls":5},{"$f":"3","v":3}]
[29026,29025,"7161",1,null,"RESERVED (returns 0000h)",{"$nulls":5},{"$f":"3","v":3}]
[29027,29026,"7162",1,null,"RESERVED (returns 0000h)",{"$nulls":5},{"$f":"3","v":3}]
[29028,29027,"7163",1,null,"RESERVED (returns 0000h)",{"$nulls":5},{"$f":"3","v":3}]
[29029,29028,"7164",1,null,"RESERVED (returns 0000h)",{"$nulls":5},{"$f":"3","v":3}]
[29030,29029,"7165",1,null,"RESERVED (returns 0000h)",{"$nulls":5},{"$f":"3","v":3}]
[29031,29030,"7166",1,null,"RESERVED (returns 0000h)",{"$nulls":5},{"$f":"3","v":3}]
[29032,29031,"7167",1,null,"RESERVED (returns 0000h)",{"$nulls":5},{"$f":"3","v":3}]
[29033,29032,"7168",1,null,"RESERVED (returns 0000h)",{"$nulls":5},{"$f":"3","v":3}]
[29034,29033,"7169",1,null,"RESERVED (returns 0000h)",{"$nulls":5},{"$f":"3","v":3}]
[29035,29034,"716A",1,null,"RESERVED (returns 0000h)",{"$nulls":5},{"$f":"3","v":3}]
[29036,29035,"716B",1,null,"RESERVED (returns 0000h)",{"$nulls":5},{"$f":"3","v":3}]
[29037,29036,"716C",1,null,"RESERVED (returns 0000h)",{"$nulls":5},{"$f":"3","v":3}]
[29038,29037,"716D",1,null,"RESERVED (returns 0000h)",{"$nulls":5},{"$f":"3","v":3}]
[29039,29038,"716E",1,null,"RESERVED (returns 0000h)",{"$nulls":5},{"$f":"3","v":3}]
[29040,29039,"716F",1,null,"RESERVED (returns 0000h)",{"$nulls":5},{"$f":"3","v":3}]
[29041,29040,"7170",1,null,"RESERVED (returns 0000h)",{"$nulls":5},{"$f":"3","v":3}]
[29042,29041,"7171",1,null,"RESERVED (returns 0000h)",{"$nulls":5},{"$f":"3","v":3}]
[{"$f":"B425+1","v":29185},29184,7200,{"$f":"SUM(D426:D526)","v":200}]
[{"$f":"B426+1","v":29185},29184,7200,2,null,"Current phase 1 - 1st harmonic (rms) ","unsigned integer",1,"mA",null,null,{"$f":"3","v":3}]
[29187,{"$f":"B426+D426","v":29186},{"$f":"DEC2HEX(B427)","v":"7202"},2,null,"Current phase 1 - 2nd harmonic (rms)","unsigned integer",1,"mA",null,null,{"$f":"3","v":3}]
[{"$f":"B428+1","v":29189},{"$f":"B427+D427","v":29188},{"$f":"DEC2HEX(B428)","v":"7204"},2,null,"Current phase 1 - 3rd harmonic (rms)","unsigned integer",1,"mA",null,null,{"$f":"3","v":3}]
[29191,29190,"7206",2,null,"Current phase 1 - 4th harmonic (rms)","unsigned integer",1,"mA",null,null,{"$f":"3","v":3}]
[29193,29192,"7208",2,null,"Current phase 1 - 5th harmonic (rms)","unsigned integer",1,"mA",null,null,{"$f":"3","v":3}]
[29195,29194,"720A",2,null,"Current phase 1 - 6th harmonic (rms)","unsigned integer",1,"mA",null,null,{"$f":"3","v":3}]
[29197,29196,"720C",2,null,"Current phase 1 - 7th harmonic (rms)","unsigned integer",1,"mA",null,null,{"$f":"3","v":3}]
[29199,29198,"720E",2,null,"Current phase 1 - 8th harmonic (rms)","unsigned integer",1,"mA",null,null,{"$f":"3","v":3}]
[29201,29200,"7210",2,null,"Current phase 1 - 9th harmonic (rms)","unsigned integer",1,"mA",null,null,{"$f":"3","v":3}]
[29203,29202,"7212",2,null,"Current phase 1 - 10th harmonic (rms)","unsigned integer",1,"mA",null,null,{"$f":"3","v":3}]
[29205,29204,"7214",2,null,"Current phase 1 - 11th harmonic (rms)","unsigned integer",1,"mA",null,null,{"$f":"3","v":3}]
[29207,29206,"7216",2,null,"Current phase 1 - 12th harmonic (rms)","unsigned integer",1,"mA",null,null,{"$f":"3","v":3}]
[29209,29208,"7218",2,null,"Current phase 1 - 13th harmonic (rms)","unsigned integer",1,"mA",null,null,{"$f":"3","v":3}]
[29211,29210,"721A",2,null,"Current phase 1 - 14th harmonic (rms)","unsigned integer",1,"mA",null,null,{"$f":"3","v":3}]
[29213,29212,"721C",2,null,"Current phase 1 - 15th harmonic (rms)","unsigned integer",1,"mA",null,null,{"$f":"3","v":3}]
[29215,29214,"721E",2,null,"Current phase 1 - 16th harmonic (rms)","unsigned integer",1,"mA",null,null,{"$f":"3","v":3}]
[29217,29216,"7220",2,null,"Current phase 1 - 17th harmonic (rms)","unsigned integer",1,"mA",null,null,{"$f":"3","v":3}]
[29219,29218,"7222",2,null,"Current phase 1 - 18th harmonic (rms)","unsigned integer",1,"mA",null,null,{"$f":"3","v":3}]
[29221,29220,"7224",2,null,"Current phase 1 - 19th harmonic (rms)","unsigned integer",1,"mA",null,null,{"$f":"3","v":3}]
[29223,29222,"7226",2,null,"Current phase 1 - 20th harmonic (rms)","unsigned integer",1,"mA",null,null,{"$f":"3","v":3}]
[29225,29224,"7228",2,null,"Current phase 1 - 21st harmonic (rms)","unsigned integer",1,"mA",null,null,{"$f":"3","v":3}]
[29227,29226,"722A",2,null,"Current phase 1 - 22nd harmonic (rms)","unsigned integer",1,"mA",null,null,{"$f":"3","v":3}]
[29229,29228,"722C",2,null,"Current phase 1 - 23rd harmonic (rms)","unsigned integer",1,"mA",null,null,{"$f":"3","v":3}]
[29231,29230,"722E",2,null,"Current phase 1 - 24th harmonic (rms)","unsigned integer",1,"mA",null,null,{"$f":"3","v":3}]
[29233,29232,"7230",2,null,"Current phase 1 - 25th harmonic (rms)","unsigned integer",1,"mA",null,null,{"$f":"3","v":3}]
[29235,29234,"7232",2,null,"RESERVED (returns 0000 0000h)",{"$nulls":5},{"$f":"3","v":3}]
[29237,29236,"7234",2,null,"RESERVED (returns 0000 0000h)",{"$nulls":5},{"$f":"3","v":3}]
[29239,29238,"7236",2,null,"RESERVED (returns 0000 0000h)",{"$nulls":5},{"$f":"3","v":3}]
[29241,29240,"7238",2,null,"RESERVED (returns 0000 0000h)",{"$nulls":5},{"$f":"3","v":3}]
[29243,29242,"723A",2,null,"RESERVED (returns 0000 0000h)",{"$nulls":5},{"$f":"3","v":3}]
[29245,29244,"723C",2,null,"RESERVED (returns 0000 0000h)",{"$nulls":5},{"$f":"3","v":3}]
[29247,29246,"723E",2,null,"RESERVED (returns 0000 0000h)",{"$nulls":5},{"$f":"3","v":3}]
[29249,29248,"7240",2,null,"RESERVED (returns 0000 0000h)",{"$nulls":5},{"$f":"3","v":3}]
[29251,29250,"7242",2,null,"RESERVED (returns 0000 0000h)",{"$nulls":5},{"$f":"3","v":3}]
[29253,29252,"7244",2,null,"RESERVED (returns 0000 0000h)",{"$nulls":5},{"$f":"3","v":3}]
[29255,29254,"7246",2,null,"RESERVED (returns 0000 0000h)",{"$nulls":5},{"$f":"3","v":3}]
[29257,29256,"7248",2,null,"RESERVED (returns 0000 0000h)",{"$nulls":5},{"$f":"3","v":3}]
[29259,29258,"724A",2,null,"RESERVED (returns 0000 0000h)",{"$nulls":5},{"$f":"3","v":3}]
[29261,29260,"724C",2,null,"RESERVED (returns 0000 0000h)",{"$nulls":5},{"$f":"3","v":3}]
[29263,29262,"724E",2,null,"RESERVED (returns 0000 0000h)",{"$nulls":5},{"$f":"3","v":3}]
[29265,29264,"7250",2,null,"RESERVED (returns 0000 0000h)",{"$nulls":5},{"$f":"3","v":3}]
[29267,29266,"7252",2,null,"RESERVED (returns 0000 0000h)",{"$nulls":5},{"$f":"3","v":3}]
[29269,29268,"7254",2,null,"RESERVED (returns 0000 0000h)",{"$nulls":5},{"$f":"3","v":3}]
[29271,29270,"7256",2,null,"RESERVED (returns 0000 0000h)",{"$nulls":5},{"$f":"3","v":3}]
[29273,29272,"7258",2,null,"RESERVED (returns 0000 0000h)",{"$nulls":5},{"$f":"3","v":3}]
[29275,29274,"725A",2,null,"RESERVED (returns 0000 0000h)",{"$nulls":5},{"$f":"3","v":3}]
[29277,29276,"725C",2,null,"RESERVED (returns 0000 0000h)",{"$nulls":5},{"$f":"3","v":3}]
[29279,29278,"725E",2,null,"RESERVED (returns 0000 0000h)",{"$nulls":5},{"$f":"3","v":3}]
[29281,29280,"7260",2,null,"RESERVED (returns 0000 0000h)",{"$nulls":5},{"$f":"3","v":3}]
[29283,29282,"7262",2,null,"RESERVED (returns 0000 0000h)",{"$nulls":5},{"$f":"3","v":3}]
[]
[{"$f":"B477+1","v":29313},29312,7280,2,null,"Current phase 2 - 1st harmonic (rms) ","unsigned integer",1,"mA",null,null,{"$f":"3","v":3}]
[{"$f":"B478+1","v":29315},{"$f":"B477+D477","v":29314},{"$f":"DEC2HEX(B478)","v":"7282"},2,null,"Current phase 2 - 2nd harmonic (rms)","unsigned integer",1,"mA",null,null,{"$f":"3","v":3}]
[{"$f":"B479+1","v":29317},{"$f":"B478+D478","v":29316},{"$f":"DEC2HEX(B479)","v":"7284"},2,null,"Current phase 2 - 3rd harmonic (rms)","unsigned integer",1,"mA",null,null,{"$f":"3","v":3}]
[29319,29318,"7286",2,null,"Current phase 2 - 4th harmonic (rms)","unsigned integer",1,"mA",null,null,{"$f":"3","v":3}]
[{"$f":"B481+1","v":29321},{"$f":"B480+D480","v":29320},{"$f":"DEC2HEX(B481)","v":"7288"},2,null,"Current phase 2 - 5th harmonic (rms)","unsigned integer",1,"mA",null,null,{"$f":"3","v":3}]
[29323,29322,"728A",2,null,"Current phase 2 - 6th harmonic (rms)","unsigned integer",1,"mA",null,null,{"$f":"3","v":3}]
[29325,29324,"728C",2,null,"Current phase 2 - 7th harmonic (rms)","unsigned integer",1,"mA",null,null,{"$f":"3","v":3}]
[29327,29326,"728E",2,null,"Current phase 2 - 8th harmonic (rms)","unsigned integer",1,"mA",null,null,{"$f":"3","v":3}]
[29329,29328,"7290",2,null,"Current phase 2 - 9th harmonic (rms)","unsigned integer",1,"mA",null,null,{"$f":"3","v":3}]
[29331,29330,"7292",2,null,"Current phase 2 - 10th harmonic (rms)","unsigned integer",1,"mA",null,null,{"$f":"3","v":3}]
[29333,29332,"7294",2,null,"Current phase 2 - 11th harmonic (rms)","unsigned integer",1,"mA",null,null,{"$f":"3","v":3}]
[29335,29334,"7296",2,null,"Current phase 2 - 12th harmonic (rms)","unsigned integer",1,"mA",null,null,{"$f":"3","v":3}]
[29337,29336,"7298",2,null,"Current phase 2 - 13th harmonic (rms)","unsigned integer",1,"mA",null,null,{"$f":"3","v":3}]
[29339,29338,"729A",2,null,"Current phase 2 - 14th harmonic (rms)","unsigned integer",1,"mA",null,null,{"$f":"3","v":3}]
[29341,29340,"729C",2,null,"Current phase 2 - 15th harmonic (rms)","unsigned integer",1,"mA",null,null,{"$f":"3","v":3}]
[29343,29342,"729E",2,null,"Current phase 2 - 16th harmonic (rms)","unsigned integer",1,"mA",null,null,{"$f":"3","v":3}]
[29345,29344,"72A0",2,null,"Current phase 2 - 17th harmonic (rms)","unsigned integer",1,"mA",null,null,{"$f":"3","v":3}]
[29347,29346,"72A2",2,null,"Current phase 2 - 18th harmonic (rms)","unsigned integer",1,"mA",null,null,{"$f":"3","v":3}]
[29349,29348,"72A4",2,null,"Current phase 2 - 19th harmonic (rms)","unsigned integer",1,"mA",null,null,{"$f":"3","v":3}]
[29351,29350,"72A6",2,null,"Current phase 2 - 20th harmonic (rms)","unsigned integer",1,"mA",null,null,{"$f":"3","v":3}]
[29353,29352,"72A8",2,null,"Current phase 2 - 21st harmonic (rms)","unsigned integer",1,"mA",null,null,{"$f":"3","v":3}]
[29355,29354,"72AA",2,null,"Current phase 2 - 22nd harmonic (rms)","unsigned integer",1,"mA",null,null,{"$f":"3","v":3}]
[29357,29356,"72AC",2,null,"Current phase 2 - 23rd harmonic (rms)","unsigned integer",1,"mA",null,null,{"$f":"3","v":3}]
[29359,29358,"72AE",2,null,"Current phase 2 - 24th harmonic (rms)","unsigned integer",1,"mA",null,null,{"$f":"3","v":3}]
[29361,29360,"72B0",2,null,"Current phase 2 - 25th harmonic (rms)","unsigned integer",1,"mA",null,null,{"$f":"3","v":3}]
[29363,29362,"72B2",2,null,"RESERVED (returns 0000 0000h)",{"$nulls":5},{"$f":"3","v":3}]
[29365,29364,"72B4",2,null,"RESERVED (returns 0000 0000h)",{"$nulls":5},{"$f":"3","v":3}]
[29367,29366,"72B6",2,null,"RESERVED (returns 0000 0000h)",{"$nulls":5},{"$f":"3","v":3}]
[29369,29368,"72B8",2,null,"RESERVED (returns 0000 0000h)",{"$nulls":5},{"$f":"3","v":3}]
[29371,29370,"72BA",2,null,"RESERVED (returns 0000 0000h)",{"$nulls":5},{"$f":"3","v":3}]
[29373,29372,"72BC",2,null,"RESERVED (returns 0000 0000h)",{"$nulls":5},{"$f":"3","v":3}]
[29375,29374,"72BE",2,null,"RESERVED (returns 0000 0000h)",{"$nulls":5},{"$f":"3","v":3}]
[29377,29376,"72C0",2,null,"RESERVED (returns 0000 0000h)",{"$nulls":5},{"$f":"3","v":3}]
[29379,29378,"72C2",2,null,"RESERVED (returns 0000 0000h)",{"$nulls":5},{"$f":"3","v":3}]
[29381,29380,"72C4",2,null,"RESERVED (returns 0000 0000h)",{"$nulls":5},{"$f":"3","v":3}]
[29383,29382,"72C6",2,null,"RESERVED (returns 0000 0000h)",{"$nulls":5},{"$f":"3","v":3}]
[29385,29384,"72C8",2,null,"RESERVED (returns 0000 0000h)",{"$nulls":5},{"$f":"3","v":3}]
[29387,29386,"72CA",2,null,"RESERVED (returns 0000 0000h)",{"$nulls":5},{"$f":"3","v":3}]
[29389,29388,"72CC",2,null,"RESERVED (returns 0000 0000h)",{"$nulls":5},{"$f":"3","v":3}]
[29391,29390,"72CE",2,null,"RESERVED (returns 0000 0000h)",{"$nulls":5},{"$f":"3","v":3}]
[29393,29392,"72D0",2,null,"RESERVED (returns 0000 0000h)",{"$nulls":5},{"$f":"3","v":3}]
[29395,29394,"72D2",2,null,"RESERVED (returns 0000 0000h)",{"$nulls":5},{"$f":"3","v":3}]
[29397,29396,"72D4",2,null,"RESERVED (returns 0000 0000h)",{"$nulls":5},{"$f":"3","v":3}]
[29399,29398,"72D6",2,null,"RESERVED (returns 0000 0000h)",{"$nulls":5},{"$f":"3","v":3}]
[29401,29400,"72D8",2,null,"RESERVED (returns 0000 0000h)",{"$nulls":5},{"$f":"3","v":3}]
[29403,29402,"72DA",2,null,"RESERVED (returns 0000 0000h)",{"$nulls":5},{"$f":"3","v":3}]
[29405,29404,"72DC",2,null,"RESERVED (returns 0000 0000h)",{"$nulls":5},{"$f":"3","v":3}]
[29407,29406,"72DE",2,null,"RESERVED (returns 0000 0000h)",{"$nulls":5},{"$f":"3","v":3}]
[29409,29408,"72E0",2,null,"RESERVED (returns 0000 0000h)",{"$nulls":5},{"$f":"3","v":3}]
[29411,29410,"72E2",2,null,"RESERVED (returns 0000 0000h)",{"$nulls":5},{"$f":"3","v":3}]
[{"$f":"B527+1","v":29441},29440,7300,{"$f":"SUM(D528:D628)","v":200}]
[{"$f":"B528+1","v":29441},29440,7300,2,null,"Current phase 3 - 1st harmonic (rms) ","unsigned integer",1,"mA",null,null,{"$f":"3","v":3}]
[29443,{"$f":"B528+D528","v":29442},{"$f":"DEC2HEX(B529)","v":"7302"},2,null,"Current phase 3 - 2nd harmonic (rms)","unsigned integer",1,"mA",null,null,{"$f":"3","v":3}]
[29445,29444,"7304",2,null,"Current phase 3 - 3rd harmonic (rms)","unsigned integer",1,"mA",null,null,{"$f":"3","v":3}]
[29447,29446,"7306",2,null,"Current phase 3 - 4th harmonic (rms)","unsigned integer",1,"mA",null,null,{"$f":"3","v":3}]
[29449,29448,"7308",2,null,"Current phase 3 - 5th harmonic (rms)","unsigned integer",1,"mA",null,null,{"$f":"3","v":3}]
[29451,29450,"730A",2,null,"Current phase 3 - 6th harmonic (rms)","unsigned integer",1,"mA",null,null,{"$f":"3","v":3}]
[29453,29452,"730C",2,null,"Current phase 3 - 7th harmonic (rms)","unsigned integer",1,"mA",null,null,{"$f":"3","v":3}]
[29455,29454,"730E",2,null,"Current phase 3 - 8th harmonic (rms)","unsigned integer",1,"mA",null,null,{"$f":"3","v":3}]
[29457,29456,"7310",2,null,"Current phase 3 - 9th harmonic (rms)","unsigned integer",1,"mA",null,null,{"$f":"3","v":3}]
[29459,29458,"7312",2,null,"Current phase 3 - 10th harmonic (rms)","unsigned integer",1,"mA",null,null,{"$f":"3","v":3}]
[29461,29460,"7314",2,null,"Current phase 3 - 11th harmonic (rms)","unsigned integer",1,"mA",null,null,{"$f":"3","v":3}]
[29463,29462,"7316",2,null,"Current phase 3 - 12th harmonic (rms)","unsigned integer",1,"mA",null,null,{"$f":"3","v":3}]
[29465,29464,"7318",2,null,"Current phase 3 - 13th harmonic (rms)","unsigned integer",1,"mA",null,null,{"$f":"3","v":3}]
[29467,29466,"731A",2,null,"Current phase 3 - 14th harmonic (rms)","unsigned integer",1,"mA",null,null,{"$f":"3","v":3}]
[29469,29468,"731C",2,null,"Current phase 3 - 15th harmonic (rms)","unsigned integer",1,"mA",null,null,{"$f":"3","v":3}]
[29471,29470,"731E",2,null,"Current phase 3 - 16th harmonic (rms)","unsigned integer",1,"mA",null,null,{"$f":"3","v":3}]
[29473,29472,"7320",2,null,"Current phase 3 - 17th harmonic (rms)","unsigned integer",1,"mA",null,null,{"$f":"3","v":3}]
[29475,29474,"7322",2,null,"Current phase 3 - 18th harmonic (rms)","unsigned integer",1,"mA",null,null,{"$f":"3","v":3}]
[29477,29476,"7324",2,null,"Current phase 3 - 19th harmonic (rms)","unsigned integer",1,"mA",null,null,{"$f":"3","v":3}]
[29479,29478,"7326",2,null,"Current phase 3 - 20th harmonic (rms)","unsigned integer",1,"mA",null,null,{"$f":"3","v":3}]
[29481,29480,"7328",2,null,"Current phase 3 - 21st harmonic (rms)","unsigned integer",1,"mA",null,null,{"$f":"3","v":3}]
[29483,29482,"732A",2,null,"Current phase 3 - 22nd harmonic (rms)","unsigned integer",1,"mA",null,null,{"$f":"3","v":3}]
[29485,29484,"732C",2,null,"Current phase 3 - 23rd harmonic (rms)","unsigned integer",1,"mA",null,null,{"$f":"3","v":3}]
[29487,29486,"732E",2,null,"Current phase 3 - 24th harmonic (rms)","unsigned integer",1,"mA",null,null,{"$f":"3","v":3}]
[29489,29488,"7330",2,null,"Current phase 3 - 25th harmonic (rms)","unsigned integer",1,"mA",null,null,{"$f":"3","v":3}]
[29491,29490,"7332",2,null,"RESERVED (returns 0000 0000h)",{"$nulls":5},{"$f":"3","v":3}]
[29493,29492,"7334",2,null,"RESERVED (returns 0000 0000h)",{"$nulls":5},{"$f":"3","v":3}]
[29495,29494,"7336",2,null,"RESERVED (returns 0000 0000h)",{"$nulls":5},{"$f":"3","v":3}]
[29497,29496,"7338",2,null,"RESERVED (returns 0000 0000h)",{"$nulls":5},{"$f":"3","v":3}]
[29499,29498,"733A",2,null,"RESERVED (returns 0000 0000h)",{"$nulls":5},{"$f":"3","v":3}]
[29501,29500,"733C",2,null,"RESERVED (returns 0000 0000h)",{"$nulls":5},{"$f":"3","v":3}]
[29503,29502,"733E",2,null,"RESERVED (returns 0000 0000h)",{"$nulls":5},{"$f":"3","v":3}]
[29505,29504,"7340",2,null,"RESERVED (returns 0000 0000h)",{"$nulls":5},{"$f":"3","v":3}]
[29507,29506,"7342",2,null,"RESERVED (returns 0000 0000h)",{"$nulls":5},{"$f":"3","v":3}]
[29509,29508,"7344",2,null,"RESERVED (returns 0000 0000h)",{"$nulls":5},{"$f":"3","v":3}]
[29511,29510,"7346",2,null,"RESERVED (returns 0000 0000h)",{"$nulls":5},{"$f":"3","v":3}]
[29513,29512,"7348",2,null,"RESERVED (returns 0000 0000h)",{"$nulls":5},{"$f":"3","v":3}]
[29515,29514,"734A",2,null,"RESERVED (returns 0000 0000h)",{"$nulls":5},{"$f":"3","v":3}]
[29517,29516,"734C",2,null,"RESERVED (returns 0000 0000h)",{"$nulls":5},{"$f":"3","v":3}]
[29519,29518,"734E",2,null,"RESERVED (returns 0000 0000h)",{"$nulls":5},{"$f":"3","v":3}]
[29521,29520,"7350",2,null,"RESERVED (returns 0000 0000h)",{"$nulls":5},{"$f":"3","v":3}]
[29523,29522,"7352",2,null,"RESERVED (returns 0000 0000h)",{"$nulls":5},{"$f":"3","v":3}]
[29525,29524,"7354",2,null,"RESERVED (returns 0000 0000h)",{"$nulls":5},{"$f":"3","v":3}]
[29527,29526,"7356",2,null,"RESERVED (returns 0000 0000h)",{"$nulls":5},{"$f":"3","v":3}]
[29529,29528,"7358",2,null,"RESERVED (returns 0000 0000h)",{"$nulls":5},{"$f":"3","v":3}]
[29531,29530,"735A",2,null,"RESERVED (returns 0000 0000h)",{"$nulls":5},{"$f":"3","v":3}]
[29533,29532,"735C",2,null,"RESERVED (returns 0000 0000h)",{"$nulls":5},{"$f":"3","v":3}]
[29535,29534,"735E",2,null,"RESERVED (returns 0000 0000h)",{"$nulls":5},{"$f":"3","v":3}]
[29537,29536,"7360",2,null,"RESERVED (returns 0000 0000h)",{"$nulls":5},{"$f":"3","v":3}]
[29539,29538,"7362",2,null,"RESERVED (returns 0000 0000h)",{"$nulls":5},{"$f":"3","v":3}]
[]
[{"$f":"B579+1","v":29569},29568,7380,2,null,"Voltage phase 1 - 1st harmonic (rms) ","unsigned integer",1,"mV",null,"See Note 3",{"$f":"3","v":3}]
[29571,{"$f":"B579+D579","v":29570},{"$f":"DEC2HEX(B580)","v":"7382"},2,null,"Voltage phase 1 - 2nd harmonic (rms)","unsigned integer",1,"mV",null,"See Note 3",{"$f":"3","v":3}]
[{"$f":"B581+1","v":29573},{"$f":"B580+D580","v":29572},{"$f":"DEC2HEX(B581)","v":"7384"},2,null,"Voltage phase 1 - 3rd harmonic (rms)","unsigned integer",1,"mV",null,"See Note 3",{"$f":"3","v":3}]
[29575,29574,"7386",2,null,"Voltage phase 1 - 4th harmonic (rms)","unsigned integer",1,"mV",null,"See Note 3",{"$f":"3","v":3}]
[29577,29576,"7388",2,null,"Voltage phase 1 - 5th harmonic (rms)","unsigned integer",1,"mV",null,"See Note 3",{"$f":"3","v":3}]
[29579,29578,"738A",2,null,"Voltage phase 1 - 6th harmonic (rms)","unsigned integer",1,"mV",null,"See Note 3",{"$f":"3","v":3}]
[29581,29580,"738C",2,null,"Voltage phase 1 - 7th harmonic (rms)","unsigned integer",1,"mV",null,"See Note 3",{"$f":"3","v":3}]
[29583,29582,"738E",2,null,"Voltage phase 1 - 8th harmonic (rms)","unsigned integer",1,"mV",null,"See Note 3",{"$f":"3","v":3}]
[29585,29584,"7390",2,null,"Voltage phase 1 - 9th harmonic (rms)","unsigned integer",1,"mV",null,"See Note 3",{"$f":"3","v":3}]
[29587,29586,"7392",2,null,"Voltage phase 1 - 10th harmonic (rms)","unsigned integer",1,"mV",null,"See Note 3",{"$f":"3","v":3}]
[29589,29588,"7394",2,null,"Voltage phase 1 - 11th harmonic (rms)","unsigned integer",1,"mV",null,"See Note 3",{"$f":"3","v":3}]
[29591,29590,"7396",2,null,"Voltage phase 1 - 12th harmonic (rms)","unsigned integer",1,"mV",null,"See Note 3",{"$f":"3","v":3}]
[29593,29592,"7398",2,null,"Voltage phase 1 - 13th harmonic (rms)","unsigned integer",1,"mV",null,"See Note 3",{"$f":"3","v":3}]
[29595,29594,"739A",2,null,"Voltage phase 1 - 14th harmonic (rms)","unsigned integer",1,"mV",null,"See Note 3",{"$f":"3","v":3}]
[29597,29596,"739C",2,null,"Voltage phase 1 - 15th harmonic (rms)","unsigned integer",1,"mV",null,"See Note 3",{"$f":"3","v":3}]
[29599,29598,"739E",2,null,"Voltage phase 1 - 16th harmonic (rms)","unsigned integer",1,"mV",null,"See Note 3",{"$f":"3","v":3}]
[29601,29600,"73A0",2,null,"Voltage phase 1 - 17th harmonic (rms)","unsigned integer",1,"mV",null,"See Note 3",{"$f":"3","v":3}]
[29603,29602,"73A2",2,null,"Voltage phase 1 - 18th harmonic (rms)","unsigned integer",1,"mV",null,"See Note 3",{"$f":"3","v":3}]
[29605,29604,"73A4",2,null,"Voltage phase 1 - 19th harmonic (rms)","unsigned integer",1,"mV",null,"See Note 3",{"$f":"3","v":3}]
[29607,29606,"73A6",2,null,"Voltage phase 1 - 20th harmonic (rms)","unsigned integer",1,"mV",null,"See Note 3",{"$f":"3","v":3}]
[29609,29608,"73A8",2,null,"Voltage phase 1 - 21st harmonic (rms)","unsigned integer",1,"mV",null,"See Note 3",{"$f":"3","v":3}]
[29611,29610,"73AA",2,null,"Voltage phase 1 - 22nd harmonic (rms)","unsigned integer",1,"mV",null,"See Note 3",{"$f":"3","v":3}]
[29613,29612,"73AC",2,null,"Voltage phase 1 - 23rd harmonic (rms)","unsigned integer",1,"mV",null,"See Note 3",{"$f":"3","v":3}]
[29615,29614,"73AE",2,null,"Voltage phase 1 - 24th harmonic (rms)","unsigned integer",1,"mV",null,"See Note 3",{"$f":"3","v":3}]
[29617,29616,"73B0",2,null,"Voltage phase 1 - 25th harmonic (rms)","unsigned integer",1,"mV",null,"See Note 3",{"$f":"3","v":3}]
[29619,29618,"73B2",2,null,"RESERVED (returns 0000 0000h)",{"$nulls":5},{"$f":"3","v":3}]
[29621,29620,"73B4",2,null,"RESERVED (returns 0000 0000h)",{"$nulls":5},{"$f":"3","v":3}]
[29623,29622,"73B6",2,null,"RESERVED (returns 0000 0000h)",{"$nulls":5},{"$f":"3","v":3}]
[29625,29624,"73B8",2,null,"RESERVED (returns 0000 0000h)",{"$nulls":5},{"$f":"3","v":3}]
[29627,29626,"73BA",2,null,"RESERVED (returns 0000 0000h)",{"$nulls":5},{"$f":"3","v":3}]
[29629,29628,"73BC",2,null,"RESERVED (returns 0000 0000h)",{"$nulls":5},{"$f":"3","v":3}]
[29631,29630,"73BE",2,null,"RESERVED (returns 0000 0000h)",{"$nulls":5},{"$f":"3","v":3}]
[29633,29632,"73C0",2,null,"RESERVED (returns 0000 0000h)",{"$nulls":5},{"$f":"3","v":3}]
[29635,29634,"73C2",2,null,"RESERVED (returns 0000 0000h)",{"$nulls":5},{"$f":"3","v":3}]
[29637,29636,"73C4",2,null,"RESERVED (returns 0000 0000h)",{"$nulls":5},{"$f":"3","v":3}]
[29639,29638,"73C6",2,null,"RESERVED (returns 0000 0000h)",{"$nulls":5},{"$f":"3","v":3}]
[29641,29640,"73C8",2,null,"RESERVED (returns 0000 0000h)",{"$nulls":5},{"$f":"3","v":3}]
[29643,29642,"73CA",2,null,"RESERVED (returns 0000 0000h)",{"$nulls":5},{"$f":"3","v":3}]
[29645,29644,"73CC",2,null,"RESERVED (returns 0000 0000h)",{"$nulls":5},{"$f":"3","v":3}]
[29647,29646,"73CE",2,null,"RESERVED (returns 0000 0000h)",{"$nulls":5},{"$f":"3","v":3}]
[29649,29648,"73D0",2,null,"RESERVED (returns 0000 0000h)",{"$nulls":5},{"$f":"3","v":3}]
[29651,29650,"73D2",2,null,"RESERVED (returns 0000 0000h)",{"$nulls":5},{"$f":"3","v":3}]
[29653,29652,"73D4",2,null,"RESERVED (returns 0000 0000h)",{"$nulls":5},{"$f":"3","v":3}]
[29655,29654,"73D6",2,null,"RESERVED (returns 0000 0000h)",{"$nulls":5},{"$f":"3","v":3}]
[29657,29656,"73D8",2,null,"RESERVED (returns 0000 0000h)",{"$nulls":5},{"$f":"3","v":3}]
[29659,29658,"73DA",2,null,"RESERVED (returns 0000 0000h)",{"$nulls":5},{"$f":"3","v":3}]
[29661,29660,"73DC",2,null,"RESERVED (returns 0000 0000h)",{"$nulls":5},{"$f":"3","v":3}]
[29663,29662,"73DE",2,null,"RESERVED (returns 0000 0000h)",{"$nulls":5},{"$f":"3","v":3}]
[29665,29664,"73E0",2,null,"RESERVED (returns 0000 0000h)",{"$nulls":5},{"$f":"3","v":3}]
[29667,29666,{"$f":"DEC2HEX(B628)","v":"73E2"},2,null,"RESERVED (returns 0000 0000h)",{"$nulls":5},{"$f":"3","v":3}]
[{"$f":"B629+1","v":29697},29696,7400,{"$f":"SUM(D630:D730)","v":200}]
[{"$f":"B630+1","v":29697},29696,7400,2,null,"Voltage phase 2 - 1st harmonic (rms) ","unsigned integer",1,"mV",null,"See Note 3",{"$f":"3","v":3}]
[29699,{"$f":"B630+D630","v":29698},{"$f":"DEC2HEX(B631)","v":"7402"},2,null,"Voltage phase 2 - 2nd harmonic (rms)","unsigned integer",1,"mV",null,"See Note 3",{"$f":"3","v":3}]
[{"$f":"B632+1","v":29701},{"$f":"B631+D631","v":29700},{"$f":"DEC2HEX(B632)","v":"7404"},2,null,"Voltage phase 2 - 3rd harmonic (rms)","unsigned integer",1,"mV",null,"See Note 3",{"$f":"3","v":3}]
[29703,29702,"7406",2,null,"Voltage phase 2 - 4th harmonic (rms)","unsigned integer",1,"mV",null,"See Note 3",{"$f":"3","v":3}]
[29705,29704,"7408",2,null,"Voltage phase 2 - 5th harmonic (rms)","unsigned integer",1,"mV",null,"See Note 3",{"$f":"3","v":3}]
[29707,29706,"740A",2,null,"Voltage phase 2 - 6th harmonic (rms)","unsigned integer",1,"mV",null,"See Note 3",{"$f":"3","v":3}]
[29709,29708,"740C",2,null,"Voltage phase 2 - 7th harmonic (rms)","unsigned integer",1,"mV",null,"See Note 3",{"$f":"3","v":3}]
[29711,29710,"740E",2,null,"Voltage phase 2 - 8th harmonic (rms)","unsigned integer",1,"mV",null,"See Note 3",{"$f":"3","v":3}]
[29713,29712,"7410",2,null,"Voltage phase 2 - 9th harmonic (rms)","unsigned integer",1,"mV",null,"See Note 3",{"$f":"3","v":3}]
[29715,29714,"7412",2,null,"Voltage phase 2 - 10th harmonic (rms)","unsigned integer",1,"mV",null,"See Note 3",{"$f":"3","v":3}]
[29717,29716,"7414",2,null,"Voltage phase 2 - 11th harmonic (rms)","unsigned integer",1,"mV",null,"See Note 3",{"$f":"3","v":3}]
[29719,29718,"7416",2,null,"Voltage phase 2 - 12th harmonic (rms)","unsigned integer",1,"mV",null,"See Note 3",{"$f":"3","v":3}]
[29721,29720,"7418",2,null,"Voltage phase 2 - 13th harmonic (rms)","unsigned integer",1,"mV",null,"See Note 3",{"$f":"3","v":3}]
[29723,29722,"741A",2,null,"Voltage phase 2 - 14th harmonic (rms)","unsigned integer",1,"mV",null,"See Note 3",{"$f":"3","v":3}]
[29725,29724,"741C",2,null,"Voltage phase 2 - 15th harmonic (rms)","unsigned integer",1,"mV",null,"See Note 3",{"$f":"3","v":3}]
[29727,29726,"741E",2,null,"Voltage phase 2 - 16th harmonic (rms)","unsigned integer",1,"mV",null,"See Note 3",{"$f":"3","v":3}]
[29729,29728,"7420",2,null,"Voltage phase 2 - 17th harmonic (rms)","unsigned integer",1,"mV",null,"See Note 3",{"$f":"3","v":3}]
[29731,29730,"7422",2,null,"Voltage phase 2 - 18th harmonic (rms)","unsigned integer",1,"mV",null,"See Note 3",{"$f":"3","v":3}]
[29733,29732,"7424",2,null,"Voltage phase 2 - 19th harmonic (rms)","unsigned integer",1,"mV",null,"See Note 3",{"$f":"3","v":3}]
[29735,29734,"7426",2,null,"Voltage phase 2 - 20th harmonic (rms)","unsigned integer",1,"mV",null,"See Note 3",{"$f":"3","v":3}]
[29737,29736,"7428",2,null,"Voltage phase 2 - 21st harmonic (rms)","unsigned integer",1,"mV",null,"See Note 3",{"$f":"3","v":3}]
[29739,29738,"742A",2,null,"Voltage phase 2 - 22nd harmonic (rms)","unsigned integer",1,"mV",null,"See Note 3",{"$f":"3","v":3}]
[29741,29740,"742C",2,null,"Voltage phase 2 - 23rd harmonic (rms)","unsigned integer",1,"mV",null,"See Note 3",{"$f":"3","v":3}]
[29743,29742,"742E",2,null,"Voltage phase 2 - 24th harmonic (rms)","unsigned integer",1,"mV",null,"See Note 3",{"$f":"3","v":3}]
[29745,29744,"7430",2,null,"Voltage phase 2 - 25th harmonic (rms)","unsigned integer",1,"mV",null,"See Note 3",{"$f":"3","v":3}]
[29747,29746,"7432",2,null,"RESERVED (returns 0000 0000h)",{"$nulls":5},{"$f":"3","v":3}]
[29749,29748,"7434",2,null,"RESERVED (returns 0000 0000h)",{"$nulls":5},{"$f":"3","v":3}]
[29751,29750,"7436",2,null,"RESERVED (returns 0000 0000h)",{"$nulls":5},{"$f":"3","v":3}]
[29753,29752,"7438",2,null,"RESERVED (returns 0000 0000h)",{"$nulls":5},{"$f":"3","v":3}]
[29755,29754,"743A",2,null,"RESERVED (returns 0000 0000h)",{"$nulls":5},{"$f":"3","v":3}]
[29757,29756,"743C",2,null,"RESERVED (returns 0000 0000h)",{"$nulls":5},{"$f":"3","v":3}]
[29759,29758,"743E",2,null,"RESERVED (returns 0000 0000h)",{"$nulls":5},{"$f":"3","v":3}]
[29761,29760,"7440",2,null,"RESERVED (returns 0000 0000h)",{"$nulls":5},{"$f":"3","v":3}]
[29763,29762,"7442",2,null,"RESERVED (returns 0000 0000h)",{"$nulls":5},{"$f":"3","v":3}]
[29765,29764,"7444",2,null,"RESERVED (returns 0000 0000h)",{"$nulls":5},{"$f":"3","v":3}]
[29767,29766,"7446",2,null,"RESERVED (returns 0000 0000h)",{"$nulls":5},{"$f":"3","v":3}]
[29769,29768,"7448",2,null,"RESERVED (returns 0000 0000h)",{"$nulls":5},{"$f":"3","v":3}]
[29771,29770,"744A",2,null,"RESERVED (returns 0000 0000h)",{"$nulls":5},{"$f":"3","v":3}]
[29773,29772,"744C",2,null,"RESERVED (returns 0000 0000h)",{"$nulls":5},{"$f":"3","v":3}]
[29775,29774,"744E",2,null,"RESERVED (returns 0000 0000h)",{"$nulls":5},{"$f":"3","v":3}]
[29777,29776,"7450",2,null,"RESERVED (returns 0000 0000h)",{"$nulls":5},{"$f":"3","v":3}]
[29779,29778,"7452",2,null,"RESERVED (returns 0000 0000h)",{"$nulls":5},{"$f":"3","v":3}]
[29781,29780,"7454",2,null,"RESERVED (returns 0000 0000h)",{"$nulls":5},{"$f":"3","v":3}]
[29783,29782,"7456",2,null,"RESERVED (returns 0000 0000h)",{"$nulls":5},{"$f":"3","v":3}]
[29785,29784,"7458",2,null,"RESERVED (returns 0000 0000h)",{"$nulls":5},{"$f":"3","v":3}]
[29787,29786,"745A",2,null,"RESERVED (returns 0000 0000h)",{"$nulls":5},{"$f":"3","v":3}]
[29789,29788,"745C",2,null,"RESERVED (returns 0000 0000h)",{"$nulls":5},{"$f":"3","v":3}]
[29791,29790,"745E",2,null,"RESERVED (returns 0000 0000h)",{"$nulls":5},{"$f":"3","v":3}]
[29793,29792,"7460",2,null,"RESERVED (returns 0000 0000h)",{"$nulls":5},{"$f":"3","v":3}]
[29795,29794,{"$f":"DEC2HEX(B679)","v":"7462"},2,null,"RESERVED (returns 0000 0000h)",{"$nulls":5},{"$f":"3","v":3}]
[]
[{"$f":"B681+1","v":29825},29824,7480,2,null,"Voltage phase 3 - 1st harmonic (rms) ","unsigned integer",1,"mV",null,"See Note 3",{"$f":"3","v":3}]
[29827,{"$f":"B681+D681","v":29826},{"$f":"DEC2HEX(B682)","v":"7482"},2,null,"Voltage phase 3 - 2nd harmonic (rms)","unsigned integer",1,"mV",null,"See Note 3",{"$f":"3","v":3}]
[29829,29828,"7484",2,null,"Voltage phase 3 - 3rd harmonic (rms)","unsigned integer",1,"mV",null,"See Note 3",{"$f":"3","v":3}]
[29831,29830,"7486",2,null,"Voltage phase 3 - 4th harmonic (rms)","unsigned integer",1,"mV",null,"See Note 3",{"$f":"3","v":3}]
[29833,29832,"7488",2,null,"Voltage phase 3 - 5th harmonic (rms)","unsigned integer",1,"mV",null,"See Note 3",{"$f":"3","v":3}]
[29835,29834,"748A",2,null,"Voltage phase 3 - 6th harmonic (rms)","unsigned integer",1,"mV",null,"See Note 3",{"$f":"3","v":3}]
[29837,29836,"748C",2,null,"Voltage phase 3 - 7th harmonic (rms)","unsigned integer",1,"mV",null,"See Note 3",{"$f":"3","v":3}]
[29839,29838,"748E",2,null,"Voltage phase 3 - 8th harmonic (rms)","unsigned integer",1,"mV",null,"See Note 3",{"$f":"3","v":3}]
[29841,29840,"7490",2,null,"Voltage phase 3 - 9th harmonic (rms)","unsigned integer",1,"mV",null,"See Note 3",{"$f":"3","v":3}]
[29843,29842,"7492",2,null,"Voltage phase 3 - 10th harmonic (rms)","unsigned integer",1,"mV",null,"See Note 3",{"$f":"3","v":3}]
[29845,29844,"7494",2,null,"Voltage phase 3 - 11th harmonic (rms)","unsigned integer",1,"mV",null,"See Note 3",{"$f":"3","v":3}]
[29847,29846,"7496",2,null,"Voltage phase 3 - 12th harmonic (rms)","unsigned integer",1,"mV",null,"See Note 3",{"$f":"3","v":3}]
[29849,29848,"7498",2,null,"Voltage phase 3 - 13th harmonic (rms)","unsigned integer",1,"mV",null,"See Note 3",{"$f":"3","v":3}]
[29851,29850,"749A",2,null,"Voltage phase 3 - 14th harmonic (rms)","unsigned integer",1,"mV",null,"See Note 3",{"$f":"3","v":3}]
[29853,29852,"749C",2,null,"Voltage phase 3 - 15th harmonic (rms)","unsigned integer",1,"mV",null,"See Note 3",{"$f":"3","v":3}]
[29855,29854,"749E",2,null,"Voltage phase 3 - 16th harmonic (rms)","unsigned integer",1,"mV",null,"See Note 3",{"$f":"3","v":3}]
[29857,29856,"74A0",2,null,"Voltage phase 3 - 17th harmonic (rms)","unsigned integer",1,"mV",null,"See Note 3",{"$f":"3","v":3}]
[29859,29858,"74A2",2,null,"Voltage phase 3 - 18th harmonic (rms)","unsigned integer",1,"mV",null,"See Note 3",{"$f":"3","v":3}]
[29861,29860,"74A4",2,null,"Voltage phase 3 - 19th harmonic (rms)","unsigned integer",1,"mV",null,"See Note 3",{"$f":"3","v":3}]
[29863,29862,"74A6",2,null,"Voltage phase 3 - 20th harmonic (rms)","unsigned integer",1,"mV",null,"See Note 3",{"$f":"3","v":3}]
[29865,29864,"74A8",2,null,"Voltage phase 3 - 21st harmonic (rms)","unsigned integer",1,"mV",null,"See Note 3",{"$f":"3","v":3}]
[29867,29866,"74AA",2,null,"Voltage phase 3 - 22nd harmonic (rms)","unsigned integer",1,"mV",null,"See Note 3",{"$f":"3","v":3}]
[29869,29868,"74AC",2,null,"Voltage phase 3 - 23rd harmonic (rms)","unsigned integer",1,"mV",null,"See Note 3",{"$f":"3","v":3}]
[29871,29870,"74AE",2,null,"Voltage phase 3 - 24th harmonic (rms)","unsigned integer",1,"mV",null,"See Note 3",{"$f":"3","v":3}]
[29873,29872,"74B0",2,null,"Voltage phase 3 - 25th harmonic (rms)","unsigned integer",1,"mV",null,"See Note 3",{"$f":"3","v":3}]
[29875,29874,"74B2",2,null,"RESERVED (returns 0000 0000h)",{"$nulls":5},{"$f":"3","v":3}]
[29877,29876,"74B4",2,null,"RESERVED (returns 0000 0000h)",{"$nulls":5},{"$f":"3","v":3}]
[29879,29878,"74B6",2,null,"RESERVED (returns 0000 0000h)",{"$nulls":5},{"$f":"3","v":3}]
[29881,29880,"74B8",2,null,"RESERVED (returns 0000 0000h)",{"$nulls":5},{"$f":"3","v":3}]
[29883,29882,"74BA",2,null,"RESERVED (returns 0000 0000h)",{"$nulls":5},{"$f":"3","v":3}]
[29885,29884,"74BC",2,null,"RESERVED (returns 0000 0000h)",{"$nulls":5},{"$f":"3","v":3}]
[29887,29886,"74BE",2,null,"RESERVED (returns 0000 0000h)",{"$nulls":5},{"$f":"3","v":3}]
[29889,29888,"74C0",2,null,"RESERVED (returns 0000 0000h)",{"$nulls":5},{"$f":"3","v":3}]
[29891,29890,"74C2",2,null,"RESERVED (returns 0000 0000h)",{"$nulls":5},{"$f":"3","v":3}]
[29893,29892,"74C4",2,null,"RESERVED (returns 0000 0000h)",{"$nulls":5},{"$f":"3","v":3}]
[29895,29894,"74C6",2,null,"RESERVED (returns 0000 0000h)",{"$nulls":5},{"$f":"3","v":3}]
[29897,29896,"74C8",2,null,"RESERVED (returns 0000 0000h)",{"$nulls":5},{"$f":"3","v":3}]
[29899,29898,"74CA",2,null,"RESERVED (returns 0000 0000h)",{"$nulls":5},{"$f":"3","v":3}]
[29901,29900,"74CC",2,null,"RESERVED (returns 0000 0000h)",{"$nulls":5},{"$f":"3","v":3}]
[29903,29902,"74CE",2,null,"RESERVED (returns 0000 0000h)",{"$nulls":5},{"$f":"3","v":3}]
[29905,29904,"74D0",2,null,"RESERVED (returns 0000 0000h)",{"$nulls":5},{"$f":"3","v":3}]
[29907,29906,"74D2",2,null,"RESERVED (returns 0000 0000h)",{"$nulls":5},{"$f":"3","v":3}]
[29909,29908,"74D4",2,null,"RESERVED (returns 0000 0000h)",{"$nulls":5},{"$f":"3","v":3}]
[29911,29910,"74D6",2,null,"RESERVED (returns 0000 0000h)",{"$nulls":5},{"$f":"3","v":3}]
[29913,29912,"74D8",2,null,"RESERVED (returns 0000 0000h)",{"$nulls":5},{"$f":"3","v":3}]
[29915,29914,"74DA",2,null,"RESERVED (returns 0000 0000h)",{"$nulls":5},{"$f":"3","v":3}]
[29917,29916,"74DC",2,null,"RESERVED (returns 0000 0000h)",{"$nulls":5},{"$f":"3","v":3}]
[29919,29918,"74DE",2,null,"RESERVED (returns 0000 0000h)",{"$nulls":5},{"$f":"3","v":3}]
[29921,29920,"74E0",2,null,"RESERVED (returns 0000 0000h)",{"$nulls":5},{"$f":"3","v":3}]
[29923,29922,"74E2",2,null,"RESERVED (returns 0000 0000h)",{"$nulls":5},{"$f":"3","v":3}]
[]
[]
[{"$nulls":5},"DETAILS"]
[{"$nulls":5},"Note 1","Type","Scale","Unit","Range","Condition"]
[{"$nulls":7},0.01,"W, var, VA",null,"CTxVT<5.000"]
[{"$nulls":7},1,"W, var, VA",null,"CTxVT ≥ 5.000"]
[{"$nulls":5},"Note 2","Type","Scale","Unit","Range","Condition"]
[{"$nulls":7},"1.000.000","Wh, varh",null,"100.000 ≤ CTxVT < 1.000.000"]
[{"$nulls":7},"100.000","Wh, varh",null,"10.000 ≤ CTxVT < 100.000"]
[{"$nulls":7},"10.000","Wh, varh",null,"1.000 ≤ CTxVT < 10.000"]
[{"$nulls":7},"1.000","Wh, varh",null,"100 ≤ CTxVT < 1.000"]
[{"$nulls":7},100,"Wh, varh",null,"10 ≤ CTxVT < 100"]
[{"$nulls":7},10,"Wh, varh",null,"1 ≤ CTxVT < 10"]
[]
[{"$nulls":5},"VOLTAGE THD, HARMONICS AND STATISTICS"]
[{"$nulls":5},"Note 3","Network Type"]
[{"$nulls":6},"With Neutral",null,"data related to phase voltages"]
[{"$nulls":6},"Without Neutral",null,"data related to chained voltages"]

{"sheet":"HOLDING REGISTERS - Words (R&W)","index":4,"n_rows":50,"n_cols":14,"rows_kept":50,"cut":false,"hidden":false,"merged":[[49,1,50,8],[47,1,48,8],[45,1,46,8],[44,1,44,8],[19,1,19,8],[21,1,21,4],[21,6,21,8],[23,1,23,4],[23,6,23,8],[22,1,22,4],[22,6,22,8],[20,1,20,8],[28,1,28,4],[28,6,28,8],[24,1,24,8],[25,1,25,8],[26,1,26,2],[26,3,26,4],[26,6,26,7],[27,1,27,4],[27,6,27,8],[42,1,43,8],[40,1,41,8],[38,1,39,8],[36,1,37,8],[29,1,29,4],[29,6,29,8],[30,1,30,4],[31,1,31,8],[34,1,35,8],[33,1,33,8],[32,1,32,8]]}
["Register Number","Register Address (Dec)","Register Address (Hex)","Dimension [word]","Bit Position","Description","Type","Scale","Unit","Range","Note","Read Function Codes (Dec)","Write Function Codes (Hex)","Data Storing (2)"]
[{"$f":"B2+1","v":257},{"$f":"HEX2DEC(C2)","v":256},100,{"$f":"SUM(D3:D4)","v":2},null,"Current & Voltage Transf. Ratio"]
[257,256,100,1,null,"Write Current transformer ratio - CT","unsigned integer",1,"-","1 ÷ 9999","CT = I prim / I sec\nex: 500 A / 5 A ® CT = 100 ",3,10]
[259,258,102,1,null,"Write Voltage transformer ratio - VT","unsigned integer",0.1,"-","10 ÷ 100","VT = V prim / V sec\nex: 600 V /100 V\nVT = 6.00 ® WRITE 60\n---\nIf tranformer not present\nVT = 1.00 ® WRITE 10",3,10]
[4097,{"$f":"[1]GENERAL!A4","v":4096},{"$f":"[1]GENERAL!B4","v":1000},{"$f":"SUM(D6:D21)","v":89},null,{"$f":"[1]GENERAL!E4","v":"Measures"}]
[4208,4207,"106F",1,null,"Output Remote Command","unsigned integer","-","-","0, 1,","0: Deactivate\n1: Activate",3,10]
[{"$f":"B7+1","v":8193},{"$f":"GENERAL!A10","v":8192},{"$f":"GENERAL!B10","v":2000},{"$f":"SUM(D8:D8)","v":16},null,{"$f":"GENERAL!E10","v":"Standard Setup parameters (read & write 16 byte at once)"}]
[8193,8192,2000,16,null,"Standard Setup Parameters","unsigned integer","-","-","-","See Note 1"]
[8705,{"$f":"GENERAL!A11","v":8704},{"$f":"GENERAL!B11","v":2200},{"$f":"SUM(D10:D10)","v":24},null,{"$f":"GENERAL!E11","v":"Output option Setup parameters (read & write 24 byte at once)"}]
[{"$f":"B10+1","v":8705},8704,2200,24,null,"Programming parameters of Pulse output","unsigned integer","-","-","-","See Note 2"]
[9217,{"$f":"HEX2DEC(C11)","v":9216},2400,{"$f":"SUM(D12:D12)","v":1},null,"Reset parameters"]
[9217,9216,2400,1,null,"Reset Hour Meter, Maximum Powers, Maximum Voltages, Maximum Currents, Minimum Voltages, Active Partial Energy, Reactive Partial Energy","unsigned integer","-","-","-","See Note 1"]
[{"$f":"B13+1","v":9729},{"$f":"HEX2DEC(C13)","v":9728},2600,{"$f":"SUM(D14:D14)","v":1},null,"Saving parameters"]
[9729,9728,2600,1,null,"Saving in EEPROM parameters changed by Remote commands","unsigned integer","-","-","-","See Note 3",3,10]
[{"$f":"B15+1","v":9985},{"$f":"HEX2DEC(C15)","v":9984},2700,{"$f":"SUM(D16:D16)","v":1},null,"Enable writing"]
[9985,9984,2700,1,null,"Enable Remote Writing Operation","unsigned integer","-","-","-","See Note 3 & Note 4",3,10]
[{"$f":"B17+1","v":10241},{"$f":"HEX2DEC(C17)","v":10240},2800,{"$f":"SUM(D18:D18)","v":1},null,"Restore default parameters"]
[10241,10240,2800,1,null,"Restore default parameters","unsigned integer","-","-","-","See  Note 4",3,10]
[]
[null,"Note 1 - Standard Setup Parameters"]
[null,"Readable / Writable in a 16 WORDS format :\n\nTX: FF 03 20 00 00 10\nRX: FF 03 20 | 00 00 | 00 05 | 00 00 | 00 03 | 00 0A | 00 00 | 00 00 | 00 00 | 00 01 | 00 01 | 00 00 | 00 00 | 00 03 | 00 02 | 00 01 | 00 00\nThe answer is in the following format :\n\nFF 03 20 W0 W1 W2 W3 W4 W5 W6 W7 W8 W9 W10 W11 W12 W13 W14 W15\n\nThe meaning of the WORDs is the following: W15,W6,W4,W3,W2,W1,W0: no meaning"]
[null,"W14 : Measure on line 1 of custom page\n0: V phase 1\n1: V12\n2: I phase 1\n3: I Neutral\n4: P 3-phase\n5: Q 3-phase\n6: S 3-phase\n7: P phase 1\n8: Q phase 1\n9: S phase 1\n10: PF 3-phase",null,null,null,"W13 : Measure on line 2 of custom page\n0: V phase 2\n1: V23\n2: I phase 2\n3: P 3-phase\n4: Q 3-phase\n5: S 3-phase\n6: P phase 2\n7: Q phase 2\n8: S phase 2\n9: Frequency\n10: I phase 1","W12 : Measure on line 3 of custom page\n0 => V phase 3\n1 => V31\n2 => I phase 3\n3 => P 3-phase\n4 => Q 3-phase\n5 => S 3-phase\n6 => P phase 3\n7 => Q phase 3\n8 => S phase 3\n9 => P phase 1\n10 => I phase 1"]
[null,"W11 : Insertion type\n0: 3N3E\n1: 3-3E\n2: 3-2E\n3: 1N1E\n4: 3N1E\n5: 3-1E\n\n",null,null,null,"W10 : Average and Max. demand calculation time\n0: 5 minutes\n1: 8 minutes\n2: 10 minutes\n3: 15 minutes\n4: 20 minutes\n5: 30 minutes\n6: 60 minutes","W9 : Display contrast\n0: level 0\n1: level 1\n2: level 2\n3: level 3"]
[null,"W8 : Backlight intensity\n0: 0%\n1: 30%\n2: 70%\n3: 100%",null,null,null,"W7 : Rated TA current\n0: 5A\n1: 1A\n","W5 : Run hour meter active on\n0: start on V1\n1: start on P"]
[null,"Note 2 - Output option Setup parameters"]
[null,"Readable / Writable in a 24 WORDS format :\n\nFF 03 22 00 00 18\n\nFF 03 30 | 00 00 | 00 00 | 00 00 | 00 00 | 00 00 | 00 00 | 00 00 | 00 00 | 00 00 | 00 00 | 00 00 | 00 00 | 00 00 | 00 00 | 00 00 | 00 00 | 00 00 | 00 00 |\n00 00 | 00 00 | 00 00 | 00 00 | 00 02 | 00 01\n\nThe answer is in the following format :\n\nFF 03 30 W0 W1 W2 W3 W4 W5 W6 W7 W8 W9 W10 W11 W12 W13 W14 W15 W16 W17 W18 W19 W20 W21 W22 W23\n\nThe meaning of the WORDs is the following: W20,W9,W8,W7,W6,W5,W4,W3,W2,W1,W0 : no meaning"]
[null,"W23 : Type of measure\n0: V1\n1: V2\n2: V3\n3: U12\n4: U23\n5: U31\n",null,"\n6: I1\n7: I2\n8: I3\n9: Frequency\n10: Active Energy\n11: Reactive Energy",null,"W22 : Sign of Alarm setpoint (only for Energies)\n0: \"+\"\n1: \"-\"","W21 : Unit of setpoint\n0: X.XXX                            \n1: XX.XX                             \n2: XXX.X                            \n3: X.XXX k                         \n4: XX.XX k",null,"\n5: XXX.X k\n6: X.XXX M\n7: XX.XX M\n8: XXX.X M"]
[null,"W19 : Alarm Setpoint\n0 ÷ 9999",null,null,null,"W18 : Alarm on Min Value or Max Value\n0: Min\n1: Max\n","W17 : Relay (NO/NC)\n0: NO\n1: NC\n"]
[null,"W16 : Hysteresis\n0 % ÷ 20 %",null,null,null,"W15 : Alarm activation delay\nExpressede in \"seconds\"\n0÷99","W14 : Alarm deactivation delay  or Relay closing time (if Output type = Timed Remote command)\nExpressede in \"seconds\"\n0÷99"]
[null,"W13 : Pulse active on\n0: Active Energy\n1: Reactive Energy",null,null,null,"W12 : Pulse weight\n0: 0,01 k\n1: 0,1 k\n2: 1,0 k\n3: 10,0 k\n4: 100,0 k\n5: 1,0 M\n6: 10,0 M","W11 : Pulse duration\n0: 50 ms\n1: 100 ms\n2: 200 ms\n3: 300 ms\n4: 400 ms\n5: 500 ms"]
[null,"W10 : Output type\n0: Pulse out\n1: Alarm out\n2: Remote command\n3: Timed Remote command"]
[null,"Note 3 - Reset parameters"]
[null,"To reset desired measurements write the following word (in binary): 0|0|0|0|0|0|0|0|b8|b7|b6|b5|b4|b3|b2|b1|b0  \n \nb0          = 1  =>  Reset Hour Meter\nb1          = 1  =>  Reset Maximum Powers\nb2          = 1  =>  Reset Maximum Voltages\nb3          = 1  =>  Reset Maximum Currents\nb4          = 1  =>  Reset Minimum Voltages\nb5          = 1  =>  Reset Active Partial Energy\nb6          = 1  =>  Reset Reactive Partial Energy\n\nb7 ÷ b15 = 0"]
[null,"Note 3 - Configuration Procedure"]
[null,"1) \"Master Unlock Key”  command (write the value = 0x5AA5 in the register 0x2700)"]
[]
[null,"2) Write the new Configuration (one or more registers...)"]
[]
[null,"3) \"Master Unlock Key”  command (write the value = 0x5AA5 in the register 0x2700)"]
[]
[null,"4) Save/Confirm the new Configuration (writing the value 0x000A in the register 0x2600)"]
[]
[null,"5) The new Configuration is now available"]
[]
[null,"Note 4 - Restore default parameters"]
[null,"1) \"Master Unlock Key”  command (write the value = 0x5AA5 in the register 0x2700)"]
[]
[null,"3) Return to the Default configuration (writing the value 0x000B in the register 0x2800)"]
[]
[null,"4) The Default configuration has been restored"]