Workbook
Name OLE_LINK3: 'HOLDING REGISTERS - Words (R&W)'!$K$14

Sheet GENERAL
A1: MODBUS TABLE ORGANIZATION
A2: Starting Address of the Group Registers (Dec) | B2: Starting Address of the Group Registers (Hex) | C2: System Version (Release) | D2: System Version (Build) | E2: Group Name (Text) | F2: Group Code (Hex) | G2: Group Complexity (Hex) | H2: Group Version (Hex)
A3: =HEX2DEC(B3) -> 768 | B3: 300 | E3: Device identifier
A4: =HEX2DEC(B4) -> 4096 | B4: 1000 | E4: Measures
A5: =HEX2DEC(B5) -> 4207 | B5: 106F | E5: Output Remote Command
A6: =HEX2DEC(B6) -> 4608 | B6: 1200 | E6: Settings
A7: =HEX2DEC(B7) -> 4688 | B7: 1250 | E7: Energies
A8: =HEX2DEC(B8) -> 4864 | B8: 1300 | E8: Average Measured values
A9: =HEX2DEC(B9) -> 5424 | B9: 1530 | E9: Average Measured values - Scaled
A10: =HEX2DEC(B10) -> 5504 | B10: 1580 | E10: Crest Factor
A11: =HEX2DEC(B11) -> 5632 | B11: 1600 | E11: Displacements
A12: =HEX2DEC(B12) -> 5664 | B12: 1620 | E12: Inputs
A13: =HEX2DEC(B13) -> 5888 | B13: 1700 | E13: Max. & Min.
A14: =HEX2DEC(B14) -> 8192 | B14: 2000 | E14: Standard Setup parameters (write 16 byte at once)
A15: =HEX2DEC(B15) -> 8704 | B15: 2200 | E15: Output option Setup parameters (write 24 byte at once)
A16: =HEX2DEC(B16) -> 28672 | B16: 7000 | E16: Harmonics
A17: =HEX2DEC(B17) -> 5888 | B17: 1700 | E17: Max. & Min.
A21: MODBUS PROTOCOL DETAILS
A22: Function Code (Dec) | B22: Exception Codes (Dec) | C22: Data Encoding
A23: 3 | B23: 1, 2, 3 | C23: "Big Endian" (most significant byte first)
A24: 16 | B24: 1, 2, 3
A26: MODBUS OVER SERIAL DETAILS
A27: Physical Layer | B27: Trasmission Modes | C27: Device Addressing | D27: Baud Rates (bit/s) | E27: Data Bits | F27: Data bits trasmission sequence | G27: Parity | H27: Stop Bits
A28: standard EIA/TIA 485 (RS-485) two-wire configuration | B28: RTU | C28: 1÷247 | D28: programmable | E28: 8 | F28: Least significant bit first | G28: programmable | H28: 1
A30: MASTER/SLAVE COMMUNICATION TIMING
A31: Timer Descrtiption | B31: Timer Value (msec)
A32: Inter-character time-out | B32: Max. 20
A33: Response delay (from master request) | B33: 20÷300
A34: Delay Time (between two master trasmissions) | B34: < 20
A36: REFER ALSO TO: | B36: www.modbus.org | C36: - MODBUS over serial line specification and implementation guide V1.02
C37: - MODBUS APPLICATION PROTOCOL SPECIFICATION V1.1b
A39: NOTE: | B39: File and printed copies of this document are not subject to document change control.

Sheet DISCRETE INPUT - Bits (R)
A1: Register Number | B1: Register Address (Dec) | C1: Register Address (Hex) | D1: Dimension [bit] | E1: Description | F1: Note | G1: Read Function Codes (Dec) | H1: Data Storing (2)
E2: (no DISCRETE INPUTS availables)

Sheet COILS - Bits (R&W)
A1: Register Number | B1: Register Address (Dec) | C1: Register Address (Hex) | D1: Dimension [bit] | E1: Description | F1: Note | G1: Read Function Codes (Dec) | H1: Write Function Codes (Dec) | I1: Data Storing (2)
E2: (no COILS availables)

Sheet INPUT REGISTERS - Words (R)
A1: Register Number | B1: Register Address (Dec) | C1: Register Address (Hex) | D1: Dimension [word] | E1: Bit Position | F1: Description | G1: Type | H1: Scale | I1: Unit | J1: Range | K1: Note | L1: Read Function Code (Dec) | M1: Data Storing (2)
A2: =B2+1 -> 769 | B2: =GENERAL!A3 -> 768 | C2: =GENERAL!B3 -> 300 | D2: =SUM(D3:D3) -> 1 | F2: =GENERAL!E3 -> Device identifier
A3: =B3+1 -> 769 | B3: 768 | C3: =DEC2HEX(B3) -> 300 | D3: 1 | F3: Device identifier | G3: unsigned integer | H3: 0.01 | I3: - | K3: The device returns 0006h | L3: =3 -> 3
A4: =B4+1 -> 4097 | B4: =GENERAL!A4 -> 4096 | C4: =GENERAL!B4 -> 1000 | D4: =SUM(D5:D79) -> 124 | F4: =GENERAL!E4 -> Measures
A5: =B5+1 -> 4097 | B5: =B4 -> 4096 | C5: =DEC2HEX(B5) -> 1000 | D5: 2 | F5: Phase 1 : phase voltage | G5: unsigned integer | H5: 1 | I5: mV | L5: =3 -> 3
A6: =B6+1 -> 4099 | B6: =B5+D5 -> 4098 | C6: =DEC2HEX(B6) -> 1002 | D6: 2 | F6: Phase 2 : phase voltage | G6: unsigned integer | H6: 1 | I6: mV | L6: =3 -> 3
A7: =B7+1 -> 4101 | B7: =B6+D6 -> 4100 | C7: =DEC2HEX(B7) -> 1004 | D7: 2 | F7: Phase 3 : phase voltage | G7: unsigned integer | H7: 1 | I7: mV | L7: =3 -> 3
A8: =B8+1 -> 4103 | B8: =B7+D7 -> 4102 | C8: =DEC2HEX(B8) -> 1006 | D8: 2 | F8: Phase 1 : current | G8: unsigned integer | H8: 1 | I8: mA | L8: =3 -> 3
A9: =B9+1 -> 4105 | B9: =B8+D8 -> 4104 | C9: =DEC2HEX(B9) -> 1008 | D9: 2 | F9: Phase 2 : current | G9: unsigned integer | H9: 1 | I9: mA | L9: =3 -> 3
A10: =B10+1 -> 4107 | B10: =B9+D9 -> 4106 | C10: =DEC2HEX(B10) -> 100A | D10: 2 | F10: Phase 3 : current | G10: unsigned integer | H10: 1 | I10: mA | L10: =3 -> 3
A11: =B11+1 -> 4109 | B11: =B10+D10 -> 4108 | C11: =DEC2HEX(B11) -> 100C | D11: 2 | F11: Neutral current | G11: unsigned integer | H11: 1 | I11: mA | L11: =3 -> 3
A12: =B12+1 -> 4111 | B12: =B11+D11 -> 4110 | C12: =DEC2HEX(B12) -> 100E | D12: 2 | F12: Chained voltage : L1-L2 | G12: unsigned integer | H12: 1 | I12: mV | L12: =3 -> 3
A13: =B13+1 -> 4113 | B13: =B12+D12 -> 4112 | C13: =DEC2HEX(B13) -> 1010 | D13: 2 | F13: Chained voltage : L2-L3 | G13: unsigned integer | H13: 1 | I13: mV | L13: =3 -> 3
A14: =B14+1 -> 4115 | B14: =B13+D13 -> 4114 | C14: =DEC2HEX(B14) -> 1012 | D14: 2 | F14: Chained voltage : L3-L1 | G14: unsigned integer | H14: 1 | I14: mV | L14: =3 -> 3
A15: =B15+1 -> 4117 | B15: =B14+D14 -> 4116 | C15: =DEC2HEX(B15) -> 1014 | D15: 2 | F15: 3-phase : active power | G15: unsigned integer | H15: 1, 0.01 | I15: W | K15: See Note 1 | L15: =3 -> 3
A16: =B16+1 -> 4119 | B16: =B15+D15 -> 4118 | C16: =DEC2HEX(B16) -> 1016 | D16: 2 | F16: 3-phase : reactive power | G16: unsigned integer | H16: 1, 0.01 | I16: var | K16: See Note 1 | L16: =3 -> 3
A17: =B17+1 -> 4121 | B17: =B16+D16 -> 4120 | C17: =DEC2HEX(B17) -> 1018 | D17: 2 | F17: 3-phase : apparent power | G17: unsigned integer | H17: 1, 0.01 | I17: VA | K17: See Note 1 | L17: =3 -> 3
A18: =B18+1 -> 4123 | B18: =B17+D17 -> 4122 | C18: =DEC2HEX(B18) -> 101A | D18: 1 | F18: 3-phase : sign of active power | G18: unsigned integer | H18: 1 | I18: - | J18: 0, 1 | K18: 0=positive, 1=negative | L18: =3 -> 3
A19: =B19+1 -> 4124 | B19: =B18+D18 -> 4123 | C19: =DEC2HEX(B19) -> 101B | D19: 1 | F19: 3-phase : sign of reactive power | G19: unsigned integer | H19: 1 | I19: - | J19: 0, 1 | K19: 0=positive, 1=negative | L19: =3 -> 3
A20: =B20+1 -> 4125 | B20: =B19+D19 -> 4124 | C20: =DEC2HEX(B20) -> 101C | D20: 2 | F20: 3-phase : positive active energy | G20: unsigned integer | H20: 1, 10, 100, 1.000, 10.000, 100.000 | I20: Wh | K20: See Note 2 | L20: =3 -> 3 | M20: Y
A21: =B21+1 -> 4127 | B21: =B20+D20 -> 4126 | C21: =DEC2HEX(B21) -> 101E | D21: 2 | F21: 3-phase : positive reactive energy | G21: unsigned integer | H21: 1, 10, 100, 1.000, 10.000, 100.000 | I21: varh | K21: See Note 2 | L21: =3 -> 3 | M21: Y
A22: =B22+1 -> 4129 | B22: =B21+D21 -> 4128 | C22: =DEC2HEX(B22) -> 1020 | D22: 2 | F22: 3-phase : negative active energy | G22: unsigned integer | H22: 1, 10, 100, 1.000, 10.000, 100.000 | I22: Wh | K22: See Note 2 | L22: =3 -> 3 | M22: Y
A23: =B23+1 -> 4131 | B23: =B22+D22 -> 4130 | C23: =DEC2HEX(B23) -> 1022 | D23: 2 | F23: 3-phase : negative reactive energy | G23: unsigned integer | H23: 1, 10, 100, 1.000, 10.000, 100.000 | I23: varh | K23: See Note 2 | L23: =3 -> 3 | M23: Y
A24: =B24+1 -> 4133 | B24: =B23+D23 -> 4132 | C24: =DEC2HEX(B24) -> 1024 | D24: 1 | F24: 3-phase : power factor | G24: signed integer | H24: 0.01 | I24: - | L24: =3 -> 3
A25: =B25+1 -> 4134 | B25: =B24+D24 -> 4133 | C25: =DEC2HEX(B25) -> 1025 | D25: 1 | F25: 3-phase : sector of power factor (cap or ind) | G25: unsigned integer | H25: 1 | I25: - | J25: 0, 1, 2 | K25: 0="PF=1", 1="ind" (L), 2="cap" (C) | L25: =3 -> 3
A26: =B26+1 -> 4135 | B26: =B25+D25 -> 4134 | C26: =DEC2HEX(B26) -> 1026 | D26: 1 | F26: Frequency | G26: unsigned integer | H26: 0.1 | I26: Hz | L26: =3 -> 3
A27: =B27+1 -> 4136 | B27: =B26+D26 -> 4135 | C27: =DEC2HEX(B27) -> 1027 | D27: 2 | F27: 3-phase : average power | G27: unsigned integer | H27: 1, 0.01 | I27: W | K27: See Note 1 | L27: =3 -> 3
A28: =B28+1 -> 4138 | B28: =B27+D27 -> 4137 | C28: =DEC2HEX(B28) -> 1029 | D28: 2 | F28: 3-phase : peak maximum demand | G28: unsigned integer | H28: 1, 0.01 | I28: W | K28: See Note 1 | L28: =3 -> 3 | M28: Y
A29: =B29+1 -> 4140 | B29: =B28+D28 -> 4139 | C29: =DEC2HEX(B29) -> 102B | D29: 1 | F29: Time counter for average power | G29: unsigned integer | H29: 1 | I29: min | L29: =3 -> 3
A30: =B30+1 -> 4141 | B30: =B29+D29 -> 4140 | C30: =DEC2HEX(B30) -> 102C | D30: 2 | F30: Phase 1 : active power | G30: unsigned integer | H30: 1, 0.01 | I30: W | K30: See Note 1 | L30: =3 -> 3
A31: =B31+1 -> 4143 | B31: =B30+D30 -> 4142 | C31: =DEC2HEX(B31) -> 102E | D31: 2 | F31: Phase 2 : active power | G31: unsigned integer | H31: 1, 0.01 | I31: W | K31: See Note 1 | L31: =3 -> 3
A32: =B32+1 -> 4145 | B32: =B31+D31 -> 4144 | C32: =DEC2HEX(B32) -> 1030 | D32: 2 | F32: Phase 3 : active power | G32: unsigned integer | H32: 1, 0.01 | I32: W | K32: See Note 1 | L32: =3 -> 3
A33: =B33+1 -> 4147 | B33: =B32+D32 -> 4146 | C33: =DEC2HEX(B33) -> 1032 | D33: 1 | F33: Phase 1 : sign of active power | G33: unsigned integer | I33: - | J33: 0, 1 | K33: 0=positive, 1=negative | L33: =3 -> 3
A34: =B34+1 -> 4148 | B34: =B33+D33 -> 4147 | C34: =DEC2HEX(B34) -> 1033 | D34: 1 | F34: Phase 2 : sign of active power | G34: unsigned integer | I34: - | J34: 0, 1 | K34: 0=positive, 1=negative | L34: =3 -> 3
A35: =B35+1 -> 4149 | B35: =B34+D34 -> 4148 | C35: =DEC2HEX(B35) -> 1034 | D35: 1 | F35: Phase 3 : sign of active power | G35: unsigned integer | I35: - | J35: 0, 1 | K35: 0=positive, 1=negative | L35: =3 -> 3
A36: =B36+1 -> 4150 | B36: =B35+D35 -> 4149 | C36: =DEC2HEX(B36) -> 1035 | D36: 2 | F36: Phase 1 : reactive power | G36: unsigned integer | H36: 1, 0.01 | I36: var | K36: See Note 1 | L36: =3 -> 3
A37: =B37+1 -> 4152 | B37: =B36+D36 -> 4151 | C37: =DEC2HEX(B37) -> 1037 | D37: 2 | F37: Phase 2 : reactive power | G37: unsigned integer | H37: 1, 0.01 | I37: var | K37: See Note 1 | L37: =3 -> 3
A38: =B38+1 -> 4154 | B38: =B37+D37 -> 4153 | C38: =DEC2HEX(B38) -> 1039 | D38: 2 | F38: Phase 3 : reactive power | G38: unsigned integer | H38: 1, 0.01 | I38: var | K38: See Note 1 | L38: =3 -> 3
A39: =B39+1 -> 4156 | B39: =B38+D38 -> 4155 | C39: =DEC2HEX(B39) -> 103B | D39: 1 | F39: Phase 1 : sign of reactive power | G39: unsigned integer | I39: - | J39: 0, 1 | K39: 0=positive, 1=negative | L39: =3 -> 3
A40: =B40+1 -> 4157 | B40: =B39+D39 -> 4156 | C40: =DEC2HEX(B40) -> 103C | D40: 1 | F40: Phase 2 : sign of reactive power | G40: unsigned integer | I40: - | J40: 0, 1 | K40: 0=positive, 1=negative | L40: =3 -> 3
...

Sheet HOLDING REGISTERS - Words (R&W)
A1: Register Number | B1: Register Address (Dec) | C1: Register Address (Hex) | D1: Dimension [word] | E1: Bit Position | F1: Description | G1: Type | H1: Scale | I1: Unit | J1: Range | K1: Note | L1: Read Function Codes (Dec) | M1: Write Function Codes (Hex) | N1: Data Storing (2)
A2: =B2+1 -> 257 | B2: =HEX2DEC(C2) -> 256 | C2: 100 | D2: =SUM(D3:D4) -> 2 | F2: Current & Voltage Transf. Ratio
A3: =B3+1 -> 257 | B3: 256 | C3: 100 | D3: 1 | F3: Write Current transformer ratio - CT | G3: unsigned integer | H3: 1 | I3: - | J3: 1 ÷ 9999 | K3: CT = I prim / I sec ex: 500 A / 5 A ® CT = 100 | L3: 3 | M3: 10
A4: =B4+1 -> 259 | B4: 258 | C4: 102 | D4: 1 | F4: Write Voltage transformer ratio - VT | G4: unsigned integer | H4: 0.01 | I4: - | J4: 100 ÷ 1000 | K4: VT = V prim / V sec ex: 600 V /100 V VT = 6.00 ® WRITE 600 --- If tranformer not present VT = 1.00 ® WRITE 100 | L4: 3 | M4: 10
A5: =B5+1 -> 260 | B5: 259 | C5: =DEC2HEX(B5) -> 103 | D5: 1 | F5: Energy mode accumulation | G5: unsigned integer | H5: - | I5: - | J5: 0, 1, 2, 3 | K5: 0: Asyn 1: Syn 2: Tariff 3: Pulse Counting | L5: =3 -> 3 | M5: 10
A6: =B6+1 -> 4208 | B6: =GENERAL!A5 -> 4207 | C6: =GENERAL!B5 -> 106F | D6: =SUM(D7:D22) -> 31 | F6: =GENERAL!E5 -> Output Remote Command
A7: =B7+1 -> 4208 | B7: 4207 | C7: 106F | D7: 1 | F7: Output Remote Command | G7: unsigned integer | H7: - | I7: - | J7: 0, 1, | K7: 0: Deactivate 1: Activate | L7: - | M7: 10
A8: =B8+1 -> 8193 | B8: =GENERAL!A14 -> 8192 | C8: =GENERAL!B14 -> 2000 | D8: =SUM(D9:D24) -> 16 | F8: =GENERAL!E14 -> Standard Setup parameters (write 16 byte at once)
A9: =B9+1 -> 8193 | B9: 8192 | C9: 2000 | D9: 1 | F9: RESERVED (returns 0000h)
A10: =B10+1 -> 8194 | B10: =B9+D9 -> 8193 | C10: =DEC2HEX(B10) -> 2001 | D10: 1 | F10: RESERVED (returns 0000h)
A11: =B11+1 -> 8195 | B11: =B10+D10 -> 8194 | C11: =DEC2HEX(B11) -> 2002 | D11: 1 | F11: RESERVED (returns 0000h)
A12: =B12+1 -> 8196 | B12: =B11+D11 -> 8195 | C12: =DEC2HEX(B12) -> 2003 | D12: 1 | F12: RESERVED (returns 0000h)
A13: =B13+1 -> 8197 | B13: =B12+D12 -> 8196 | C13: =DEC2HEX(B13) -> 2004 | D13: 1 | F13: Percentage of rated 3phase active power run hour meter | G13: unsigned integer | H13: 0.01 | I13: % | J13: 50 ÷ 5000 | K13: 50 ÷ 5000 means (0.5% ÷ 50.00%) | L13: 3 | M13: 10
A14: =B14+1 -> 8198 | B14: =B13+D13 -> 8197 | C14: =DEC2HEX(B14) -> 2005 | D14: 1 | F14: Run hour meter active on | G14: unsigned integer | H14: - | I14: - | J14: 0, 1 | K14: 0: Voltages, 1 Power | L14: 3 | M14: 10
A15: =B15+1 -> 8199 | B15: =B14+D14 -> 8198 | C15: =DEC2HEX(B15) -> 2006 | D15: 1 | F15: RESERVED (returns 0000h)
A16: =B16+1 -> 8200 | B16: =B15+D15 -> 8199 | C16: =DEC2HEX(B16) -> 2007 | D16: 1 | F16: RESERVED (returns 0000h)
A17: =B17+1 -> 8201 | B17: =B16+D16 -> 8200 | C17: =DEC2HEX(B17) -> 2008 | D17: 1 | F17: Backlight intensity | G17: unsigned integer | H17: - | I17: - | J17: 0, 1, 2, 3 | K17: 0: 0% 1: 35% 2: 70% 3: 100% | L17: 3 | M17: 10
A18: =B18+1 -> 8202 | B18: =B17+D17 -> 8201 | C18: =DEC2HEX(B18) -> 2009 | D18: 1 | F18: RESERVED (returns 0000h)
A19: =B19+1 -> 8203 | B19: =B18+D18 -> 8202 | C19: =DEC2HEX(B19) -> 200A | D19: 1 | F19: Power Averaging time | G19: unsigned integer | H19: - | I19: - | J19: 0, 1, 2, 3, 4, 5, 6 | K19: 0: 5min 1: 8min 2: 10min 3: 15min 4: 20min 5: 30min 6: 60min | L19: 3 | M19: 10
A20: =B20+1 -> 8204 | B20: =B19+D19 -> 8203 | C20: =DEC2HEX(B20) -> 200B | D20: 1 | F20: Insertion type | G20: unsigned integer | H20: - | I20: - | J20: 0, 1, 2, 3, 4, 5 | K20: 0: 3N-3E 1: 3-3E 2: 3-2E 3: 1N-1E 4: 3N-1E 5: 3-1E | L20: 3 | M20: 10
A21: =B21+1 -> 8205 | B21: =B20+D20 -> 8204 | C21: =DEC2HEX(B21) -> 200C | D21: 1 | F21: Measure on line 1 of custom page | G21: unsigned integer | H21: - | I21: - | J21: 0 ÷ 10 | K21: 0:V1 1:V12 2:I1 3:In 4:P 5:Q 6:S 7:P1 8:Q1 9:S1 10:PF 3-phase | L21: 3 | M21: 10
A22: =B22+1 -> 8206 | B22: =B21+D21 -> 8205 | C22: =DEC2HEX(B22) -> 200D | D22: 1 | F22: Measure on line 2 of custom page | G22: unsigned integer | H22: - | I22: - | J22: 0 ÷ 10 | K22: 0:V2 1:V23 2:I2 3:P 4:Q 5:S 6:P2 7:Q2 8:S2 9:Freq 10:I1 | L22: 3 | M22: 10
A23: =B23+1 -> 8207 | B23: =B22+D22 -> 8206 | C23: =DEC2HEX(B23) -> 200E | D23: 1 | F23: Measure on line 3 of custom page | G23: unsigned integer | H23: - | I23: - | J23: 0 ÷ 10 | K23: 0:V3 1:V31 2:I3 3:P 4:Q 5:S 6:P3 7:Q3 8:S3 9:P1 10:I1 | L23: 3 | M23: 10
A24: =B24+1 -> 8208 | B24: =B23+D23 -> 8207 | C24: =DEC2HEX(B24) -> 200F | D24: 1 | F24: RESERVED (returns 0000h)
A25: =B25+1 -> 8705 | B25: =GENERAL!A15 -> 8704 | C25: =GENERAL!B15 -> 2200 | D25: =SUM(D26:D49) -> 24 | F25: =GENERAL!E15 -> Output option Setup parameters (write 24 byte at once)
A26: =B26+1 -> 8705 | B26: 8704 | C26: 2200 | D26: 1 | E26: W0 | F26: RESERVED (returns 0000h)
A27: =B27+1 -> 8706 | B27: =B26+D26 -> 8705 | C27: =DEC2HEX(B27) -> 2201 | D27: 1 | E27: W1 | F27: RESERVED (returns 0000h)
A28: =B28+1 -> 8707 | B28: =B27+D27 -> 8706 | C28: =DEC2HEX(B28) -> 2202 | D28: 1 | E28: W2 | F28: RESERVED (returns 0000h)
A29: =B29+1 -> 8708 | B29: =B28+D28 -> 8707 | C29: =DEC2HEX(B29) -> 2203 | D29: 1 | E29: W3 | F29: RESERVED (returns 0000h)
A30: =B30+1 -> 8709 | B30: =B29+D29 -> 8708 | C30: =DEC2HEX(B30) -> 2204 | D30: 1 | E30: W4 | F30: RESERVED (returns 0000h)
A31: =B31+1 -> 8710 | B31: =B30+D30 -> 8709 | C31: =DEC2HEX(B31) -> 2205 | D31: 1 | E31: W5 | F31: RESERVED (returns 0000h)
A32: =B32+1 -> 8711 | B32: =B31+D31 -> 8710 | C32: =DEC2HEX(B32) -> 2206 | D32: 1 | E32: W6 | F32: RESERVED (returns 0000h)
A33: =B33+1 -> 8712 | B33: =B32+D32 -> 8711 | C33: =DEC2HEX(B33) -> 2207 | D33: 1 | E33: W7 | F33: RESERVED (returns 0000h)
A34: =B34+1 -> 8713 | B34: =B33+D33 -> 8712 | C34: =DEC2HEX(B34) -> 2208 | D34: 1 | E34: W8 | F34: RESERVED (returns 0000h)
A35: =B35+1 -> 8714 | B35: =B34+D34 -> 8713 | C35: =DEC2HEX(B35) -> 2209 | D35: 1 | E35: W9 | F35: RESERVED (returns 0000h)
A36: =B36+1 -> 8715 | B36: =B35+D35 -> 8714 | C36: =DEC2HEX(B36) -> 220A | D36: 1 | E36: W10 | F36: Output type | G36: unsigned integer | H36: - | I36: - | J36: 0, 1, 2, 3 | K36: 0: Pulse out 1: Alarm out 2: Dual stable Remote command 3: Timed Remote command | L36: 3 | M36: 10
A37: =B37+1 -> 8716 | B37: =B36+D36 -> 8715 | C37: =DEC2HEX(B37) -> 220B | D37: 1 | E37: W11 | F37: Pulse duration | G37: unsigned integer | H37: - | I37: - | J37: 0, 1, 2, 3, 4, 5 | K37: 0: 50 ms 1: 100 ms 2: 200 ms 3: 300 ms 4: 400 ms 5: 500ms | L37: 3 | M37: 10
A38: =B38+1 -> 8717 | B38: =B37+D37 -> 8716 | C38: =DEC2HEX(B38) -> 220C | D38: 1 | E38: W12 | F38: Pulse weight | G38: unsigned integer | H38: - | I38: - | J38: 0, 1, 2, 3, 4, 5, 6 | K38: 0: 0.01 kWh 1: 0.10 kWh 2: 1.00 kWh 3: 10.0 kWh 4: 0.10 MWh 5: 1.00 MWh 6: 10.0 MWh | L38: 3 | M38: 10
A39: =B39+1 -> 8718 | B39: =B38+D38 -> 8717 | C39: =DEC2HEX(B39) -> 220D | D39: 1 | E39: W13 | F39: Pulse active on | G39: unsigned integer | H39: - | I39: - | J39: 0, 1 | K39: 0: Active Energy 1: Reactive Energy | L39: 3 | M39: 10
A40: =B40+1 -> 8719 | B40: =B39+D39 -> 8718 | C40: =DEC2HEX(B40) -> 220E | D40: 1 | E40: W14 | F40: Alarm deactivation delay or Relay closing time (if Output type = Timed Remote command) | G40: unsigned integer | H40: 1 | I40: s | J40: 0 ÷ 99 | K40: - | L40: 3 | M40: 10
...
