Workbook
Name OLE_LINK3: 'HOLDING REGISTERS - Words (R&W)'!$K$14

Sheet GENERAL
A1: MODBUS TABLE ORGANIZATION
A2: Starting Address of the Group Registers (Dec) | B2: Starting Address of the Group Registers (Hex) | C2: System Version (Release) | D2: System Version (Build) | E2: Group Name (Text) | F2: Group Code (Hex) | G2: Group Complexity (Hex) | H2: Group Version (Hex)
A3: =HEX2DEC(B3) -> 768 | B3: 300 | E3: Device identifier
A4: =HEX2DEC(B4) -> 4096 | B4: 1000 | E4: Measures
A5: =HEX2DEC(B5) -> 4207 | B5: 106F | E5: Output Remote Command
A6: =HEX2DEC(B6) -> 4608 | B6: 1200 | E6: Settings
A7: =HEX2DEC(B7) -> 4688 | B7: 1250 | E7: Energies
A8: =HEX2DEC(B8) -> 4864 | B8: 1300 | E8: Average Measured values
A9: =HEX2DEC(B9) -> 5424 | B9: 1530 | E9: Average Measured values - Scaled
A10: =HEX2DEC(B10) -> 5504 | B10: 1580 | E10: Crest Factor
A11: =HEX2DEC(B11) -> 5632 | B11: 1600 | E11: Displacements
A12: =HEX2DEC(B12) -> 5664 | B12: 1620 | E12: Inputs
A13: =HEX2DEC(B13) -> 5888 | B13: 1700 | E13: Max. & Min.
A14: =HEX2DEC(B14) -> 8192 | B14: 2000 | E14: Standard Setup parameters (write 16 byte at once)
A15: =HEX2DEC(B15) -> 8704 | B15: 2200 | E15: Output option Setup parameters (write 24 byte at once)
A16: =HEX2DEC(B16) -> 28672 | B16: 7000 | E16: Harmonics
A17: =HEX2DEC(B17) -> 5888 | B17: 1700 | E17: Max. & Min.
A21: MODBUS PROTOCOL DETAILS
A22: Function Code (Dec) | B22: Exception Codes (Dec) | C22: Data Encoding
A23: 3 | B23: 1, 2, 3 | C23: "Big Endian" (most significant byte first)
A24: 16 | B24: 1, 2, 3
A26: MODBUS OVER SERIAL DETAILS
A27: Physical Layer | B27: Trasmission Modes | C27: Device Addressing | D27: Baud Rates (bit/s) | E27: Data Bits | F27: Data bits trasmission sequence | G27: Parity | H27: Stop Bits
A28: standard EIA/TIA 485 (RS-485) two-wire configuration | B28: RTU | C28: 1÷247 | D28: programmable | E28: 8 | F28: Least significant bit first | G28: programmable | H28: 1
A30: MASTER/SLAVE COMMUNICATION TIMING
A31: Timer Descrtiption | B31: Timer Value (msec)
A32: Inter-character time-out | B32: Max. 20
A33: Response delay (from master request) | B33: 20÷300
A34: Delay Time (between two master trasmissions) | B34: < 20
A36: REFER ALSO TO: | B36: www.modbus.org | C36: - MODBUS over serial line specification and implementation guide V1.02
C37: - MODBUS APPLICATION PROTOCOL SPECIFICATION V1.1b
A39: NOTE: | B39: File and printed copies of this document are not subject to document change control.

Sheet DISCRETE INPUT - Bits (R)
A1: Register Number | B1: Register Address (Dec) | C1: Register Address (Hex) | D1: Dimension [bit] | E1: Description | F1: Note | G1: Read Function Codes (Dec) | H1: Data Storing (2)
E2: (no DISCRETE INPUTS availables)

Sheet COILS - Bits (R&W)
A1: Register Number | B1: Register Address (Dec) | C1: Register Address (Hex) | D1: Dimension [bit] | E1: Description | F1: Note | G1: Read Function Codes (Dec) | H1: Write Function Codes (Dec) | I1: Data Storing (2)
E2: (no COILS availables)

Sheet INPUT REGISTERS - Words (R)
A1: Register Number | B1: Register Address (Dec) | C1: Register Address (Hex) | D1: Dimension [word] | E1: Bit Position | F1: Description | G1: Type | H1: Scale | I1: Unit | J1: Range | K1: Note | L1: Read Function Code (Dec) | M1: Data Storing (2)
A2: =B2+1 -> 769 | B2: =GENERAL!A3 -> 768 | C2: =GENERAL!B3 -> 300 | D2: =SUM(D3:D3) -> 1 | F2: =GENERAL!E3 -> Device identifier
A3: =B3+1 -> 769 | B3: 768 | C3: =DEC2HEX(B3) -> 300 | D3: 1 | F3: Device identifier | G3: unsigned integer | H3: 0.01 | I3: - | K3: The device returns 0006h | L3: =3 -> 3
A4: =B4+1 -> 4097 | B4: =GENERAL!A4 -> 4096 | C4: =GENERAL!B4 -> 1000 | D4: =SUM(D5:D79) -> 124 | F4: =GENERAL!E4 -> Measures
A5: =B5+1 -> 4097 | B5: =B4 -> 4096 | C5: =DEC2HEX(B5) -> 1000 | D5: 2 | F5: Phase 1 : phase voltage | G5: unsigned integer | H5: 1 | I5: mV | L5: =3 -> 3
A6: =B6+1 -> 4099 | B6: =B5+D5 -> 4098 | C6: =DEC2HEX(B6) -> 1002 | D6: 2 | F6: Phase 2 : phase voltage | G6: unsigned integer | H6: 1 | I6: mV | L6: =3 -> 3
A7: =B7+1 -> 4101 | B7: =B6+D6 -> 4100 | C7: =DEC2HEX(B7) -> 1004 | D7: 2 | F7: Phase 3 : phase voltage | G7: unsigned integer | H7: 1 | I7: mV | L7: =3 -> 3
A8: =B8+1 -> 4103 | B8: =B7+D7 -> 4102 | C8: =DEC2HEX(B8) -> 1006 | D8: 2 | F8: Phase 1 : current | G8: unsigned integer | H8: 1 | I8: mA | L8: =3 -> 3
A9: =B9+1 -> 4105 | B9: =B8+D8 -> 4104 | C9: =DEC2HEX(B9) -> 1008 | D9: 2 | F9: Phase 2 : current | G9: unsigned integer | H9: 1 | I9: mA | L9: =3 -> 3
A10: =B10+1 -> 4107 | B10: =B9+D9 -> 4106 | C10: =DEC2HEX(B10) -> 100A | D10: 2 | F10: Phase 3 : current | G10: unsigned integer | H10: 1 | I10: mA | L10: =3 -> 3
A11: =B11+1 -> 4109 | B11: =B10+D10 -> 4108 | C11: =DEC2HEX(B11) -> 100C | D11: 2 | F11: Neutral current | G11: unsigned integer | H11: 1 | I11: mA | L11: =3 -> 3
A12: =B12+1 -> 4111 | B12: =B11+D11 -> 4110 | C12: =DEC2HEX(B12) -> 100E | D12: 2 | F12: Chained voltage : L1-L2 | G12: unsigned integer | H12: 1 | I12: mV | L12: =3 -> 3
A13: =B13+1 -> 4113 | B13: =B12+D12 -> 4112 | C13: =DEC2HEX(B13) -> 1010 | D13: 2 | F13: Chained voltage : L2-L3 | G13: unsigned integer | H13: 1 | I13: mV | L13: =3 -> 3
A14: =B14+1 -> 4115 | B14: =B13+D13 -> 4114 | C14: =DEC2HEX(B14) -> 1012 | D14: 2 | F14: Chained voltage : L3-L1 | G14: unsigned integer | H14: 1 | I14: mV | L14: =3 -> 3
A15: =B15+1 -> 4117 | B15: =B14+D14 -> 4116 | C15: =DEC2HEX(B15) -> 1014 | D15: 2 | F15: 3-phase : active power | G15: unsigned integer | H15: 1, 0.01 | I15: W | K15: See Note 1 | L15: =3 -> 3
A16: =B16+1 -> 4119 | B16: =B15+D15 -> 4118 | C16: =DEC2HEX(B16) -> 1016 | D16: 2 | F16: 3-phase : reactive power | G16: unsigned integer | H16: 1, 0.01 | I16: var | K16: See Note 1 | L16: =3 -> 3
A17: =B17+1 -> 4121 | B17: =B16+D16 -> 4120 | C17: =DEC2HEX(B17) -> 1018 | D17: 2 | F17: 3-phase : apparent power | G17: unsigned integer | H17: 1, 0.01 | I17: VA | K17: See Note 1 | L17: =3 -> 3
A18: =B18+1 -> 4123 | B18: =B17+D17 -> 4122 | C18: =DEC2HEX(B18) -> 101A | D18: 1 | F18: 3-phase : sign of active power | G18: unsigned integer | H18: 1 | I18: - | J18: 0, 1 | K18: 0=positive, 1=negative | L18: =3 -> 3
A19: =B19+1 -> 4124 | B19: =B18+D18 -> 4123 | C19: =DEC2HEX(B19) -> 101B | D19: 1 | F19: 3-phase : sign of reactive power | G19: unsigned integer | H19: 1 | I19: - | J19: 0, 1 | K19: 0=positive, 1=negative | L19: =3 -> 3
A20: =B20+1 -> 4125 | B20: =B19+D19 -> 4124 | C20: =DEC2HEX(B20) -> 101C | D20: 2 | F20: 3-phase : positive active energy | G20: unsigned integer | H20: 1, 10, 100, 1.000, 10.000, 100.000 | I20: Wh | K20: See Note 2 | L20: =3 -> 3 | M20: Y
A21: =B21+1 -> 4127 | B21: =B20+D20 -> 4126 | C21: =DEC2HEX(B21) -> 101E | D21: 2 | F21: 3-phase : positive reactive energy | G21: unsigned integer | H21: 1, 10, 100, 1.000, 10.000, 100.000 | I21: varh | K21: See Note 2 | L21: =3 -> 3 | M21: Y
A22: =B22+1 -> 4129 | B22: =B21+D21 -> 4128 | C22: =DEC2HEX(B22) -> 1020 | D22: 2 | F22: 3-phase : negative active energy | G22: unsigned integer | H22: 1, 10, 100, 1.000, 10.000, 100.000 | I22: Wh | K22: See Note 2 | L22: =3 -> 3 | M22: Y
A23: =B23+1 -> 4131 | B23: =B22+D22 -> 4130 | C23: =DEC2HEX(B23) -> 1022 | D23: 2 | F23: 3-phase : negative reactive energy | G23: unsigned integer | H23: 1, 10, 100, 1.000, 10.000, 100.000 | I23: varh | K23: See Note 2 | L23: =3 -> 3 | M23: Y
A24: =B24+1 -> 4133 | B24: =B23+D23 -> 4132 | C24: =DEC2HEX(B24) -> 1024 | D24: 1 | F24: 3-phase : power factor | G24: signed integer | H24: 0.01 | I24: - | L24: =3 -> 3
A25: =B25+1 -> 4134 | B25: =B24+D24 -> 4133 | C25: =DEC2HEX(B25) -> 1025 | D25: 1 | F25: 3-phase : sector of power factor (cap or ind) | G25: unsigned integer | H25: 1 | I25: - | J25: 0, 1, 2 | K25: 0="PF=1", 1="ind" (L), 2="cap" (C) | L25: =3 -> 3
A26: =B26+1 -> 4135 | B26: =B25+D25 -> 4134 | C26: =DEC2HEX(B26) -> 1026 | D26: 1 | F26: Frequency | G26: unsigned integer | H26: 0.1 | I26: Hz | L26: =3 -> 3
A27: =B27+1 -> 4136 | B27: =B26+D26 -> 4135 | C27: =DEC2HEX(B27) -> 1027 | D27: 2 | F27: 3-phase : average power | G27: unsigned integer | H27: 1, 0.01 | I27: W | K27: See Note 1 | L27: =3 -> 3
A28: =B28+1 -> 4138 | B28: =B27+D27 -> 4137 | C28: =DEC2HEX(B28) -> 1029 | D28: 2 | F28: 3-phase : peak maximum demand | G28: unsigned integer | H28: 1, 0.01 | I28: W | K28: See Note 1 | L28: =3 -> 3 | M28: Y
A29: =B29+1 -> 4140 | B29: =B28+D28 -> 4139 | C29: =DEC2HEX(B29) -> 102B | D29: 1 | F29: Time counter for average power | G29: unsigned integer | H29: 1 | I29: min | L29: =3 -> 3
A30: =B30+1 -> 4141 | B30: =B29+D29 -> 4140 | C30: =DEC2HEX(B30) -> 102C | D30: 2 | F30: Phase 1 : active power | G30: unsigned integer | H30: 1, 0.01 | I30: W | K30: See Note 1 | L30: =3 -> 3
A31: =B31+1 -> 4143 | B31: =B30+D30 -> 4142 | C31: =DEC2HEX(B31) -> 102E | D31: 2 | F31: Phase 2 : active power | G31: unsigned integer | H31: 1, 0.01 | I31: W | K31: See Note 1 | L31: =3 -> 3
A32: =B32+1 -> 4145 | B32: =B31+D31 -> 4144 | C32: =DEC2HEX(B32) -> 1030 | D32: 2 | F32: Phase 3 : active power | G32: unsigned integer | H32: 1, 0.01 | I32: W | K32: See Note 1 | L32: =3 -> 3
A33: =B33+1 -> 4147 | B33: =B32+D32 -> 4146 | C33: =DEC2HEX(B33) -> 1032 | D33: 1 | F33: Phase 1 : sign of active power | G33: unsigned integer | I33: - | J33: 0, 1 | K33: 0=positive, 1=negative | L33: =3 -> 3
A34: =B34+1 -> 4148 | B34: =B33+D33 -> 4147 | C34: =DEC2HEX(B34) -> 1033 | D34: 1 | F34: Phase 2 : sign of active power | G34: unsigned integer | I34: - | J34: 0, 1 | K34: 0=positive, 1=negative | L34: =3 -> 3
A35: =B35+1 -> 4149 | B35: =B34+D34 -> 4148 | C35: =DEC2HEX(B35) -> 1034 | D35: 1 | F35: Phase 3 : sign of active power | G35: unsigned integer | I35: - | J35: 0, 1 | K35: 0=positive, 1=negative | L35: =3 -> 3
A36: =B36+1 -> 4150 | B36: =B35+D35 -> 4149 | C36: =DEC2HEX(B36) -> 1035 | D36: 2 | F36: Phase 1 : reactive power | G36: unsigned integer | H36: 1, 0.01 | I36: var | K36: See Note 1 | L36: =3 -> 3
A37: =B37+1 -> 4152 | B37: =B36+D36 -> 4151 | C37: =DEC2HEX(B37) -> 1037 | D37: 2 | F37: Phase 2 : reactive power | G37: unsigned integer | H37: 1, 0.01 | I37: var | K37: See Note 1 | L37: =3 -> 3
A38: =B38+1 -> 4154 | B38: =B37+D37 -> 4153 | C38: =DEC2HEX(B38) -> 1039 | D38: 2 | F38: Phase 3 : reactive power | G38: unsigned integer | H38: 1, 0.01 | I38: var | K38: See Note 1 | L38: =3 -> 3
A39: =B39+1 -> 4156 | B39: =B38+D38 -> 4155 | C39: =DEC2HEX(B39) -> 103B | D39: 1 | F39: Phase 1 : sign of reactive power | G39: unsigned integer | I39: - | J39: 0, 1 | K39: 0=positive, 1=negative | L39: =3 -> 3
A40: =B40+1 -> 4157 | B40: =B39+D39 -> 4156 | C40: =DEC2HEX(B40) -> 103C | D40: 1 | F40: Phase 2 : sign of reactive power | G40: unsigned integer | I40: - | J40: 0, 1 | K40: 0=positive, 1=negative | L40: =3 -> 3
A41: =B41+1 -> 4158 | B41: =B40+D40 -> 4157 | C41: =DEC2HEX(B41) -> 103D | D41: 1 | F41: Phase 3 : sign of reactive power | G41: unsigned integer | I41: - | J41: 0, 1 | K41: 0=positive, 1=negative | L41: =3 -> 3
A42: =B42+1 -> 4159 | B42: =B41+D41 -> 4158 | C42: =DEC2HEX(B42) -> 103E | D42: 2 | F42: Phase 1 : apparent power | G42: unsigned integer | H42: 1, 0.01 | I42: VA | K42: See Note 1 | L42: =3 -> 3
A43: =B43+1 -> 4161 | B43: =B42+D42 -> 4160 | C43: =DEC2HEX(B43) -> 1040 | D43: 2 | F43: Phase 2 : apparent power | G43: unsigned integer | H43: 1, 0.01 | I43: VA | K43: See Note 1 | L43: =3 -> 3
A44: =B44+1 -> 4163 | B44: =B43+D43 -> 4162 | C44: =DEC2HEX(B44) -> 1042 | D44: 2 | F44: Phase 3 : apparent power | G44: unsigned integer | H44: 1, 0.01 | I44: VA | K44: See Note 1 | L44: =3 -> 3
A45: =B45+1 -> 4165 | B45: =B44+D44 -> 4164 | C45: =DEC2HEX(B45) -> 1044 | D45: 1 | F45: Phase 1 : power factor | G45: signed integer | H45: 0.01 | I45: - | L45: =3 -> 3
A46: =B46+1 -> 4166 | B46: =B45+D45 -> 4165 | C46: =DEC2HEX(B46) -> 1045 | D46: 1 | F46: Phase 2 : power factor | G46: signed integer | H46: 0.01 | I46: - | L46: =3 -> 3
A47: =B47+1 -> 4167 | B47: =B46+D46 -> 4166 | C47: =DEC2HEX(B47) -> 1046 | D47: 1 | F47: Phase 3 : power factor | G47: signed integer | H47: 0.01 | I47: - | L47: =3 -> 3
A48: =B48+1 -> 4168 | B48: =B47+D47 -> 4167 | C48: =DEC2HEX(B48) -> 1047 | D48: 1 | F48: Phase 1 : sector of power factor (cap or ind) | G48: unsigned integer | H48: 1 | I48: - | J48: 0, 1, 2 | K48: 0="PF=1", 1="ind" (L), 2="cap" (C) | L48: =3 -> 3
A49: =B49+1 -> 4169 | B49: =B48+D48 -> 4168 | C49: =DEC2HEX(B49) -> 1048 | D49: 1 | F49: Phase 2 : sector of power factor (cap or ind) | G49: unsigned integer | H49: 1 | I49: - | J49: 0, 1, 2 | K49: 0="PF=1", 1="ind" (L), 2="cap" (C) | L49: =3 -> 3
A50: =B50+1 -> 4170 | B50: =B49+D49 -> 4169 | C50: =DEC2HEX(B50) -> 1049 | D50: 1 | F50: Phase 3 : sector of power factor (cap or ind) | G50: unsigned integer | H50: 1 | I50: - | J50: 0, 1, 2 | K50: 0="PF=1", 1="ind" (L), 2="cap" (C) | L50: =3 -> 3
A51: =B51+1 -> 4171 | B51: =B50+D50 -> 4170 | C51: =DEC2HEX(B51) -> 104A | D51: 1 | F51: Phase 1 : THD V1 | G51: unsigned integer | H51: 0.1 | I51: % | K51: See Note 4 | L51: =3 -> 3
A52: =B52+1 -> 4172 | B52: =B51+D51 -> 4171 | C52: =DEC2HEX(B52) -> 104B | D52: 1 | F52: Phase 2 : THD V2 | G52: unsigned integer | H52: 0.1 | I52: % | K52: See Note 4 | L52: =3 -> 3
A53: =B53+1 -> 4173 | B53: =B52+D52 -> 4172 | C53: =DEC2HEX(B53) -> 104C | D53: 1 | F53: Phase 3 : THD V3 | G53: unsigned integer | H53: 0.1 | I53: % | K53: See Note 4 | L53: =3 -> 3
A54: =B54+1 -> 4174 | B54: =B53+D53 -> 4173 | C54: =DEC2HEX(B54) -> 104D | D54: 1 | F54: Phase 1 : THD I1 | G54: unsigned integer | H54: 0.1 | I54: % | L54: =3 -> 3
A55: =B55+1 -> 4175 | B55: =B54+D54 -> 4174 | C55: =DEC2HEX(B55) -> 104E | D55: 1 | F55: Phase 2 : THD I2 | G55: unsigned integer | H55: 0.1 | I55: % | L55: =3 -> 3
A56: =B56+1 -> 4176 | B56: =B55+D55 -> 4175 | C56: =DEC2HEX(B56) -> 104F | D56: 1 | F56: Phase 3 : THD I3 | G56: unsigned integer | H56: 0.1 | I56: % | L56: =3 -> 3
A57: =B57+1 -> 4177 | B57: =B56+D56 -> 4176 | C57: =DEC2HEX(B57) -> 1050 | D57: 2 | F57: Phase 1 : I1 average | G57: unsigned integer | H57: 1 | I57: mA | L57: =3 -> 3
A58: =B58+1 -> 4179 | B58: =B57+D57 -> 4178 | C58: =DEC2HEX(B58) -> 1052 | D58: 2 | F58: Phase 2 : I2 average | G58: unsigned integer | H58: 1 | I58: mA | L58: =3 -> 3
A59: =B59+1 -> 4181 | B59: =B58+D58 -> 4180 | C59: =DEC2HEX(B59) -> 1054 | D59: 2 | F59: Phase 3 : I3 average | G59: unsigned integer | H59: 1 | I59: mA | L59: =3 -> 3
A60: =B60+1 -> 4183 | B60: =B59+D59 -> 4182 | C60: =DEC2HEX(B60) -> 1056 | D60: 2 | F60: Phase 1 : I1 peak Max. | G60: unsigned integer | H60: 1 | I60: mA | L60: =3 -> 3
A61: =B61+1 -> 4185 | B61: =B60+D60 -> 4184 | C61: =DEC2HEX(B61) -> 1058 | D61: 2 | F61: Phase 2 : I2 peak Max. | G61: unsigned integer | H61: 1 | I61: mA | L61: =3 -> 3
A62: =B62+1 -> 4187 | B62: =B61+D61 -> 4186 | C62: =DEC2HEX(B62) -> 105A | D62: 2 | F62: Phase 3 : I3 peak Max. | G62: unsigned integer | H62: 1 | I62: mA | L62: =3 -> 3
A63: =B63+1 -> 4189 | B63: =B62+D62 -> 4188 | C63: =DEC2HEX(B63) -> 105C | D63: 2 | F63: 3-phase : I average | G63: unsigned integer | H63: 1 | I63: mA | K63: (I1+I2+I3)/3 | L63: =3 -> 3
A64: =B64+1 -> 4191 | B64: =B63+D63 -> 4190 | C64: =DEC2HEX(B64) -> 105E | D64: 2 | F64: Phase 1 : V1 min. | G64: unsigned integer | H64: 1 | I64: mV | K64: See Note 4 | L64: =3 -> 3
A65: =B65+1 -> 4193 | B65: =B64+D64 -> 4192 | C65: =DEC2HEX(B65) -> 1060 | D65: 2 | F65: Phase 2 : V2 min. | G65: unsigned integer | H65: 1 | I65: mV | K65: See Note 4 | L65: =3 -> 3
A66: =B66+1 -> 4195 | B66: =B65+D65 -> 4194 | C66: =DEC2HEX(B66) -> 1062 | D66: 2 | F66: Phase 3 : V3 min. | G66: unsigned integer | H66: 1 | I66: mV | K66: See Note 4 | L66: =3 -> 3
A67: =B67+1 -> 4197 | B67: =B66+D66 -> 4196 | C67: =DEC2HEX(B67) -> 1064 | D67: 2 | F67: Phase 1 : V1 Max. | G67: unsigned integer | H67: 1 | I67: mV | K67: See Note 4 | L67: =3 -> 3
A68: =B68+1 -> 4199 | B68: =B67+D67 -> 4198 | C68: =DEC2HEX(B68) -> 1066 | D68: 2 | F68: Phase 2 : V2 Max. | G68: unsigned integer | H68: 1 | I68: mV | K68: See Note 4 | L68: =3 -> 3
A69: =B69+1 -> 4201 | B69: =B68+D68 -> 4200 | C69: =DEC2HEX(B69) -> 1068 | D69: 2 | F69: Phase 3 : V3 Max. | G69: unsigned integer | H69: 1 | I69: mV | K69: See Note 4 | L69: =3 -> 3
A70: =B70+1 -> 4203 | B70: =B69+D69 -> 4202 | C70: =DEC2HEX(B70) -> 106A | D70: 2 | F70: 3-phase : partial active energy | G70: unsigned integer | H70: 1, 10, 100, 1000, 10.000, 100.000 | I70: Wh | K70: See Note 2 | L70: =3 -> 3
A71: =B71+1 -> 4205 | B71: =B70+D70 -> 4204 | C71: =DEC2HEX(B71) -> 106C | D71: 2 | F71: 3-phase : partial reactive energy | G71: unsigned integer | H71: 1, 10, 100, 1000, 10.000, 100.000 | I71: varh | K71: See Note 2 | L71: =3 -> 3
A72: =B72+1 -> 4207 | B72: =B71+D71 -> 4206 | C72: =DEC2HEX(B72) -> 106E | D72: 1 | F72: Operating timer counter | G72: unsigned integer | H72: 1 | I72: h | L72: =3 -> 3
A73: =B73+1 -> 4208 | B73: =B72+D72 -> 4207 | C73: =DEC2HEX(B73) -> 106F | D73: 1 | F73: Alarm status | G73: unsigned integer | H73: - | I73: - | J73: 0, 1 | K73: 0: No active Alarm, 1: Alarm active | L73: =3 -> 3
A74: =B74+1 -> 4209 | B74: =B73+D73 -> 4208 | C74: =DEC2HEX(B74) -> 1070 | D74: 2 | F74: 3-phase : average active power | G74: unsigned integer | H74: 1, 0.01 | I74: W | K74: See Note 1 | L74: =3 -> 3
A75: =B75+1 -> 4211 | B75: =B74+D74 -> 4210 | C75: =DEC2HEX(B75) -> 1072 | D75: 2 | F75: 3-phase : average reactive power | G75: unsigned integer | H75: 1, 0.01 | I75: var | K75: See Note 1 | L75: =3 -> 3
A76: =B76+1 -> 4213 | B76: =B75+D75 -> 4212 | C76: =DEC2HEX(B76) -> 1074 | D76: 2 | F76: 3-phase : average apparent power | G76: unsigned integer | H76: 1, 0.01 | I76: VA | K76: See Note 1 | L76: =3 -> 3
A77: =B77+1 -> 4215 | B77: =B76+D76 -> 4214 | C77: =DEC2HEX(B77) -> 1076 | D77: 2 | F77: 3-phase : active PMD power | G77: unsigned integer | H77: 1, 0.01 | I77: W | K77: See Note 1 | L77: =3 -> 3
A78: =B78+1 -> 4217 | B78: =B77+D77 -> 4216 | C78: =DEC2HEX(B78) -> 1078 | D78: 2 | F78: 3-phase : reactive PMD power | G78: unsigned integer | H78: 1, 0.01 | I78: var | K78: See Note 1 | L78: =3 -> 3
A79: =B79+1 -> 4219 | B79: =B78+D78 -> 4218 | C79: =DEC2HEX(B79) -> 107A | D79: 2 | F79: 3-phase : apparent PMD power | G79: unsigned integer | H79: 1, 0.01 | I79: VA | K79: See Note 1 | L79: =3 -> 3
A80: =B80+1 -> 4609 | B80: =GENERAL!A6 -> 4608 | C80: =GENERAL!B6 -> 1200 | D80: =SUM(D81:D86) -> 7 | F80: =GENERAL!E6 -> Settings
A81: =B81+1 -> 4609 | B81: 4608 | C81: =DEC2HEX(B81) -> 1200 | D81: 1 | F81: Current transformer ratio (CT) | G81: unsigned integer | H81: 1 | I81: - | L81: =3 -> 3
A82: =B82+1 -> 4610 | B82: =B81+D81 -> 4609 | C82: =DEC2HEX(B82) -> 1201 | D82: 1 | F82: Voltage transformer ratio (VT) | G82: unsigned integer | H82: 0.01 | I82: - | L82: =3 -> 3
A83: =B83+1 -> 4611 | B83: =B82+D82 -> 4610 | C83: =DEC2HEX(B83) -> 1202 | D83: 2 | F83: RESERVED (returns 0000 0000h) | L83: 3
A84: =B84+1 -> 4613 | B84: =B83+D83 -> 4612 | C84: =DEC2HEX(B84) -> 1204 | D84: 1 | F84: RESERVED (returns 1007h) | L84: =3 -> 3
A85: =B85+1 -> 4614 | B85: =B84+D84 -> 4613 | C85: =DEC2HEX(B85) -> 1205 | D85: 1 | F85: RESERVED (returns 0000h) | L85: 3
A86: =B86+1 -> 4615 | B86: =B85+D85 -> 4614 | C86: =DEC2HEX(B86) -> 1206 | D86: 1 | F86: Digital Inputs Status | G86: - | H86: 1 | I86: - | K86: See Note 3 | L86: =3 -> 3
A87: =B87+1 -> 4689 | B87: =GENERAL!A7 -> 4688 | C87: =GENERAL!B7 -> 1250 | D87: =SUM(D88:D95) -> 16 | F87: =GENERAL!E7 -> Energies
A88: =B88+1 -> 4689 | B88: 4688 | C88: =DEC2HEX(B88) -> 1250 | D88: 2 | F88: 3-phase : Positive total active energy | G88: unsigned integer | H88: 1, 10, 100, 1000, 10.000, 100.000 | I88: Wh | K88: See Note 2 | L88: =3 -> 3
A89: =B89+1 -> 4691 | B89: =B88+D88 -> 4690 | C89: =DEC2HEX(B89) -> 1252 | D89: 2 | F89: 3-phase : Positive total reactive energy | G89: unsigned integer | H89: 1, 10, 100, 1000, 10.000, 100.000 | I89: varh | K89: See Note 2 | L89: =3 -> 3
A90: =B90+1 -> 4693 | B90: =B89+D89 -> 4692 | C90: =DEC2HEX(B90) -> 1254 | D90: 2 | F90: 3-phase : Negative total active energy | G90: unsigned integer | H90: 1, 10, 100, 1000, 10.000, 100.000 | I90: Wh | K90: See Note 2 | L90: =3 -> 3
A91: =B91+1 -> 4695 | B91: =B90+D90 -> 4694 | C91: =DEC2HEX(B91) -> 1256 | D91: 2 | F91: 3-phase : Negative total reactive energy | G91: unsigned integer | H91: 1, 10, 100, 1000, 10.000, 100.000 | I91: varh | K91: See Note 2 | L91: =3 -> 3
A92: =B92+1 -> 4697 | B92: =B91+D91 -> 4696 | C92: =DEC2HEX(B92) -> 1258 | D92: 2 | F92: 3-phase Positive partial active energy or tariff 1 active energy (if option tariffs) | G92: unsigned integer | H92: 1, 10, 100, 1000, 10.000, 100.000 | I92: Wh | K92: See Note 2 | L92: =3 -> 3
A93: =B93+1 -> 4699 | B93: =B92+D92 -> 4698 | C93: =DEC2HEX(B93) -> 125A | D93: 2 | F93: 3-phase Negative partial active energy or tariff 2 active energy (if option tariffs) | G93: unsigned integer | H93: 1, 10, 100, 1000, 10.000, 100.000 | I93: Wh | K93: See Note 2 | L93: =3 -> 3
A94: =B94+1 -> 4701 | B94: =B93+D93 -> 4700 | C94: =DEC2HEX(B94) -> 125C | D94: 2 | F94: 3-phase Positive partial reactive energy or tariff 3 active energy (if option tariffs) | G94: unsigned integer | H94: 1, 10, 100, 1000, 10.000, 100.000 | I94: Wh | K94: See Note 2 | L94: =3 -> 3
A95: =B95+1 -> 4703 | B95: =B94+D94 -> 4702 | C95: =DEC2HEX(B95) -> 125E | D95: 2 | F95: 3-phase Negative partial reactive energy or tariff 4 active energy (if option tariffs) | G95: unsigned integer | H95: 1, 10, 100, 1000, 10.000, 100.000 | I95: varh | K95: See Note 2 | L95: =3 -> 3
A96: =B96+1 -> 4865 | B96: =GENERAL!A8 -> 4864 | C96: =GENERAL!B8 -> 1300 | D96: =SUM(D97:D111) -> 30 | F96: =GENERAL!E8 -> Average Measured values
A97: =B97+1 -> 4865 | B97: 4864 | C97: 1300 | D97: 2 | F97: 3-phase : active average power | G97: unsigned integer | H97: 1, 0.01 | I97: W | K97: See Note 1 | L97: =3 -> 3
A98: =B98+1 -> 4867 | B98: =B97+D97 -> 4866 | C98: =DEC2HEX(B98) -> 1302 | D98: 2 | F98: 3-phase : reactive average power | G98: unsigned integer | H98: 1, 0.01 | I98: var | K98: See Note 1 | L98: =3 -> 3
A99: =B99+1 -> 4869 | B99: =B98+D98 -> 4868 | C99: =DEC2HEX(B99) -> 1304 | D99: 2 | F99: 3-phase : apparent average power | G99: unsigned integer | H99: 1, 0.01 | I99: VA | K99: See Note 1 | L99: =3 -> 3
A100: =B100+1 -> 4871 | B100: =B99+D99 -> 4870 | C100: =DEC2HEX(B100) -> 1306 | D100: 2 | F100: 3-phase : active average power tarifs 1 | G100: unsigned integer | H100: 1, 0.01 | I100: W | K100: See Note 1 | L100: =3 -> 3
...

Sheet HOLDING REGISTERS - Words (R&W)
A1: Register Number | B1: Register Address (Dec) | C1: Register Address (Hex) | D1: Dimension [word] | E1: Bit Position | F1: Description | G1: Type | H1: Scale | I1: Unit | J1: Range | K1: Note | L1: Read Function Codes (Dec) | M1: Write Function Codes (Hex) | N1: Data Storing (2)
A2: =B2+1 -> 257 | B2: =HEX2DEC(C2) -> 256 | C2: 100 | D2: =SUM(D3:D4) -> 2 | F2: Current & Voltage Transf. Ratio
A3: =B3+1 -> 257 | B3: 256 | C3: 100 | D3: 1 | F3: Write Current transformer ratio - CT | G3: unsigned integer | H3: 1 | I3: - | J3: 1 ÷ 9999 | K3: CT = I prim / I sec ex: 500 A / 5 A ® CT = 100 | L3: 3 | M3: 10
A4: =B4+1 -> 259 | B4: 258 | C4: 102 | D4: 1 | F4: Write Voltage transformer ratio - VT | G4: unsigned integer | H4: 0.01 | I4: - | J4: 100 ÷ 1000 | K4: VT = V prim / V sec ex: 600 V /100 V VT = 6.00 ® WRITE 600 --- If tranformer not present VT = 1.00 ® WRITE 100 | L4: 3 | M4: 10
A5: =B5+1 -> 260 | B5: 259 | C5: =DEC2HEX(B5) -> 103 | D5: 1 | F5: Energy mode accumulation | G5: unsigned integer | H5: - | I5: - | J5: 0, 1, 2, 3 | K5: 0: Asyn 1: Syn 2: Tariff 3: Pulse Counting | L5: =3 -> 3 | M5: 10
A6: =B6+1 -> 4208 | B6: =GENERAL!A5 -> 4207 | C6: =GENERAL!B5 -> 106F | D6: =SUM(D7:D22) -> 31 | F6: =GENERAL!E5 -> Output Remote Command
A7: =B7+1 -> 4208 | B7: 4207 | C7: 106F | D7: 1 | F7: Output Remote Command | G7: unsigned integer | H7: - | I7: - | J7: 0, 1, | K7: 0: Deactivate 1: Activate | L7: - | M7: 10
A8: =B8+1 -> 8193 | B8: =GENERAL!A14 -> 8192 | C8: =GENERAL!B14 -> 2000 | D8: =SUM(D9:D24) -> 16 | F8: =GENERAL!E14 -> Standard Setup parameters (write 16 byte at once)
A9: =B9+1 -> 8193 | B9: 8192 | C9: 2000 | D9: 1 | F9: RESERVED (returns 0000h)
A10: =B10+1 -> 8194 | B10: =B9+D9 -> 8193 | C10: =DEC2HEX(B10) -> 2001 | D10: 1 | F10: RESERVED (returns 0000h)
A11: =B11+1 -> 8195 | B11: =B10+D10 -> 8194 | C11: =DEC2HEX(B11) -> 2002 | D11: 1 | F11: RESERVED (returns 0000h)
A12: =B12+1 -> 8196 | B12: =B11+D11 -> 8195 | C12: =DEC2HEX(B12) -> 2003 | D12: 1 | F12: RESERVED (returns 0000h)
A13: =B13+1 -> 8197 | B13: =B12+D12 -> 8196 | C13: =DEC2HEX(B13) -> 2004 | D13: 1 | F13: Percentage of rated 3phase active power run hour meter | G13: unsigned integer | H13: 0.01 | I13: % | J13: 50 ÷ 5000 | K13: 50 ÷ 5000 means (0.5% ÷ 50.00%) | L13: 3 | M13: 10
A14: =B14+1 -> 8198 | B14: =B13+D13 -> 8197 | C14: =DEC2HEX(B14) -> 2005 | D14: 1 | F14: Run hour meter active on | G14: unsigned integer | H14: - | I14: - | J14: 0, 1 | K14: 0: Voltages, 1 Power | L14: 3 | M14: 10
A15: =B15+1 -> 8199 | B15: =B14+D14 -> 8198 | C15: =DEC2HEX(B15) -> 2006 | D15: 1 | F15: RESERVED (returns 0000h)
A16: =B16+1 -> 8200 | B16: =B15+D15 -> 8199 | C16: =DEC2HEX(B16) -> 2007 | D16: 1 | F16: RESERVED (returns 0000h)
A17: =B17+1 -> 8201 | B17: =B16+D16 -> 8200 | C17: =DEC2HEX(B17) -> 2008 | D17: 1 | F17: Backlight intensity | G17: unsigned integer | H17: - | I17: - | J17: 0, 1, 2, 3 | K17: 0: 0% 1: 35% 2: 70% 3: 100% | L17: 3 | M17: 10
A18: =B18+1 -> 8202 | B18: =B17+D17 -> 8201 | C18: =DEC2HEX(B18) -> 2009 | D18: 1 | F18: RESERVED (returns 0000h)
A19: =B19+1 -> 8203 | B19: =B18+D18 -> 8202 | C19: =DEC2HEX(B19) -> 200A | D19: 1 | F19: Power Averaging time | G19: unsigned integer | H19: - | I19: - | J19: 0, 1, 2, 3, 4, 5, 6 | K19: 0: 5min 1: 8min 2: 10min 3: 15min 4: 20min 5: 30min 6: 60min | L19: 3 | M19: 10
A20: =B20+1 -> 8204 | B20: =B19+D19 -> 8203 | C20: =DEC2HEX(B20) -> 200B | D20: 1 | F20: Insertion type | G20: unsigned integer | H20: - | I20: - | J20: 0, 1, 2, 3, 4, 5 | K20: 0: 3N-3E 1: 3-3E 2: 3-2E 3: 1N-1E 4: 3N-1E 5: 3-1E | L20: 3 | M20: 10
A21: =B21+1 -> 8205 | B21: =B20+D20 -> 8204 | C21: =DEC2HEX(B21) -> 200C | D21: 1 | F21: Measure on line 1 of custom page | G21: unsigned integer | H21: - | I21: - | J21: 0 ÷ 10 | K21: 0:V1 1:V12 2:I1 3:In 4:P 5:Q 6:S 7:P1 8:Q1 9:S1 10:PF 3-phase | L21: 3 | M21: 10
A22: =B22+1 -> 8206 | B22: =B21+D21 -> 8205 | C22: =DEC2HEX(B22) -> 200D | D22: 1 | F22: Measure on line 2 of custom page | G22: unsigned integer | H22: - | I22: - | J22: 0 ÷ 10 | K22: 0:V2 1:V23 2:I2 3:P 4:Q 5:S 6:P2 7:Q2 8:S2 9:Freq 10:I1 | L22: 3 | M22: 10
A23: =B23+1 -> 8207 | B23: =B22+D22 -> 8206 | C23: =DEC2HEX(B23) -> 200E | D23: 1 | F23: Measure on line 3 of custom page | G23: unsigned integer | H23: - | I23: - | J23: 0 ÷ 10 | K23: 0:V3 1:V31 2:I3 3:P 4:Q 5:S 6:P3 7:Q3 8:S3 9:P1 10:I1 | L23: 3 | M23: 10
A24: =B24+1 -> 8208 | B24: =B23+D23 -> 8207 | C24: =DEC2HEX(B24) -> 200F | D24: 1 | F24: RESERVED (returns 0000h)
A25: =B25+1 -> 8705 | B25: =GENERAL!A15 -> 8704 | C25: =GENERAL!B15 -> 2200 | D25: =SUM(D26:D49) -> 24 | F25: =GENERAL!E15 -> Output option Setup parameters (write 24 byte at once)
A26: =B26+1 -> 8705 | B26: 8704 | C26: 2200 | D26: 1 | E26: W0 | F26: RESERVED (returns 0000h)
A27: =B27+1 -> 8706 | B27: =B26+D26 -> 8705 | C27: =DEC2HEX(B27) -> 2201 | D27: 1 | E27: W1 | F27: RESERVED (returns 0000h)
A28: =B28+1 -> 8707 | B28: =B27+D27 -> 8706 | C28: =DEC2HEX(B28) -> 2202 | D28: 1 | E28: W2 | F28: RESERVED (returns 0000h)
A29: =B29+1 -> 8708 | B29: =B28+D28 -> 8707 | C29: =DEC2HEX(B29) -> 2203 | D29: 1 | E29: W3 | F29: RESERVED (returns 0000h)
A30: =B30+1 -> 8709 | B30: =B29+D29 -> 8708 | C30: =DEC2HEX(B30) -> 2204 | D30: 1 | E30: W4 | F30: RESERVED (returns 0000h)
A31: =B31+1 -> 8710 | B31: =B30+D30 -> 8709 | C31: =DEC2HEX(B31) -> 2205 | D31: 1 | E31: W5 | F31: RESERVED (returns 0000h)
A32: =B32+1 -> 8711 | B32: =B31+D31 -> 8710 | C32: =DEC2HEX(B32) -> 2206 | D32: 1 | E32: W6 | F32: RESERVED (returns 0000h)
A33: =B33+1 -> 8712 | B33: =B32+D32 -> 8711 | C33: =DEC2HEX(B33) -> 2207 | D33: 1 | E33: W7 | F33: RESERVED (returns 0000h)
A34: =B34+1 -> 8713 | B34: =B33+D33 -> 8712 | C34: =DEC2HEX(B34) -> 2208 | D34: 1 | E34: W8 | F34: RESERVED (returns 0000h)
A35: =B35+1 -> 8714 | B35: =B34+D34 -> 8713 | C35: =DEC2HEX(B35) -> 2209 | D35: 1 | E35: W9 | F35: RESERVED (returns 0000h)
A36: =B36+1 -> 8715 | B36: =B35+D35 -> 8714 | C36: =DEC2HEX(B36) -> 220A | D36: 1 | E36: W10 | F36: Output type | G36: unsigned integer | H36: - | I36: - | J36: 0, 1, 2, 3 | K36: 0: Pulse out 1: Alarm out 2: Dual stable Remote command 3: Timed Remote command | L36: 3 | M36: 10
A37: =B37+1 -> 8716 | B37: =B36+D36 -> 8715 | C37: =DEC2HEX(B37) -> 220B | D37: 1 | E37: W11 | F37: Pulse duration | G37: unsigned integer | H37: - | I37: - | J37: 0, 1, 2, 3, 4, 5 | K37: 0: 50 ms 1: 100 ms 2: 200 ms 3: 300 ms 4: 400 ms 5: 500ms | L37: 3 | M37: 10
A38: =B38+1 -> 8717 | B38: =B37+D37 -> 8716 | C38: =DEC2HEX(B38) -> 220C | D38: 1 | E38: W12 | F38: Pulse weight | G38: unsigned integer | H38: - | I38: - | J38: 0, 1, 2, 3, 4, 5, 6 | K38: 0: 0.01 kWh 1: 0.10 kWh 2: 1.00 kWh 3: 10.0 kWh 4: 0.10 MWh 5: 1.00 MWh 6: 10.0 MWh | L38: 3 | M38: 10
A39: =B39+1 -> 8718 | B39: =B38+D38 -> 8717 | C39: =DEC2HEX(B39) -> 220D | D39: 1 | E39: W13 | F39: Pulse active on | G39: unsigned integer | H39: - | I39: - | J39: 0, 1 | K39: 0: Active Energy 1: Reactive Energy | L39: 3 | M39: 10
A40: =B40+1 -> 8719 | B40: =B39+D39 -> 8718 | C40: =DEC2HEX(B40) -> 220E | D40: 1 | E40: W14 | F40: Alarm deactivation delay or Relay closing time (if Output type = Timed Remote command) | G40: unsigned integer | H40: 1 | I40: s | J40: 0 ÷ 99 | K40: - | L40: 3 | M40: 10
A41: =B41+1 -> 8720 | B41: =B40+D40 -> 8719 | C41: =DEC2HEX(B41) -> 220F | D41: 1 | E41: W15 | F41: Alarm activation delay | G41: unsigned integer | H41: 1 | I41: s | J41: 0 ÷ 99 | K41: - | L41: 3 | M41: 10
A42: =B42+1 -> 8721 | B42: =B41+D41 -> 8720 | C42: =DEC2HEX(B42) -> 2210 | D42: 1 | E42: W16 | F42: Hysteresis | G42: unsigned integer | H42: 1 | I42: % | J42: 0 ÷ 20 | K42: - | L42: 3 | M42: 10
A43: =B43+1 -> 8722 | B43: =B42+D42 -> 8721 | C43: =DEC2HEX(B43) -> 2211 | D43: 1 | E43: W17 | F43: Relay (NO/NC) | G43: unsigned integer | H43: - | I43: - | J43: 0, 1 | K43: 0: NO 1: NC | L43: 3 | M43: 10
A44: =B44+1 -> 8723 | B44: =B43+D43 -> 8722 | C44: =DEC2HEX(B44) -> 2212 | D44: 1 | E44: W18 | F44: Alarm on Min Value or Max Value | G44: unsigned integer | H44: - | I44: - | J44: 0, 1 | K44: 0: Min 1: Max | L44: 3 | M44: 10
A45: =B45+1 -> 8724 | B45: =B44+D44 -> 8723 | C45: =DEC2HEX(B45) -> 2213 | D45: 1 | E45: W19 | F45: Alarm setpoint | G45: unsigned integer | H45: - | I45: - | J45: 0 ÷ 9999 | K45: - | L45: 3 | M45: 10
A46: =B46+1 -> 8725 | B46: =B45+D45 -> 8724 | C46: =DEC2HEX(B46) -> 2214 | D46: 1 | E46: W20 | F46: RESERVED (returns 0000h)
A47: =B47+1 -> 8726 | B47: =B46+D46 -> 8725 | C47: =DEC2HEX(B47) -> 2215 | D47: 1 | E47: W21 | F47: Unit of setpoint | G47: unsigned integer | H47: - | I47: - | J47: 0, 1, 2, 3, 4, 5, 6, 7, 8 | K47: 0: X.XXX 1: XX.XX 2: XXX.X 3: X.XXX k 4: XX.XX k 5: XXX.X k 6: X.XXX M 7: XX.XX M 8: XXX.X M | L47: 3 | M47: 10
A48: =B48+1 -> 8727 | B48: =B47+D47 -> 8726 | C48: =DEC2HEX(B48) -> 2216 | D48: 1 | E48: W22 | F48: Sign of Alarm setpoint (Only for Energies) | G48: unsigned integer | H48: - | I48: - | J48: 0, 1 | K48: 0: "+" 1: "-" | L48: 3 | M48: 10
A49: =B49+1 -> 8728 | B49: =B48+D48 -> 8727 | C49: =DEC2HEX(B49) -> 2217 | D49: 1 | E49: W23 | F49: Type of measure | G49: unsigned integer | K49: 0:V1 1:V2 2:V3 3:V12 4:V23 5:V31 6:I1 7:I2 8:I3 9:Freq 10:Active Power 11:Reactive Power | L49: 3 | M49: 10
A50: =B50+1 -> 9217 | B50: =HEX2DEC(C50) -> 9216 | C50: 2400 | D50: =SUM(D51:D51) -> 1 | F50: Reset parameters
A51: =B51+1 -> 9217 | B51: =HEX2DEC(C51) -> 9216 | C51: 2400 | D51: 1 | F51: Reset Hour Meter, Maximum Powers, Maximum Voltages, Maximum Currents, Minimum Voltages, Active Partial Energy, Reactive Partial Energy | G51: unsigned integer | H51: - | I51: - | J51: - | K51: See Note 1
A52: =B52+1 -> 9729 | B52: =HEX2DEC(C52) -> 9728 | C52: 2600 | D52: =SUM(D53:D53) -> 1 | F52: Saving parameters
A53: =B53+1 -> 9729 | B53: =HEX2DEC(C53) -> 9728 | C53: 2600 | D53: 1 | F53: Saving in EEPROM parameters changed by Remote commands | G53: unsigned integer | H53: - | I53: - | J53: - | K53: See Note 2 | L53: 3 | M53: 10
A54: =B54+1 -> 9985 | B54: =HEX2DEC(C54) -> 9984 | C54: 2700 | D54: =SUM(D55:D55) -> 1 | F54: Enable writing
A55: =B55+1 -> 9985 | B55: =HEX2DEC(C55) -> 9984 | C55: 2700 | D55: 1 | F55: Enable Remote Writing Operation | G55: unsigned integer | H55: - | I55: - | J55: - | K55: See Note 2 & Note 3 | L55: 3 | M55: 10
A56: =B56+1 -> 10241 | B56: =HEX2DEC(C56) -> 10240 | C56: 2800 | D56: =SUM(D57:D57) -> 1 | F56: Restore default parameters
A57: =B57+1 -> 10241 | B57: =HEX2DEC(C57) -> 10240 | C57: 2800 | D57: 1 | F57: Restore default parameters | G57: unsigned integer | H57: - | I57: - | J57: - | K57: See Note 3 | L57: 3 | M57: 10
B59: Note 1 - Reset parameters
B60: To reset desired measurements write the following word (in binary): 0|0|0|0|0|0|0|0|b8|b7|b6|b5|b4|b3|b2|b1|b0 b0 = 1 => Reset Hour Meter b1 = 1 => Reset Peak Maximum Demand b2 = 1 => Reset Maximum Voltage values b3 = 1 => Reset Maximum Current values b4 = 1 => Reset Minimum Voltage values b5 = 1 => Reset Active Partial Energy b6 = 1 => Reset Reactive Partial Energy b7 = 1 => Reset Counter Input 1 ( Sw > 1.02 ) b8 = 1 => Reset Counter Input 2 ( Sw > 1.02 ) b9 ÷ b15 = 0
B61: Note 2 - Configuration Procedure
B62: 1) "Master Unlock Key” command (write the value = 0x5AA5 in the register 0x2700)
B64: 2) Write the new Configuration (one or more registers...)
B66: 3) "Master Unlock Key” command (write the value = 0x5AA5 in the register 0x2700)
B68: 4) Save/Confirm the new Configuration (writing the value 0x000A in the register 0x2600)
B70: 5) The new Configuration is now available
B72: Note 3 - Restore default parameters
B73: 1) "Master Unlock Key” command (write the value = 0x5AA5 in the register 0x2700)
B75: 3) Return to the Default configuration (writing the value 0x000B in the register 0x2800)
B77: 4) The Default configuration has been restored
